BEGIN:VCALENDAR
VERSION:2.0
PRODID:-//jEvents 2.0 for Joomla//EN
CALSCALE:GREGORIAN
METHOD:PUBLISH
BEGIN:VTIMEZONE
TZID:America/Chicago
BEGIN:STANDARD
DTSTART:20111106T010000
RDATE:20120311T030000
TZOFFSETFROM:-0500
TZOFFSETTO:-0600
TZNAME:America/Chicago CST
END:STANDARD
BEGIN:STANDARD
DTSTART:20121104T010000
RDATE:20130310T030000
TZOFFSETFROM:-0500
TZOFFSETTO:-0600
TZNAME:America/Chicago CST
END:STANDARD
BEGIN:STANDARD
DTSTART:20131103T010000
RDATE:20140309T030000
TZOFFSETFROM:-0500
TZOFFSETTO:-0600
TZNAME:America/Chicago CST
END:STANDARD
BEGIN:STANDARD
DTSTART:20141102T010000
RDATE:20150308T030000
TZOFFSETFROM:-0500
TZOFFSETTO:-0600
TZNAME:America/Chicago CST
END:STANDARD
BEGIN:STANDARD
DTSTART:20151101T010000
RDATE:20160313T030000
TZOFFSETFROM:-0500
TZOFFSETTO:-0600
TZNAME:America/Chicago CST
END:STANDARD
BEGIN:STANDARD
DTSTART:20161106T010000
RDATE:20170312T030000
TZOFFSETFROM:-0500
TZOFFSETTO:-0600
TZNAME:America/Chicago CST
END:STANDARD
BEGIN:STANDARD
DTSTART:20171105T010000
RDATE:20180311T030000
TZOFFSETFROM:-0500
TZOFFSETTO:-0600
TZNAME:America/Chicago CST
END:STANDARD
BEGIN:STANDARD
DTSTART:20181104T010000
RDATE:20190310T030000
TZOFFSETFROM:-0500
TZOFFSETTO:-0600
TZNAME:America/Chicago CST
END:STANDARD
BEGIN:STANDARD
DTSTART:20191103T010000
RDATE:20200308T030000
TZOFFSETFROM:-0500
TZOFFSETTO:-0600
TZNAME:America/Chicago CST
END:STANDARD
BEGIN:STANDARD
DTSTART:20201101T010000
RDATE:20210314T030000
TZOFFSETFROM:-0500
TZOFFSETTO:-0600
TZNAME:America/Chicago CST
END:STANDARD
BEGIN:STANDARD
DTSTART:20211107T010000
RDATE:20220313T030000
TZOFFSETFROM:-0500
TZOFFSETTO:-0600
TZNAME:America/Chicago CST
END:STANDARD
BEGIN:STANDARD
DTSTART:20221106T010000
RDATE:20230312T030000
TZOFFSETFROM:-0500
TZOFFSETTO:-0600
TZNAME:America/Chicago CST
END:STANDARD
BEGIN:STANDARD
DTSTART:20231105T010000
RDATE:20240310T030000
TZOFFSETFROM:-0500
TZOFFSETTO:-0600
TZNAME:America/Chicago CST
END:STANDARD
BEGIN:STANDARD
DTSTART:20241103T010000
RDATE:20250309T030000
TZOFFSETFROM:-0500
TZOFFSETTO:-0600
TZNAME:America/Chicago CST
END:STANDARD
BEGIN:STANDARD
DTSTART:20251102T010000
RDATE:20260308T030000
TZOFFSETFROM:-0500
TZOFFSETTO:-0600
TZNAME:America/Chicago CST
END:STANDARD
BEGIN:STANDARD
DTSTART:20261101T010000
RDATE:20270314T030000
TZOFFSETFROM:-0500
TZOFFSETTO:-0600
TZNAME:America/Chicago CST
END:STANDARD
BEGIN:STANDARD
DTSTART:20271107T010000
RDATE:20280312T030000
TZOFFSETFROM:-0500
TZOFFSETTO:-0600
TZNAME:America/Chicago CST
END:STANDARD
BEGIN:STANDARD
DTSTART:20281105T010000
RDATE:20290311T030000
TZOFFSETFROM:-0500
TZOFFSETTO:-0600
TZNAME:America/Chicago CST
END:STANDARD
BEGIN:DAYLIGHT
DTSTART:20111020T000000
RDATE:20111106T010000
TZOFFSETFROM:-0600
TZOFFSETTO:-0500
TZNAME:America/Chicago CDT
END:DAYLIGHT
BEGIN:DAYLIGHT
DTSTART:20120311T030000
RDATE:20121104T010000
TZOFFSETFROM:-0600
TZOFFSETTO:-0500
TZNAME:America/Chicago CDT
END:DAYLIGHT
BEGIN:DAYLIGHT
DTSTART:20130310T030000
RDATE:20131103T010000
TZOFFSETFROM:-0600
TZOFFSETTO:-0500
TZNAME:America/Chicago CDT
END:DAYLIGHT
BEGIN:DAYLIGHT
DTSTART:20140309T030000
RDATE:20141102T010000
TZOFFSETFROM:-0600
TZOFFSETTO:-0500
TZNAME:America/Chicago CDT
END:DAYLIGHT
BEGIN:DAYLIGHT
DTSTART:20150308T030000
RDATE:20151101T010000
TZOFFSETFROM:-0600
TZOFFSETTO:-0500
TZNAME:America/Chicago CDT
END:DAYLIGHT
BEGIN:DAYLIGHT
DTSTART:20160313T030000
RDATE:20161106T010000
TZOFFSETFROM:-0600
TZOFFSETTO:-0500
TZNAME:America/Chicago CDT
END:DAYLIGHT
BEGIN:DAYLIGHT
DTSTART:20170312T030000
RDATE:20171105T010000
TZOFFSETFROM:-0600
TZOFFSETTO:-0500
TZNAME:America/Chicago CDT
END:DAYLIGHT
BEGIN:DAYLIGHT
DTSTART:20180311T030000
RDATE:20181104T010000
TZOFFSETFROM:-0600
TZOFFSETTO:-0500
TZNAME:America/Chicago CDT
END:DAYLIGHT
BEGIN:DAYLIGHT
DTSTART:20190310T030000
RDATE:20191103T010000
TZOFFSETFROM:-0600
TZOFFSETTO:-0500
TZNAME:America/Chicago CDT
END:DAYLIGHT
BEGIN:DAYLIGHT
DTSTART:20200308T030000
RDATE:20201101T010000
TZOFFSETFROM:-0600
TZOFFSETTO:-0500
TZNAME:America/Chicago CDT
END:DAYLIGHT
BEGIN:DAYLIGHT
DTSTART:20210314T030000
RDATE:20211107T010000
TZOFFSETFROM:-0600
TZOFFSETTO:-0500
TZNAME:America/Chicago CDT
END:DAYLIGHT
BEGIN:DAYLIGHT
DTSTART:20220313T030000
RDATE:20221106T010000
TZOFFSETFROM:-0600
TZOFFSETTO:-0500
TZNAME:America/Chicago CDT
END:DAYLIGHT
BEGIN:DAYLIGHT
DTSTART:20230312T030000
RDATE:20231105T010000
TZOFFSETFROM:-0600
TZOFFSETTO:-0500
TZNAME:America/Chicago CDT
END:DAYLIGHT
BEGIN:DAYLIGHT
DTSTART:20240310T030000
RDATE:20241103T010000
TZOFFSETFROM:-0600
TZOFFSETTO:-0500
TZNAME:America/Chicago CDT
END:DAYLIGHT
BEGIN:DAYLIGHT
DTSTART:20250309T030000
RDATE:20251102T010000
TZOFFSETFROM:-0600
TZOFFSETTO:-0500
TZNAME:America/Chicago CDT
END:DAYLIGHT
BEGIN:DAYLIGHT
DTSTART:20260308T030000
RDATE:20261101T010000
TZOFFSETFROM:-0600
TZOFFSETTO:-0500
TZNAME:America/Chicago CDT
END:DAYLIGHT
BEGIN:DAYLIGHT
DTSTART:20270314T030000
RDATE:20271107T010000
TZOFFSETFROM:-0600
TZOFFSETTO:-0500
TZNAME:America/Chicago CDT
END:DAYLIGHT
BEGIN:DAYLIGHT
DTSTART:20280312T030000
RDATE:20281105T010000
TZOFFSETFROM:-0600
TZOFFSETTO:-0500
TZNAME:America/Chicago CDT
END:DAYLIGHT
END:VTIMEZONE
BEGIN:VEVENT
UID:74ab369899fea9656b41798e3305be8b
CATEGORIES:Tournaments
CREATED:20120622T150757
SUMMARY:Hales Corners Challenge XVI
LOCATION:Wyndham Milwaukee Airport Hotel\, 4747 S. Howell Avenue\, Milwaukee\, 414-4
 81-8000
DESCRIPTION:Hales Corners Challenge XVI\nUSCF Grand Prix Points: 10.  \nOctober 20, 201
 2.\n4SS, G/60. 2 Sections: Open &amp; Reserve (under 1600). Wyndham Milwauk
 ee Airport Hotel—4747 S. Howell Avenue—Milwaukee—414-481-8000\n(mention Sou
 thwest Chess Club for $79 room rate). \nEF: $35-Open, $25-Reserve, both $5 
 more after 10/17.     Comp EF for USCF 2200+. $$ Open=1st-$325 (guaranteed)
 , 2nd-$175 (guaranteed), A-$100, B &amp; Below-$75; \n$$ Reserve =1st-$100,
  2nd-$75, D-$50, E &amp; Below-$40. Reg: 8:30-9:30, Rds: 10-1-3:30-6. \n \n
 Entries to Allen Becker, N112 W17033 Vista Court, Apt. D, Germantown, WI 53
 022;  This email address is being protected from spambots. You need JavaScr
 ipt enabled to view it.
				document.getElementById('cloakc3a0ccfff9abd70a4
 de9b3a731af99ee').innerHTML = '';
				var prefix = '&#109;a' + 'i&#108;' + 
 '&#116;o';
				var path = 'hr' + 'ef' + '=';
				var addyc3a0ccfff9abd70a4d
 e9b3a731af99ee = '&#97;ll&#101;nb&#101;ck&#101;r' + '&#64;';
				addyc3a0cc
 fff9abd70a4de9b3a731af99ee = addyc3a0ccfff9abd70a4de9b3a731af99ee + 'w&#105
 ;' + '&#46;' + 'rr' + '&#46;' + 'c&#111;m';
				var addy_textc3a0ccfff9abd7
 0a4de9b3a731af99ee = '&#97;ll&#101;nb&#101;ck&#101;r' + '&#64;' + 'w&#105;'
  + '&#46;' + 'rr' + '&#46;' + 'c&#111;m';document.getElementById('cloakc3a0
 ccfff9abd70a4de9b3a731af99ee').innerHTML += '<a ' + path + '\'' + prefix + 
 ':' + addyc3a0ccfff9abd70a4de9b3a731af99ee + '\'>'+addy_textc3a0ccfff9abd70
 a4de9b3a731af99ee+'';
		. \n\nQuestions to TD:  Tom Fogec, (414) 405-4207\n
  \nhttp://home.roadrunner.com/~swcc/HC%20Challenge%20XVI.pdf\n\n \n
X-ALT-DESC;FMTTYPE=text/html:<p><span class="609140816-07072011"><span style="color: #0000ff;"><span sty
 le="color: #7030a1;" lang="EN">Hales Corners Challenge XV</span></span></sp
 an>I</p><p><span class="609140816-07072011"><span style="color: #7030a1;" l
 ang="EN">USCF Grand Prix Points: 10.  </span></span></p><p><span class="609
 140816-07072011"><span style="color: #7030a1;" lang="EN">October 20, 201<sp
 an class="031321821-06012012">2</span>.</span></span></p><p><span style="co
 lor: #0000ff;"><span style="color: #7030a1;" lang="EN">4SS, G/60. 2 Section
 s: Open & Reserve (under 1600). </span><span lang="EN">Wyndham Milwaukee</s
 pan></span> <span lang="EN"><span style="color: #0000ff;">Airport Hotel—474
 7 S. Howell Avenue—Milwaukee—414-481-8000</span></span></p><p><span lang="E
 N"><span style="color: #0000ff;">(mention Southwest Chess Club for $<span c
 lass="031321821-06012012">7</span>9 room rate)<span style="color: #7030a1;"
 >. </span></span></span></p><p><span lang="EN"><span style="color: #0000ff;
 "><span style="color: #7030a1;">EF: $35-</span></span></span><span style="c
 olor: #7030a1;" lang="EN">Open, $25-Reserve, both $5 more after 10/17.     
 Comp EF for USCF 2200+. $$ Open=1st-$325 </span><span style="color: #0000ff
 ;"><span style="color: #7030a1;" lang="EN">(guaranteed), 2nd-$175 (guarante
 ed), A-$100, B & Below-$75; </span></span></p><p><span style="color: #0000f
 f;"><span style="color: #7030a1;" lang="EN">$$ Reserve =1st-$100, 2nd-$75, 
 </span></span><span style="color: #0000ff;"><span style="color: #7030a1;" l
 ang="EN">D-$50, E & Below-$40. Reg: 8:30-9:30, Rds: 10-1-3:30-6. </span></s
 pan></p><p> </p><p><span style="color: #0000ff;"><span style="color: #7030a
 1;" lang="EN">Entries<span class="031321821-06012012"> to Allen Becker, N11
 2 W17033</span></span></span> Vista Court, Apt. D, Germantown, WI 53022;  <
 span style="color: #7030a1;" lang="EN"><span style="color: #0000ff;"><span 
 class="031321821-06012012"><span id="cloakc3a0ccfff9abd70a4de9b3a731af99ee"
 >This email address is being protected from spambots. You need JavaScript e
 nabled to view it.</span><script type='text/javascript'>
				document.getEl
 ementById('cloakc3a0ccfff9abd70a4de9b3a731af99ee').innerHTML = '';
				var 
 prefix = '&#109;a' + 'i&#108;' + '&#116;o';
				var path = 'hr' + 'ef' + '=
 ';
				var addyc3a0ccfff9abd70a4de9b3a731af99ee = '&#97;ll&#101;nb&#101;ck&
 #101;r' + '&#64;';
				addyc3a0ccfff9abd70a4de9b3a731af99ee = addyc3a0ccfff
 9abd70a4de9b3a731af99ee + 'w&#105;' + '&#46;' + 'rr' + '&#46;' + 'c&#111;m'
 ;
				var addy_textc3a0ccfff9abd70a4de9b3a731af99ee = '&#97;ll&#101;nb&#101
 ;ck&#101;r' + '&#64;' + 'w&#105;' + '&#46;' + 'rr' + '&#46;' + 'c&#111;m';d
 ocument.getElementById('cloakc3a0ccfff9abd70a4de9b3a731af99ee').innerHTML +
 = '<a ' + path + '\'' + prefix + ':' + addyc3a0ccfff9abd70a4de9b3a731af99ee
  + '\'>'+addy_textc3a0ccfff9abd70a4de9b3a731af99ee+'<\/a>';
		</script>. </
 span></span></span></p><p><br /><span style="color: #7030a1;" lang="EN"><sp
 an style="color: #0000ff;">Questions to TD: <span class="031321821-06012012
 "> Tom Fogec, (414) 405-4207</span></span></span></p><p> </p><p><a href="ht
 tp://home.roadrunner.com/~swcc/HC%20Challenge%20XVI.pdf"><span style="mso-a
 nsi-language: EN;" lang="EN"><span style="text-decoration: underline;"><spa
 n style="font-family: Times New Roman; color: #0000ff; font-size: medium;">
 http://home.roadrunner.com/~swcc/HC%20Challenge%20XVI.pdf</span></span></sp
 an></a></p><p><br /> </p>
CONTACT:This email address is being protected from spambots. You need JavaScript enabled to view it.
				document.getElementById('cloakeca89d7584bfd6ca2d15cd6d4d9cbf9e').innerHTML = '';
				var prefix = '&#109;a' + 'i&#108;' + '&#116;o';
				var path = 'hr' + 'ef' + '=';
				var addyeca89d7584bfd6ca2d15cd6d4d9cbf9e = 'tf&#111;g&#101;c' + '&#64;';
				addyeca89d7584bfd6ca2d15cd6d4d9cbf9e = addyeca89d7584bfd6ca2d15cd6d4d9cbf9e + 'w&#105;' + '&#46;' + 'rr' + '&#46;' + 'c&#111;m';
				var addy_texteca89d7584bfd6ca2d15cd6d4d9cbf9e = 'tf&#111;g&#101;c' + '&#64;' + 'w&#105;' + '&#46;' + 'rr' + '&#46;' + 'c&#111;m';document.getElementById('cloakeca89d7584bfd6ca2d15cd6d4d9cbf9e').innerHTML += '<a ' + path + '\'' + prefix + ':' + addyeca89d7584bfd6ca2d15cd6d4d9cbf9e + '\'>'+addy_texteca89d7584bfd6ca2d15cd6d4d9cbf9e+'';
		
X-EXTRAINFO:Tom Fogec (414) 405-4207
DTSTAMP:20260423T145629
DTSTART;TZID=America/Chicago;VALUE=DATE:20121020
DTEND;TZID=America/Chicago;VALUE=DATE:20121021
SEQUENCE:0
TRANSP:OPAQUE
END:VEVENT
END:VCALENDAR