BEGIN:VCALENDAR
VERSION:2.0
PRODID:-//jEvents 2.0 for Joomla//EN
CALSCALE:GREGORIAN
METHOD:PUBLISH
BEGIN:VTIMEZONE
TZID:America/Chicago
BEGIN:STANDARD
DTSTART:20111106T010000
RDATE:20120311T030000
TZOFFSETFROM:-0500
TZOFFSETTO:-0600
TZNAME:America/Chicago CST
END:STANDARD
BEGIN:STANDARD
DTSTART:20121104T010000
RDATE:20130310T030000
TZOFFSETFROM:-0500
TZOFFSETTO:-0600
TZNAME:America/Chicago CST
END:STANDARD
BEGIN:STANDARD
DTSTART:20131103T010000
RDATE:20140309T030000
TZOFFSETFROM:-0500
TZOFFSETTO:-0600
TZNAME:America/Chicago CST
END:STANDARD
BEGIN:STANDARD
DTSTART:20141102T010000
RDATE:20150308T030000
TZOFFSETFROM:-0500
TZOFFSETTO:-0600
TZNAME:America/Chicago CST
END:STANDARD
BEGIN:STANDARD
DTSTART:20151101T010000
RDATE:20160313T030000
TZOFFSETFROM:-0500
TZOFFSETTO:-0600
TZNAME:America/Chicago CST
END:STANDARD
BEGIN:STANDARD
DTSTART:20161106T010000
RDATE:20170312T030000
TZOFFSETFROM:-0500
TZOFFSETTO:-0600
TZNAME:America/Chicago CST
END:STANDARD
BEGIN:STANDARD
DTSTART:20171105T010000
RDATE:20180311T030000
TZOFFSETFROM:-0500
TZOFFSETTO:-0600
TZNAME:America/Chicago CST
END:STANDARD
BEGIN:STANDARD
DTSTART:20181104T010000
RDATE:20190310T030000
TZOFFSETFROM:-0500
TZOFFSETTO:-0600
TZNAME:America/Chicago CST
END:STANDARD
BEGIN:STANDARD
DTSTART:20191103T010000
RDATE:20200308T030000
TZOFFSETFROM:-0500
TZOFFSETTO:-0600
TZNAME:America/Chicago CST
END:STANDARD
BEGIN:STANDARD
DTSTART:20201101T010000
RDATE:20210314T030000
TZOFFSETFROM:-0500
TZOFFSETTO:-0600
TZNAME:America/Chicago CST
END:STANDARD
BEGIN:STANDARD
DTSTART:20211107T010000
RDATE:20220313T030000
TZOFFSETFROM:-0500
TZOFFSETTO:-0600
TZNAME:America/Chicago CST
END:STANDARD
BEGIN:STANDARD
DTSTART:20221106T010000
RDATE:20230312T030000
TZOFFSETFROM:-0500
TZOFFSETTO:-0600
TZNAME:America/Chicago CST
END:STANDARD
BEGIN:STANDARD
DTSTART:20231105T010000
RDATE:20240310T030000
TZOFFSETFROM:-0500
TZOFFSETTO:-0600
TZNAME:America/Chicago CST
END:STANDARD
BEGIN:STANDARD
DTSTART:20241103T010000
RDATE:20250309T030000
TZOFFSETFROM:-0500
TZOFFSETTO:-0600
TZNAME:America/Chicago CST
END:STANDARD
BEGIN:STANDARD
DTSTART:20251102T010000
RDATE:20260308T030000
TZOFFSETFROM:-0500
TZOFFSETTO:-0600
TZNAME:America/Chicago CST
END:STANDARD
BEGIN:STANDARD
DTSTART:20261101T010000
RDATE:20270314T030000
TZOFFSETFROM:-0500
TZOFFSETTO:-0600
TZNAME:America/Chicago CST
END:STANDARD
BEGIN:STANDARD
DTSTART:20271107T010000
RDATE:20280312T030000
TZOFFSETFROM:-0500
TZOFFSETTO:-0600
TZNAME:America/Chicago CST
END:STANDARD
BEGIN:STANDARD
DTSTART:20281105T010000
RDATE:20290311T030000
TZOFFSETFROM:-0500
TZOFFSETTO:-0600
TZNAME:America/Chicago CST
END:STANDARD
BEGIN:DAYLIGHT
DTSTART:20111027T000000
RDATE:20111106T010000
TZOFFSETFROM:-0600
TZOFFSETTO:-0500
TZNAME:America/Chicago CDT
END:DAYLIGHT
BEGIN:DAYLIGHT
DTSTART:20120311T030000
RDATE:20121104T010000
TZOFFSETFROM:-0600
TZOFFSETTO:-0500
TZNAME:America/Chicago CDT
END:DAYLIGHT
BEGIN:DAYLIGHT
DTSTART:20130310T030000
RDATE:20131103T010000
TZOFFSETFROM:-0600
TZOFFSETTO:-0500
TZNAME:America/Chicago CDT
END:DAYLIGHT
BEGIN:DAYLIGHT
DTSTART:20140309T030000
RDATE:20141102T010000
TZOFFSETFROM:-0600
TZOFFSETTO:-0500
TZNAME:America/Chicago CDT
END:DAYLIGHT
BEGIN:DAYLIGHT
DTSTART:20150308T030000
RDATE:20151101T010000
TZOFFSETFROM:-0600
TZOFFSETTO:-0500
TZNAME:America/Chicago CDT
END:DAYLIGHT
BEGIN:DAYLIGHT
DTSTART:20160313T030000
RDATE:20161106T010000
TZOFFSETFROM:-0600
TZOFFSETTO:-0500
TZNAME:America/Chicago CDT
END:DAYLIGHT
BEGIN:DAYLIGHT
DTSTART:20170312T030000
RDATE:20171105T010000
TZOFFSETFROM:-0600
TZOFFSETTO:-0500
TZNAME:America/Chicago CDT
END:DAYLIGHT
BEGIN:DAYLIGHT
DTSTART:20180311T030000
RDATE:20181104T010000
TZOFFSETFROM:-0600
TZOFFSETTO:-0500
TZNAME:America/Chicago CDT
END:DAYLIGHT
BEGIN:DAYLIGHT
DTSTART:20190310T030000
RDATE:20191103T010000
TZOFFSETFROM:-0600
TZOFFSETTO:-0500
TZNAME:America/Chicago CDT
END:DAYLIGHT
BEGIN:DAYLIGHT
DTSTART:20200308T030000
RDATE:20201101T010000
TZOFFSETFROM:-0600
TZOFFSETTO:-0500
TZNAME:America/Chicago CDT
END:DAYLIGHT
BEGIN:DAYLIGHT
DTSTART:20210314T030000
RDATE:20211107T010000
TZOFFSETFROM:-0600
TZOFFSETTO:-0500
TZNAME:America/Chicago CDT
END:DAYLIGHT
BEGIN:DAYLIGHT
DTSTART:20220313T030000
RDATE:20221106T010000
TZOFFSETFROM:-0600
TZOFFSETTO:-0500
TZNAME:America/Chicago CDT
END:DAYLIGHT
BEGIN:DAYLIGHT
DTSTART:20230312T030000
RDATE:20231105T010000
TZOFFSETFROM:-0600
TZOFFSETTO:-0500
TZNAME:America/Chicago CDT
END:DAYLIGHT
BEGIN:DAYLIGHT
DTSTART:20240310T030000
RDATE:20241103T010000
TZOFFSETFROM:-0600
TZOFFSETTO:-0500
TZNAME:America/Chicago CDT
END:DAYLIGHT
BEGIN:DAYLIGHT
DTSTART:20250309T030000
RDATE:20251102T010000
TZOFFSETFROM:-0600
TZOFFSETTO:-0500
TZNAME:America/Chicago CDT
END:DAYLIGHT
BEGIN:DAYLIGHT
DTSTART:20260308T030000
RDATE:20261101T010000
TZOFFSETFROM:-0600
TZOFFSETTO:-0500
TZNAME:America/Chicago CDT
END:DAYLIGHT
BEGIN:DAYLIGHT
DTSTART:20270314T030000
RDATE:20271107T010000
TZOFFSETFROM:-0600
TZOFFSETTO:-0500
TZNAME:America/Chicago CDT
END:DAYLIGHT
BEGIN:DAYLIGHT
DTSTART:20280312T030000
RDATE:20281105T010000
TZOFFSETFROM:-0600
TZOFFSETTO:-0500
TZNAME:America/Chicago CDT
END:DAYLIGHT
END:VTIMEZONE
BEGIN:VEVENT
UID:4bf4491063cdd33d8d0a109cd7855dd6
CATEGORIES:Tournaments
CREATED:20120817T200207
SUMMARY:Wisconsin Junior Open
LOCATION:Gruenhagen Conference Center\, UW-Oshkosh
DESCRIPTION:A State Championship Event!\nOct. 27-28, 2012-2013 Wisconsin Junior Open\nG
 ruenhagen Conference Center, UW-Oshkosh, Corner of High and Osceola St., Os
 hkosh, WI 54901. 2013 Denker/Girls qualifier; Open to youth born after 10/2
 7/1991. In 5 Sections, Open: EF: $16 in advance by 10/23; $21 at site. Priz
 es: Top 5, Top 3 each 1500, 1400, 1300, 1200, 1100, Under 1100 and Unrated.
  Girl's Junior Open: EF: $15 in advance by 10/23; $20 at site. Prizes: Top 
 3 and top ages 15-16, 13-14, 11-12, 9-10 and Under 9. Reserve (Under 1100 o
 r Unrated): EF: $15 in advance by 10/23; $20 at site. Prizes: Top 5, Top 3 
 each 900, 800, 700, 600 and Under 600 and top 4 Unrated. Non-Rated Beginner
 's Grade 7-12: Open to Grades 7-12. EF: $12 in advance by 10/23; $17 at sit
 e. Prizes: Top 5 and top 3 Grade 7-9. Non-Rated Beginner's Grade K-6: Open 
 to Grades K-6. EF: $11 in advance by 10/23; $16 at site. Prizes: Top 5 and 
 top 3 Grade K-3. ALL: 5SS, G/120; TD/5. Reg.: 10/27 8:45-9:30 A.M. Rds.: 10
 :15-2:30-7:15; 10:00-3:00. ENT: Mike Nietman, 2 Boca Grande Way, Madison, W
 I 53719. INFO: Mike Nietman, 608-467-8510 (before 10/26) mike.nietman@chart
 er. net. HR: 920-424-1106 $40 double (dorm room) (Mention Chess). www.wisch
 ess.org. NS. NC. W.\n \nNOTE:  The Open, Reserve and Girl's Junior Open are
  USCF membership required and rated sections.\n
X-ALT-DESC;FMTTYPE=text/html:<p class="MsoNormal" style="text-align: justify; margin: 0in 0in 0pt;"><str
 ong style="mso-bidi-font-weight: normal;"><span style="font-family: 'Helvet
 icaNeueLT Std Cn','sans-serif'; font-size: 10pt;"><span style="color: #0000
 00;">A State Championship Event!</span></span></strong></p><p class="MsoNor
 mal" style="text-align: justify; margin: 0in 0in 0pt;"><strong style="mso-b
 idi-font-weight: normal;"><span style="font-family: 'HelveticaNeueLT Std Cn
 ','sans-serif'; font-size: 10pt;"><span style="color: #000000;">Oct. 27-28,
  2012-2013 Wisconsin Junior Open</span></span></strong></p><p class="MsoNor
 mal" style="text-align: justify; margin: 0in 0in 0pt;"><span style="color: 
 #000000;"><span style="font-family: 'Bell Centennial Address','serif'; font
 -size: 10pt;">Gruenhagen Conference Center, UW-Oshkosh, Corner of High and 
 Osceola St., Oshkosh, WI 54901. 2013 Denker/Girls qualifier; Open to youth 
 born after 10/27/1991. In 5 Sections, </span><strong style="mso-bidi-font-w
 eight: normal;"><span style="font-family: 'HelveticaNeueLT Std Cn','sans-se
 rif'; font-size: 10pt;"><span style="text-decoration: underline;">Open</spa
 n>: EF:</span></strong><span style="font-family: 'Bell Centennial Address',
 'serif'; font-size: 10pt;"> $16 in advance by 10/23; $21 at site. </span><s
 trong style="mso-bidi-font-weight: normal;"><span style="font-family: 'Helv
 eticaNeueLT Std Cn','sans-serif'; font-size: 10pt;">Prizes:</span></strong>
 <span style="font-family: 'Bell Centennial Address','serif'; font-size: 10p
 t;"> Top 5, Top 3 each 1500, 1400, 1300, 1200, 1100, Under 1100 and Unrated
 . </span><strong style="mso-bidi-font-weight: normal;"><span style="font-fa
 mily: 'HelveticaNeueLT Std Cn','sans-serif'; font-size: 10pt;"><span style=
 "text-decoration: underline;">Girl's Junior Open</span>: EF:</span></strong
 ><span style="font-family: 'Bell Centennial Address','serif'; font-size: 10
 pt;"> $15 in advance by 10/23; $20 at site. </span><strong style="mso-bidi-
 font-weight: normal;"><span style="font-family: 'HelveticaNeueLT Std Cn','s
 ans-serif'; font-size: 10pt;">Prizes:</span></strong><span style="font-fami
 ly: 'Bell Centennial Address','serif'; font-size: 10pt;"> Top 3 and top age
 s 15-16, 13-14, 11-12, 9-10 and Under 9. </span><strong style="mso-bidi-fon
 t-weight: normal;"><span style="font-family: 'HelveticaNeueLT Std Cn','sans
 -serif'; font-size: 10pt;"><span style="text-decoration: underline;">Reserv
 e (Under 1100 or Unrated</span>): EF:</span></strong><span style="font-fami
 ly: 'Bell Centennial Address','serif'; font-size: 10pt;"> $15 in advance by
  10/23; $20 at site. </span><strong style="mso-bidi-font-weight: normal;"><
 span style="font-family: 'HelveticaNeueLT Std Cn','sans-serif'; font-size: 
 10pt;">Prizes:</span></strong><span style="font-family: 'Bell Centennial Ad
 dress','serif'; font-size: 10pt;"> Top 5, Top 3 each 900, 800, 700, 600 and
  Under 600 and top 4 Unrated. </span><strong style="mso-bidi-font-weight: n
 ormal;"><span style="font-family: 'HelveticaNeueLT Std Cn','sans-serif'; fo
 nt-size: 10pt;"><span style="text-decoration: underline;">Non-Rated Beginne
 r's Grade 7-12</span>:</span></strong><span style="font-family: 'Bell Cente
 nnial Address','serif'; font-size: 10pt;"> Open to Grades 7-12. </span><str
 ong style="mso-bidi-font-weight: normal;"><span style="font-family: 'Helvet
 icaNeueLT Std Cn','sans-serif'; font-size: 10pt;">EF:</span></strong><span 
 style="font-family: 'Bell Centennial Address','serif'; font-size: 10pt;"> $
 12 in advance by 10/23; $17 at site. Prizes: Top 5 and top 3 Grade 7-9. </s
 pan><strong style="mso-bidi-font-weight: normal;"><span style="font-family:
  'HelveticaNeueLT Std Cn','sans-serif'; font-size: 10pt;"><span style="text
 -decoration: underline;">Non-Rated Beginner's Grade K-6</span>:</span></str
 ong><span style="font-family: 'Bell Centennial Address','serif'; font-size:
  10pt;"> Open to Grades K-6. </span><strong style="mso-bidi-font-weight: no
 rmal;"><span style="font-family: 'HelveticaNeueLT Std Cn','sans-serif'; fon
 t-size: 10pt;">EF:</span></strong><span style="font-family: 'Bell Centennia
 l Address','serif'; font-size: 10pt;"> $11 in advance by 10/23; $16 at site
 . </span><strong style="mso-bidi-font-weight: normal;"><span style="font-fa
 mily: 'HelveticaNeueLT Std Cn','sans-serif'; font-size: 10pt;">Prizes:</spa
 n></strong><span style="font-family: 'Bell Centennial Address','serif'; fon
 t-size: 10pt;"> Top 5 and top 3 Grade K-3. </span><strong style="mso-bidi-f
 ont-weight: normal;"><span style="font-family: 'HelveticaNeueLT Std Cn','sa
 ns-serif'; font-size: 10pt;">ALL:</span></strong><span style="font-family: 
 'Bell Centennial Address','serif'; font-size: 10pt;"> 5SS, G/120; TD/5. </s
 pan><strong style="mso-bidi-font-weight: normal;"><span style="font-family:
  'HelveticaNeueLT Std Cn','sans-serif'; font-size: 10pt;">Reg.:</span></str
 ong><span style="font-family: 'Bell Centennial Address','serif'; font-size:
  10pt;"> 10/27 8:45-9:30 A.M. </span><strong style="mso-bidi-font-weight: n
 ormal;"><span style="font-family: 'HelveticaNeueLT Std Cn','sans-serif'; fo
 nt-size: 10pt;">Rds.:</span></strong><span style="font-family: 'Bell Centen
 nial Address','serif'; font-size: 10pt;"> 10:15-2:30-7:15; 10:00-3:00. </sp
 an><strong style="mso-bidi-font-weight: normal;"><span style="font-family: 
 'HelveticaNeueLT Std Cn','sans-serif'; font-size: 10pt;">ENT:</span></stron
 g><span style="font-family: 'Bell Centennial Address','serif'; font-size: 1
 0pt;"> Mike Nietman, 2 Boca Grande Way, Madison, WI 53719. </span><strong s
 tyle="mso-bidi-font-weight: normal;"><span style="font-family: 'HelveticaNe
 ueLT Std Cn','sans-serif'; font-size: 10pt;">INFO:</span></strong><span sty
 le="font-family: 'Bell Centennial Address','serif'; font-size: 10pt;"> Mike
  Nietman, 608-467-8510 (before 10/26) mike.nietman@charter. net. </span><st
 rong style="mso-bidi-font-weight: normal;"><span style="font-family: 'Helve
 ticaNeueLT Std Cn','sans-serif'; font-size: 10pt;">HR:</span></strong><span
  style="font-family: 'Bell Centennial Address','serif'; font-size: 10pt;"> 
 920-424-1106 $40 double (dorm room) (Mention Chess). www.wischess.org. NS. 
 NC. W.</span></span></p><p class="MsoNormal" style="text-align: justify; ma
 rgin: 0in 0in 0pt;"> </p><p class="MsoNormal" style="text-align: justify; m
 argin: 0in 0in 0pt;"><span style="color: #000000;"><span style="font-family
 : 'Bell Centennial Address','serif'; font-size: 10pt;">NOTE:  The Open, Res
 erve and Girl's Junior Open are USCF membership required and rated sections
 .</span></span></p>
CONTACT:Mike Nietman (See TLA for contact info)
DTSTAMP:20260423T160301
DTSTART;TZID=America/Chicago;VALUE=DATE:20121027
DTEND;TZID=America/Chicago;VALUE=DATE:20121029
SEQUENCE:0
TRANSP:OPAQUE
END:VEVENT
END:VCALENDAR