BEGIN:VCALENDAR
VERSION:2.0
PRODID:-//jEvents 2.0 for Joomla//EN
CALSCALE:GREGORIAN
METHOD:PUBLISH
BEGIN:VTIMEZONE
TZID:America/Chicago
BEGIN:STANDARD
DTSTART:20111106T010000
RDATE:20120311T030000
TZOFFSETFROM:-0500
TZOFFSETTO:-0600
TZNAME:America/Chicago CST
END:STANDARD
BEGIN:STANDARD
DTSTART:20121104T010000
RDATE:20130310T030000
TZOFFSETFROM:-0500
TZOFFSETTO:-0600
TZNAME:America/Chicago CST
END:STANDARD
BEGIN:STANDARD
DTSTART:20131103T010000
RDATE:20140309T030000
TZOFFSETFROM:-0500
TZOFFSETTO:-0600
TZNAME:America/Chicago CST
END:STANDARD
BEGIN:STANDARD
DTSTART:20141102T010000
RDATE:20150308T030000
TZOFFSETFROM:-0500
TZOFFSETTO:-0600
TZNAME:America/Chicago CST
END:STANDARD
BEGIN:STANDARD
DTSTART:20151101T010000
RDATE:20160313T030000
TZOFFSETFROM:-0500
TZOFFSETTO:-0600
TZNAME:America/Chicago CST
END:STANDARD
BEGIN:STANDARD
DTSTART:20161106T010000
RDATE:20170312T030000
TZOFFSETFROM:-0500
TZOFFSETTO:-0600
TZNAME:America/Chicago CST
END:STANDARD
BEGIN:STANDARD
DTSTART:20171105T010000
RDATE:20180311T030000
TZOFFSETFROM:-0500
TZOFFSETTO:-0600
TZNAME:America/Chicago CST
END:STANDARD
BEGIN:STANDARD
DTSTART:20181104T010000
RDATE:20190310T030000
TZOFFSETFROM:-0500
TZOFFSETTO:-0600
TZNAME:America/Chicago CST
END:STANDARD
BEGIN:STANDARD
DTSTART:20191103T010000
RDATE:20200308T030000
TZOFFSETFROM:-0500
TZOFFSETTO:-0600
TZNAME:America/Chicago CST
END:STANDARD
BEGIN:STANDARD
DTSTART:20201101T010000
RDATE:20210314T030000
TZOFFSETFROM:-0500
TZOFFSETTO:-0600
TZNAME:America/Chicago CST
END:STANDARD
BEGIN:STANDARD
DTSTART:20211107T010000
RDATE:20220313T030000
TZOFFSETFROM:-0500
TZOFFSETTO:-0600
TZNAME:America/Chicago CST
END:STANDARD
BEGIN:STANDARD
DTSTART:20221106T010000
RDATE:20230312T030000
TZOFFSETFROM:-0500
TZOFFSETTO:-0600
TZNAME:America/Chicago CST
END:STANDARD
BEGIN:STANDARD
DTSTART:20231105T010000
RDATE:20240310T030000
TZOFFSETFROM:-0500
TZOFFSETTO:-0600
TZNAME:America/Chicago CST
END:STANDARD
BEGIN:STANDARD
DTSTART:20241103T010000
RDATE:20250309T030000
TZOFFSETFROM:-0500
TZOFFSETTO:-0600
TZNAME:America/Chicago CST
END:STANDARD
BEGIN:STANDARD
DTSTART:20251102T010000
RDATE:20260308T030000
TZOFFSETFROM:-0500
TZOFFSETTO:-0600
TZNAME:America/Chicago CST
END:STANDARD
BEGIN:STANDARD
DTSTART:20261101T010000
RDATE:20270314T030000
TZOFFSETFROM:-0500
TZOFFSETTO:-0600
TZNAME:America/Chicago CST
END:STANDARD
BEGIN:STANDARD
DTSTART:20271107T010000
RDATE:20280312T030000
TZOFFSETFROM:-0500
TZOFFSETTO:-0600
TZNAME:America/Chicago CST
END:STANDARD
BEGIN:STANDARD
DTSTART:20281105T010000
RDATE:20290311T030000
TZOFFSETFROM:-0500
TZOFFSETTO:-0600
TZNAME:America/Chicago CST
END:STANDARD
BEGIN:DAYLIGHT
DTSTART:20111027T000000
RDATE:20111106T010000
TZOFFSETFROM:-0600
TZOFFSETTO:-0500
TZNAME:America/Chicago CDT
END:DAYLIGHT
BEGIN:DAYLIGHT
DTSTART:20120311T030000
RDATE:20121104T010000
TZOFFSETFROM:-0600
TZOFFSETTO:-0500
TZNAME:America/Chicago CDT
END:DAYLIGHT
BEGIN:DAYLIGHT
DTSTART:20130310T030000
RDATE:20131103T010000
TZOFFSETFROM:-0600
TZOFFSETTO:-0500
TZNAME:America/Chicago CDT
END:DAYLIGHT
BEGIN:DAYLIGHT
DTSTART:20140309T030000
RDATE:20141102T010000
TZOFFSETFROM:-0600
TZOFFSETTO:-0500
TZNAME:America/Chicago CDT
END:DAYLIGHT
BEGIN:DAYLIGHT
DTSTART:20150308T030000
RDATE:20151101T010000
TZOFFSETFROM:-0600
TZOFFSETTO:-0500
TZNAME:America/Chicago CDT
END:DAYLIGHT
BEGIN:DAYLIGHT
DTSTART:20160313T030000
RDATE:20161106T010000
TZOFFSETFROM:-0600
TZOFFSETTO:-0500
TZNAME:America/Chicago CDT
END:DAYLIGHT
BEGIN:DAYLIGHT
DTSTART:20170312T030000
RDATE:20171105T010000
TZOFFSETFROM:-0600
TZOFFSETTO:-0500
TZNAME:America/Chicago CDT
END:DAYLIGHT
BEGIN:DAYLIGHT
DTSTART:20180311T030000
RDATE:20181104T010000
TZOFFSETFROM:-0600
TZOFFSETTO:-0500
TZNAME:America/Chicago CDT
END:DAYLIGHT
BEGIN:DAYLIGHT
DTSTART:20190310T030000
RDATE:20191103T010000
TZOFFSETFROM:-0600
TZOFFSETTO:-0500
TZNAME:America/Chicago CDT
END:DAYLIGHT
BEGIN:DAYLIGHT
DTSTART:20200308T030000
RDATE:20201101T010000
TZOFFSETFROM:-0600
TZOFFSETTO:-0500
TZNAME:America/Chicago CDT
END:DAYLIGHT
BEGIN:DAYLIGHT
DTSTART:20210314T030000
RDATE:20211107T010000
TZOFFSETFROM:-0600
TZOFFSETTO:-0500
TZNAME:America/Chicago CDT
END:DAYLIGHT
BEGIN:DAYLIGHT
DTSTART:20220313T030000
RDATE:20221106T010000
TZOFFSETFROM:-0600
TZOFFSETTO:-0500
TZNAME:America/Chicago CDT
END:DAYLIGHT
BEGIN:DAYLIGHT
DTSTART:20230312T030000
RDATE:20231105T010000
TZOFFSETFROM:-0600
TZOFFSETTO:-0500
TZNAME:America/Chicago CDT
END:DAYLIGHT
BEGIN:DAYLIGHT
DTSTART:20240310T030000
RDATE:20241103T010000
TZOFFSETFROM:-0600
TZOFFSETTO:-0500
TZNAME:America/Chicago CDT
END:DAYLIGHT
BEGIN:DAYLIGHT
DTSTART:20250309T030000
RDATE:20251102T010000
TZOFFSETFROM:-0600
TZOFFSETTO:-0500
TZNAME:America/Chicago CDT
END:DAYLIGHT
BEGIN:DAYLIGHT
DTSTART:20260308T030000
RDATE:20261101T010000
TZOFFSETFROM:-0600
TZOFFSETTO:-0500
TZNAME:America/Chicago CDT
END:DAYLIGHT
BEGIN:DAYLIGHT
DTSTART:20270314T030000
RDATE:20271107T010000
TZOFFSETFROM:-0600
TZOFFSETTO:-0500
TZNAME:America/Chicago CDT
END:DAYLIGHT
BEGIN:DAYLIGHT
DTSTART:20280312T030000
RDATE:20281105T010000
TZOFFSETFROM:-0600
TZOFFSETTO:-0500
TZNAME:America/Chicago CDT
END:DAYLIGHT
END:VTIMEZONE
BEGIN:VEVENT
UID:5dba88be48221da3beb0185957723f7a
CATEGORIES:Tournaments
CREATED:20120817T202101
SUMMARY:WCA Veteran's Tournament
LOCATION:Gruenhagen Conference Center\, UW-Oshkosh
DESCRIPTION:<p class="MsoNormal" style="text-align: justify; margin: 0in 0in 0pt;"><str
 ong style="mso-bidi-font-weight: normal;"><span style="font-family: 'Helvet
 icaNeueLT Std Cn','sans-serif'; font-size: 10pt;"><span style="color: #0000
 00;">Oct. 27-28, WCA Veteran's Tournament</span></span></strong></p><p clas
 s="MsoNormal" style="text-align: justify; margin: 0in 0in 0pt;"><span style
 ="color: #000000;"><span style="font-family: 'Bell Centennial Address','ser
 if'; font-size: 10pt;">5SS, G/120, TD/5. Gruenhagen Conference Center, UW-O
 shkosh, Corner of High and Osceola St., Oshkosh, WI 54901. Open to Age 21 a
 nd over. </span><strong style="mso-bidi-font-weight: normal;"><span style="
 font-family: 'HelveticaNeueLT Std Cn','sans-serif'; font-size: 10pt;">EF:</
 span></strong><span style="font-family: 'Bell Centennial Address','serif'; 
 font-size: 10pt;"> $20 by 10/23; $25 at site. </span><strong style="mso-bid
 i-font-weight: normal;"><span style="font-family: 'HelveticaNeueLT Std Cn',
 'sans-serif'; font-size: 10pt;">$$b/40 and 3 per class:</span></strong><spa
 n style="font-family: 'Bell Centennial Address','serif'; font-size: 10pt;">
  $150-90. A - $70; B - $60; C - $50; D - $40; E/Unr - $40. </span><strong s
 tyle="mso-bidi-font-weight: normal;"><span style="font-family: 'HelveticaNe
 ueLT Std Cn','sans-serif'; font-size: 10pt;">Reg.:</span></strong><span sty
 le="font-family: 'Bell Centennial Address','serif'; font-size: 10pt;"> 10/2
 7 8:45-9:30 A.M. </span><strong style="mso-bidi-font-weight: normal;"><span
  style="font-family: 'HelveticaNeueLT Std Cn','sans-serif'; font-size: 10pt
 ;">Rds.:</span></strong><span style="font-family: 'Bell Centennial Address'
 ,'serif'; font-size: 10pt;"> 10:15-2:30-7:15; 10:00-3:00. Held in conjuncti
 on with the WI Junior Open but in a separate room. </span><strong style="ms
 o-bidi-font-weight: normal;"><span style="font-family: 'HelveticaNeueLT Std
  Cn','sans-serif'; font-size: 10pt;">ENT:</span></strong><span style="font-
 family: 'Bell Centennial Address','serif'; font-size: 10pt;"> Mike Nietman,
  2 Boca Grande Way, Madison, WI 53719. </span><strong style="mso-bidi-font-
 weight: normal;"><span style="font-family: 'HelveticaNeueLT Std Cn','sans-s
 erif'; font-size: 10pt;">INFO:</span></strong><span style="font-family: 'Be
 ll Centennial Address','serif'; font-size: 10pt;"> Mike Nietman, 608-467-85
 10 (evenings before 10/26), <span id="cloak1fce7a5f6548db1d135380c86c1bf20e
 ">This email address is being protected from spambots. You need JavaScript 
 enabled to view it.</span><script type='text/javascript'>
				document.getE
 lementById('cloak1fce7a5f6548db1d135380c86c1bf20e').innerHTML = '';
				var
  prefix = '&#109;a' + 'i&#108;' + '&#116;o';
				var path = 'hr' + 'ef' + '
 =';
				var addy1fce7a5f6548db1d135380c86c1bf20e = 'm&#105;k&#101;.n&#105;&
 #101;tm&#97;n' + '&#64;';
				addy1fce7a5f6548db1d135380c86c1bf20e = addy1f
 ce7a5f6548db1d135380c86c1bf20e + 'ch&#97;rt&#101;r' + '&#46;' + 'n&#101;t';
 
				var addy_text1fce7a5f6548db1d135380c86c1bf20e = 'm&#105;k&#101;.n&#105
 ;&#101;tm&#97;n' + '&#64;' + 'ch&#97;rt&#101;r' + '&#46;' + 'n&#101;t';docu
 ment.getElementById('cloak1fce7a5f6548db1d135380c86c1bf20e').innerHTML += '
 <a ' + path + '\'' + prefix + ':' + addy1fce7a5f6548db1d135380c86c1bf20e + 
 '\'>'+addy_text1fce7a5f6548db1d135380c86c1bf20e+'<\/a>';
		</script>. HR: 9
 20-424-1106 $40 (dorm room) (Mention Chess). www.wischess.org. NS. NC. W. <
 /span></span></p>
CONTACT:Mike NIetman (See TLA for contact information)
DTSTAMP:20260423T144453
DTSTART;TZID=America/Chicago;VALUE=DATE:20121027
DTEND;TZID=America/Chicago;VALUE=DATE:20121029
SEQUENCE:0
TRANSP:OPAQUE
END:VEVENT
END:VCALENDAR