BEGIN:VCALENDAR
VERSION:2.0
PRODID:-//jEvents 2.0 for Joomla//EN
CALSCALE:GREGORIAN
METHOD:PUBLISH
BEGIN:VTIMEZONE
TZID:America/Chicago
BEGIN:STANDARD
DTSTART:20111123T000000
RDATE:20120311T030000
TZOFFSETFROM:-0500
TZOFFSETTO:-0600
TZNAME:America/Chicago CST
END:STANDARD
BEGIN:STANDARD
DTSTART:20121104T010000
RDATE:20130310T030000
TZOFFSETFROM:-0500
TZOFFSETTO:-0600
TZNAME:America/Chicago CST
END:STANDARD
BEGIN:STANDARD
DTSTART:20131103T010000
RDATE:20140309T030000
TZOFFSETFROM:-0500
TZOFFSETTO:-0600
TZNAME:America/Chicago CST
END:STANDARD
BEGIN:STANDARD
DTSTART:20141102T010000
RDATE:20150308T030000
TZOFFSETFROM:-0500
TZOFFSETTO:-0600
TZNAME:America/Chicago CST
END:STANDARD
BEGIN:STANDARD
DTSTART:20151101T010000
RDATE:20160313T030000
TZOFFSETFROM:-0500
TZOFFSETTO:-0600
TZNAME:America/Chicago CST
END:STANDARD
BEGIN:STANDARD
DTSTART:20161106T010000
RDATE:20170312T030000
TZOFFSETFROM:-0500
TZOFFSETTO:-0600
TZNAME:America/Chicago CST
END:STANDARD
BEGIN:STANDARD
DTSTART:20171105T010000
RDATE:20180311T030000
TZOFFSETFROM:-0500
TZOFFSETTO:-0600
TZNAME:America/Chicago CST
END:STANDARD
BEGIN:STANDARD
DTSTART:20181104T010000
RDATE:20190310T030000
TZOFFSETFROM:-0500
TZOFFSETTO:-0600
TZNAME:America/Chicago CST
END:STANDARD
BEGIN:STANDARD
DTSTART:20191103T010000
RDATE:20200308T030000
TZOFFSETFROM:-0500
TZOFFSETTO:-0600
TZNAME:America/Chicago CST
END:STANDARD
BEGIN:STANDARD
DTSTART:20201101T010000
RDATE:20210314T030000
TZOFFSETFROM:-0500
TZOFFSETTO:-0600
TZNAME:America/Chicago CST
END:STANDARD
BEGIN:STANDARD
DTSTART:20211107T010000
RDATE:20220313T030000
TZOFFSETFROM:-0500
TZOFFSETTO:-0600
TZNAME:America/Chicago CST
END:STANDARD
BEGIN:STANDARD
DTSTART:20221106T010000
RDATE:20230312T030000
TZOFFSETFROM:-0500
TZOFFSETTO:-0600
TZNAME:America/Chicago CST
END:STANDARD
BEGIN:STANDARD
DTSTART:20231105T010000
RDATE:20240310T030000
TZOFFSETFROM:-0500
TZOFFSETTO:-0600
TZNAME:America/Chicago CST
END:STANDARD
BEGIN:STANDARD
DTSTART:20241103T010000
RDATE:20250309T030000
TZOFFSETFROM:-0500
TZOFFSETTO:-0600
TZNAME:America/Chicago CST
END:STANDARD
BEGIN:STANDARD
DTSTART:20251102T010000
RDATE:20260308T030000
TZOFFSETFROM:-0500
TZOFFSETTO:-0600
TZNAME:America/Chicago CST
END:STANDARD
BEGIN:STANDARD
DTSTART:20261101T010000
RDATE:20270314T030000
TZOFFSETFROM:-0500
TZOFFSETTO:-0600
TZNAME:America/Chicago CST
END:STANDARD
BEGIN:STANDARD
DTSTART:20271107T010000
RDATE:20280312T030000
TZOFFSETFROM:-0500
TZOFFSETTO:-0600
TZNAME:America/Chicago CST
END:STANDARD
BEGIN:STANDARD
DTSTART:20281105T010000
RDATE:20290311T030000
TZOFFSETFROM:-0500
TZOFFSETTO:-0600
TZNAME:America/Chicago CST
END:STANDARD
BEGIN:DAYLIGHT
DTSTART:20120311T030000
RDATE:20121104T010000
TZOFFSETFROM:-0600
TZOFFSETTO:-0500
TZNAME:America/Chicago CDT
END:DAYLIGHT
BEGIN:DAYLIGHT
DTSTART:20130310T030000
RDATE:20131103T010000
TZOFFSETFROM:-0600
TZOFFSETTO:-0500
TZNAME:America/Chicago CDT
END:DAYLIGHT
BEGIN:DAYLIGHT
DTSTART:20140309T030000
RDATE:20141102T010000
TZOFFSETFROM:-0600
TZOFFSETTO:-0500
TZNAME:America/Chicago CDT
END:DAYLIGHT
BEGIN:DAYLIGHT
DTSTART:20150308T030000
RDATE:20151101T010000
TZOFFSETFROM:-0600
TZOFFSETTO:-0500
TZNAME:America/Chicago CDT
END:DAYLIGHT
BEGIN:DAYLIGHT
DTSTART:20160313T030000
RDATE:20161106T010000
TZOFFSETFROM:-0600
TZOFFSETTO:-0500
TZNAME:America/Chicago CDT
END:DAYLIGHT
BEGIN:DAYLIGHT
DTSTART:20170312T030000
RDATE:20171105T010000
TZOFFSETFROM:-0600
TZOFFSETTO:-0500
TZNAME:America/Chicago CDT
END:DAYLIGHT
BEGIN:DAYLIGHT
DTSTART:20180311T030000
RDATE:20181104T010000
TZOFFSETFROM:-0600
TZOFFSETTO:-0500
TZNAME:America/Chicago CDT
END:DAYLIGHT
BEGIN:DAYLIGHT
DTSTART:20190310T030000
RDATE:20191103T010000
TZOFFSETFROM:-0600
TZOFFSETTO:-0500
TZNAME:America/Chicago CDT
END:DAYLIGHT
BEGIN:DAYLIGHT
DTSTART:20200308T030000
RDATE:20201101T010000
TZOFFSETFROM:-0600
TZOFFSETTO:-0500
TZNAME:America/Chicago CDT
END:DAYLIGHT
BEGIN:DAYLIGHT
DTSTART:20210314T030000
RDATE:20211107T010000
TZOFFSETFROM:-0600
TZOFFSETTO:-0500
TZNAME:America/Chicago CDT
END:DAYLIGHT
BEGIN:DAYLIGHT
DTSTART:20220313T030000
RDATE:20221106T010000
TZOFFSETFROM:-0600
TZOFFSETTO:-0500
TZNAME:America/Chicago CDT
END:DAYLIGHT
BEGIN:DAYLIGHT
DTSTART:20230312T030000
RDATE:20231105T010000
TZOFFSETFROM:-0600
TZOFFSETTO:-0500
TZNAME:America/Chicago CDT
END:DAYLIGHT
BEGIN:DAYLIGHT
DTSTART:20240310T030000
RDATE:20241103T010000
TZOFFSETFROM:-0600
TZOFFSETTO:-0500
TZNAME:America/Chicago CDT
END:DAYLIGHT
BEGIN:DAYLIGHT
DTSTART:20250309T030000
RDATE:20251102T010000
TZOFFSETFROM:-0600
TZOFFSETTO:-0500
TZNAME:America/Chicago CDT
END:DAYLIGHT
BEGIN:DAYLIGHT
DTSTART:20260308T030000
RDATE:20261101T010000
TZOFFSETFROM:-0600
TZOFFSETTO:-0500
TZNAME:America/Chicago CDT
END:DAYLIGHT
BEGIN:DAYLIGHT
DTSTART:20270314T030000
RDATE:20271107T010000
TZOFFSETFROM:-0600
TZOFFSETTO:-0500
TZNAME:America/Chicago CDT
END:DAYLIGHT
BEGIN:DAYLIGHT
DTSTART:20280312T030000
RDATE:20281105T010000
TZOFFSETFROM:-0600
TZOFFSETTO:-0500
TZNAME:America/Chicago CDT
END:DAYLIGHT
END:VTIMEZONE
BEGIN:VEVENT
UID:77f616db4c4f8f14eeb1990f5699d86f
CATEGORIES:Tour Events
CREATED:20120825T154228
SUMMARY:54th Wm Martz Memorial/North Central Open
LOCATION:Holiday Inn-Neenah\, 123 E Wisconsin Ave.\, Neenah\, WI  54956  920-725-844
 1
DESCRIPTION:A Heritage Event!\nNov. 23-25, 54th Martz Mem/North Central Open\nHoliday I
 nn-Neenah, 123 E. Wisconsin Ave., Neenah, WI 54956. In 2 Sections, Open: 6S
 S, Rd. 1&amp;5: G/120 D/5, Others: 45/120, G/60 D/5. EF: $45 if mailed by 1
 1/19. At site, e-mailed or phone entries are $5 more. $$b/45: $300-200-175.
  A-$160, B-$150, C-$140, D/E/Unr-$120. Rds.: 1-6; 10-5;10-3. Full point fir
 st round bye to pre-registered masters. Two half-point Byes available in ei
 ther section. Novice: 7SS, G/75, D/5, Open to Under 1200 or Unrated. EF: $2
 0 if mailed by 11/19. At site, emailed or phone entries are $5 more. $$GTD:
  $50-30. Trophies to Top 2, best 900, 800, U800, Unrated. Rds.: 1:15-5, 10-
 1:30-5, 10-2. ALL: Checks payable to WCA. Reg.: 11:30-12:30 11/23. ENT: Mar
 tz/North Central, Mike Selig - Director, 2895 W Fourth St, #B, Appleton, WI
  54914-4330, 920-739-7550. INFO: This email address is being protected from
  spambots. You need JavaScript enabled to view it.
				document.getElementB
 yId('cloak3a4f703c27557adab95912298ed7f1e5').innerHTML = '';
				var prefix
  = '&#109;a' + 'i&#108;' + '&#116;o';
				var path = 'hr' + 'ef' + '=';
			
 	var addy3a4f703c27557adab95912298ed7f1e5 = 'ms&#101;l&#105;g' + '&#64;';
	
 			addy3a4f703c27557adab95912298ed7f1e5 = addy3a4f703c27557adab95912298ed7f
 1e5 + 'tds' + '&#46;' + 'n&#101;t';
				var addy_text3a4f703c27557adab95912
 298ed7f1e5 = 'ms&#101;l&#105;g' + '&#64;' + 'tds' + '&#46;' + 'n&#101;t';do
 cument.getElementById('cloak3a4f703c27557adab95912298ed7f1e5').innerHTML +=
  '<a ' + path + '\'' + prefix + ':' + addy3a4f703c27557adab95912298ed7f1e5 
 + '\'>'+addy_text3a4f703c27557adab95912298ed7f1e5+'';
		. HR: $79 for King 
 sgl or 2-bed dbl. Mention Chess 920-725-8441. www.wischess.org. WI Chess To
 ur Event! Fox Valley Mall w/183 stores is 4 miles from the site! NS. \n
X-ALT-DESC;FMTTYPE=text/html:<p class="MsoNormal" style="text-align: justify; margin: 0in 0in 0pt;"><str
 ong style="mso-bidi-font-weight: normal;"><span style="font-family: 'Helvet
 icaNeueLT Std Cn','sans-serif'; font-size: 10pt;"><span style="color: #0000
 00;">A Heritage Event!</span></span></strong></p><p class="MsoNormal" style
 ="text-align: justify; margin: 0in 0in 0pt;"><strong style="mso-bidi-font-w
 eight: normal;"><span style="font-family: 'HelveticaNeueLT Std Cn','sans-se
 rif'; font-size: 10pt;"><span style="color: #000000;">Nov. 23-25, 54th Mart
 z Mem/North Central Open</span></span></strong></p><p><span style="color: #
 000000;"><span style="font-family: 'Bell Centennial Address','serif'; font-
 size: 10pt; mso-fareast-font-family: 'Times New Roman'; mso-bidi-font-famil
 y: 'Times New Roman'; mso-ansi-language: EN-US; mso-fareast-language: EN-US
 ; mso-bidi-language: AR-SA;">Holiday Inn-Neenah, 123 E. Wisconsin Ave., Nee
 nah, WI 54956. In 2 Sections, </span><strong style="mso-bidi-font-weight: n
 ormal;"><span style="font-family: 'HelveticaNeueLT Std Cn','sans-serif'; fo
 nt-size: 10pt; mso-fareast-font-family: 'Times New Roman'; mso-bidi-font-fa
 mily: 'Times New Roman'; mso-ansi-language: EN-US; mso-fareast-language: EN
 -US; mso-bidi-language: AR-SA;">Open:</span></strong><span style="font-fami
 ly: 'Bell Centennial Address','serif'; font-size: 10pt; mso-fareast-font-fa
 mily: 'Times New Roman'; mso-bidi-font-family: 'Times New Roman'; mso-ansi-
 language: EN-US; mso-fareast-language: EN-US; mso-bidi-language: AR-SA;"> 6
 SS, Rd. 1&5: G/120 D/5, Others: 45/120, G/60 D/5. </span><strong style="mso
 -bidi-font-weight: normal;"><span style="font-family: 'HelveticaNeueLT Std 
 Cn','sans-serif'; font-size: 10pt; mso-fareast-font-family: 'Times New Roma
 n'; mso-bidi-font-family: 'Times New Roman'; mso-ansi-language: EN-US; mso-
 fareast-language: EN-US; mso-bidi-language: AR-SA;">EF:</span></strong><spa
 n style="font-family: 'Bell Centennial Address','serif'; font-size: 10pt; m
 so-fareast-font-family: 'Times New Roman'; mso-bidi-font-family: 'Times New
  Roman'; mso-ansi-language: EN-US; mso-fareast-language: EN-US; mso-bidi-la
 nguage: AR-SA;"> $45 if mailed by 11/19. At site, e-mailed or phone entries
  are $5 more. </span><strong style="mso-bidi-font-weight: normal;"><span st
 yle="font-family: 'HelveticaNeueLT Std Cn','sans-serif'; font-size: 10pt; m
 so-fareast-font-family: 'Times New Roman'; mso-bidi-font-family: 'Times New
  Roman'; mso-ansi-language: EN-US; mso-fareast-language: EN-US; mso-bidi-la
 nguage: AR-SA;">$$b/45:</span></strong><span style="font-family: 'Bell Cent
 ennial Address','serif'; font-size: 10pt; mso-fareast-font-family: 'Times N
 ew Roman'; mso-bidi-font-family: 'Times New Roman'; mso-ansi-language: EN-U
 S; mso-fareast-language: EN-US; mso-bidi-language: AR-SA;"> $300-200-175. A
 -$160, B-$150, C-$140, D/E/Unr-$120. </span><strong style="mso-bidi-font-we
 ight: normal;"><span style="font-family: 'HelveticaNeueLT Std Cn','sans-ser
 if'; font-size: 10pt; mso-fareast-font-family: 'Times New Roman'; mso-bidi-
 font-family: 'Times New Roman'; mso-ansi-language: EN-US; mso-fareast-langu
 age: EN-US; mso-bidi-language: AR-SA;">Rds.:</span></strong><span style="fo
 nt-family: 'Bell Centennial Address','serif'; font-size: 10pt; mso-fareast-
 font-family: 'Times New Roman'; mso-bidi-font-family: 'Times New Roman'; ms
 o-ansi-language: EN-US; mso-fareast-language: EN-US; mso-bidi-language: AR-
 SA;"> 1-6; 10-5;10-3. Full point first round bye to pre-registered masters.
  Two half-point Byes available in either section. </span><strong style="mso
 -bidi-font-weight: normal;"><span style="font-family: 'HelveticaNeueLT Std 
 Cn','sans-serif'; font-size: 10pt; mso-fareast-font-family: 'Times New Roma
 n'; mso-bidi-font-family: 'Times New Roman'; mso-ansi-language: EN-US; mso-
 fareast-language: EN-US; mso-bidi-language: AR-SA;">Novice:</span></strong>
 <span style="font-family: 'Bell Centennial Address','serif'; font-size: 10p
 t; mso-fareast-font-family: 'Times New Roman'; mso-bidi-font-family: 'Times
  New Roman'; mso-ansi-language: EN-US; mso-fareast-language: EN-US; mso-bid
 i-language: AR-SA;"> 7SS, G/75, D/5, Open to Under 1200 or Unrated. </span>
 <strong style="mso-bidi-font-weight: normal;"><span style="font-family: 'He
 lveticaNeueLT Std Cn','sans-serif'; font-size: 10pt; mso-fareast-font-famil
 y: 'Times New Roman'; mso-bidi-font-family: 'Times New Roman'; mso-ansi-lan
 guage: EN-US; mso-fareast-language: EN-US; mso-bidi-language: AR-SA;">EF:</
 span></strong><span style="font-family: 'Bell Centennial Address','serif'; 
 font-size: 10pt; mso-fareast-font-family: 'Times New Roman'; mso-bidi-font-
 family: 'Times New Roman'; mso-ansi-language: EN-US; mso-fareast-language: 
 EN-US; mso-bidi-language: AR-SA;"> $20 if mailed by 11/19. At site, emailed
  or phone entries are $5 more. </span><strong style="mso-bidi-font-weight: 
 normal;"><span style="font-family: 'HelveticaNeueLT Std Cn','sans-serif'; f
 ont-size: 10pt; mso-fareast-font-family: 'Times New Roman'; mso-bidi-font-f
 amily: 'Times New Roman'; mso-ansi-language: EN-US; mso-fareast-language: E
 N-US; mso-bidi-language: AR-SA;">$$GTD:</span></strong><span style="font-fa
 mily: 'Bell Centennial Address','serif'; font-size: 10pt; mso-fareast-font-
 family: 'Times New Roman'; mso-bidi-font-family: 'Times New Roman'; mso-ans
 i-language: EN-US; mso-fareast-language: EN-US; mso-bidi-language: AR-SA;">
  $50-30. Trophies to Top 2, best 900, 800, U800, Unrated. </span><strong st
 yle="mso-bidi-font-weight: normal;"><span style="font-family: 'HelveticaNeu
 eLT Std Cn','sans-serif'; font-size: 10pt; mso-fareast-font-family: 'Times 
 New Roman'; mso-bidi-font-family: 'Times New Roman'; mso-ansi-language: EN-
 US; mso-fareast-language: EN-US; mso-bidi-language: AR-SA;">Rds.:</span></s
 trong><span style="font-family: 'Bell Centennial Address','serif'; font-siz
 e: 10pt; mso-fareast-font-family: 'Times New Roman'; mso-bidi-font-family: 
 'Times New Roman'; mso-ansi-language: EN-US; mso-fareast-language: EN-US; m
 so-bidi-language: AR-SA;"> 1:15-5, 10-1:30-5, 10-2. </span><strong style="m
 so-bidi-font-weight: normal;"><span style="font-family: 'HelveticaNeueLT St
 d Cn','sans-serif'; font-size: 10pt; mso-fareast-font-family: 'Times New Ro
 man'; mso-bidi-font-family: 'Times New Roman'; mso-ansi-language: EN-US; ms
 o-fareast-language: EN-US; mso-bidi-language: AR-SA;">ALL:</span></strong><
 span style="font-family: 'Bell Centennial Address','serif'; font-size: 10pt
 ; mso-fareast-font-family: 'Times New Roman'; mso-bidi-font-family: 'Times 
 New Roman'; mso-ansi-language: EN-US; mso-fareast-language: EN-US; mso-bidi
 -language: AR-SA;"> Checks payable to WCA. </span><strong style="mso-bidi-f
 ont-weight: normal;"><span style="font-family: 'HelveticaNeueLT Std Cn','sa
 ns-serif'; font-size: 10pt; mso-fareast-font-family: 'Times New Roman'; mso
 -bidi-font-family: 'Times New Roman'; mso-ansi-language: EN-US; mso-fareast
 -language: EN-US; mso-bidi-language: AR-SA;">Reg.:</span></strong><span sty
 le="font-family: 'Bell Centennial Address','serif'; font-size: 10pt; mso-fa
 reast-font-family: 'Times New Roman'; mso-bidi-font-family: 'Times New Roma
 n'; mso-ansi-language: EN-US; mso-fareast-language: EN-US; mso-bidi-languag
 e: AR-SA;"> 11:30-12:30 11/23. </span><strong style="mso-bidi-font-weight: 
 normal;"><span style="font-family: 'HelveticaNeueLT Std Cn','sans-serif'; f
 ont-size: 10pt; mso-fareast-font-family: 'Times New Roman'; mso-bidi-font-f
 amily: 'Times New Roman'; mso-ansi-language: EN-US; mso-fareast-language: E
 N-US; mso-bidi-language: AR-SA;">ENT:</span></strong><span style="font-fami
 ly: 'Bell Centennial Address','serif'; font-size: 10pt; mso-fareast-font-fa
 mily: 'Times New Roman'; mso-bidi-font-family: 'Times New Roman'; mso-ansi-
 language: EN-US; mso-fareast-language: EN-US; mso-bidi-language: AR-SA;"> M
 artz/North Central, Mike Selig - Director, 2895 W Fourth St, #B, Appleton, 
 WI 54914-4330, 920-739-7550. </span><strong style="mso-bidi-font-weight: no
 rmal;"><span style="font-family: 'HelveticaNeueLT Std Cn','sans-serif'; fon
 t-size: 10pt; mso-fareast-font-family: 'Times New Roman'; mso-bidi-font-fam
 ily: 'Times New Roman'; mso-ansi-language: EN-US; mso-fareast-language: EN-
 US; mso-bidi-language: AR-SA;">INFO:</span></strong><span style="font-famil
 y: 'Bell Centennial Address','serif'; font-size: 10pt; mso-fareast-font-fam
 ily: 'Times New Roman'; mso-bidi-font-family: 'Times New Roman'; mso-ansi-l
 anguage: EN-US; mso-fareast-language: EN-US; mso-bidi-language: AR-SA;"> <s
 pan id="cloak3a4f703c27557adab95912298ed7f1e5">This email address is being 
 protected from spambots. You need JavaScript enabled to view it.</span><scr
 ipt type='text/javascript'>
				document.getElementById('cloak3a4f703c27557
 adab95912298ed7f1e5').innerHTML = '';
				var prefix = '&#109;a' + 'i&#108;
 ' + '&#116;o';
				var path = 'hr' + 'ef' + '=';
				var addy3a4f703c27557a
 dab95912298ed7f1e5 = 'ms&#101;l&#105;g' + '&#64;';
				addy3a4f703c27557ada
 b95912298ed7f1e5 = addy3a4f703c27557adab95912298ed7f1e5 + 'tds' + '&#46;' +
  'n&#101;t';
				var addy_text3a4f703c27557adab95912298ed7f1e5 = 'ms&#101;l
 &#105;g' + '&#64;' + 'tds' + '&#46;' + 'n&#101;t';document.getElementById('
 cloak3a4f703c27557adab95912298ed7f1e5').innerHTML += '<a ' + path + '\'' + 
 prefix + ':' + addy3a4f703c27557adab95912298ed7f1e5 + '\'>'+addy_text3a4f70
 3c27557adab95912298ed7f1e5+'<\/a>';
		</script>. </span><strong style="mso-
 bidi-font-weight: normal;"><span style="font-family: 'HelveticaNeueLT Std C
 n','sans-serif'; font-size: 10pt; mso-fareast-font-family: 'Times New Roman
 '; mso-bidi-font-family: 'Times New Roman'; mso-ansi-language: EN-US; mso-f
 areast-language: EN-US; mso-bidi-language: AR-SA;">HR:</span></strong><span
  style="font-family: 'Bell Centennial Address','serif'; font-size: 10pt; ms
 o-fareast-font-family: 'Times New Roman'; mso-bidi-font-family: 'Times New 
 Roman'; mso-ansi-language: EN-US; mso-fareast-language: EN-US; mso-bidi-lan
 guage: AR-SA;"> $79 for King sgl or 2-bed dbl. Mention Chess 920-725-8441. 
 www.wischess.org. </span><strong style="mso-bidi-font-weight: normal;"><spa
 n style="font-family: 'HelveticaNeueLT Std Cn','sans-serif'; font-size: 10p
 t; mso-fareast-font-family: 'Times New Roman'; mso-bidi-font-family: 'Times
  New Roman'; mso-ansi-language: EN-US; mso-fareast-language: EN-US; mso-bid
 i-language: AR-SA;">WI Chess Tour Event! Fox Valley Mall w/183 stores is 4 
 miles from the site!</span></strong><span style="font-family: 'Bell Centenn
 ial Address','serif'; font-size: 10pt; mso-fareast-font-family: 'Times New 
 Roman'; mso-bidi-font-family: 'Times New Roman'; mso-ansi-language: EN-US; 
 mso-fareast-language: EN-US; mso-bidi-language: AR-SA;"> NS. </span></span>
 </p>
CONTACT:Mike Selig, This email address is being protected from spambots. You need JavaScript enabled to view it.
				document.getElementById('cloak8ca6e45b9cdb930339596643f08bd245').innerHTML = '';
				var prefix = '&#109;a' + 'i&#108;' + '&#116;o';
				var path = 'hr' + 'ef' + '=';
				var addy8ca6e45b9cdb930339596643f08bd245 = 'ms&#101;l&#105;g' + '&#64;';
				addy8ca6e45b9cdb930339596643f08bd245 = addy8ca6e45b9cdb930339596643f08bd245 + 'tds' + '&#46;' + 'n&#101;t';
				var addy_text8ca6e45b9cdb930339596643f08bd245 = 'ms&#101;l&#105;g' + '&#64;' + 'tds' + '&#46;' + 'n&#101;t';document.getElementById('cloak8ca6e45b9cdb930339596643f08bd245').innerHTML += '<a ' + path + '\'' + prefix + ':' + addy8ca6e45b9cdb930339596643f08bd245 + '\'>'+addy_text8ca6e45b9cdb930339596643f08bd245+'';
		, 920-739-7550
DTSTAMP:20260423T101645
DTSTART;TZID=America/Chicago;VALUE=DATE:20121123
DTEND;TZID=America/Chicago;VALUE=DATE:20121126
SEQUENCE:0
TRANSP:OPAQUE
END:VEVENT
END:VCALENDAR