BEGIN:VCALENDAR
VERSION:2.0
PRODID:-//jEvents 2.0 for Joomla//EN
CALSCALE:GREGORIAN
METHOD:PUBLISH
BEGIN:VTIMEZONE
TZID:America/Chicago
BEGIN:STANDARD
DTSTART:20111106T010000
RDATE:20120311T030000
TZOFFSETFROM:-0500
TZOFFSETTO:-0600
TZNAME:America/Chicago CST
END:STANDARD
BEGIN:STANDARD
DTSTART:20121104T010000
RDATE:20130310T030000
TZOFFSETFROM:-0500
TZOFFSETTO:-0600
TZNAME:America/Chicago CST
END:STANDARD
BEGIN:STANDARD
DTSTART:20131103T010000
RDATE:20140309T030000
TZOFFSETFROM:-0500
TZOFFSETTO:-0600
TZNAME:America/Chicago CST
END:STANDARD
BEGIN:STANDARD
DTSTART:20141102T010000
RDATE:20150308T030000
TZOFFSETFROM:-0500
TZOFFSETTO:-0600
TZNAME:America/Chicago CST
END:STANDARD
BEGIN:STANDARD
DTSTART:20151101T010000
RDATE:20160313T030000
TZOFFSETFROM:-0500
TZOFFSETTO:-0600
TZNAME:America/Chicago CST
END:STANDARD
BEGIN:STANDARD
DTSTART:20161106T010000
RDATE:20170312T030000
TZOFFSETFROM:-0500
TZOFFSETTO:-0600
TZNAME:America/Chicago CST
END:STANDARD
BEGIN:STANDARD
DTSTART:20171105T010000
RDATE:20180311T030000
TZOFFSETFROM:-0500
TZOFFSETTO:-0600
TZNAME:America/Chicago CST
END:STANDARD
BEGIN:STANDARD
DTSTART:20181104T010000
RDATE:20190310T030000
TZOFFSETFROM:-0500
TZOFFSETTO:-0600
TZNAME:America/Chicago CST
END:STANDARD
BEGIN:STANDARD
DTSTART:20191103T010000
RDATE:20200308T030000
TZOFFSETFROM:-0500
TZOFFSETTO:-0600
TZNAME:America/Chicago CST
END:STANDARD
BEGIN:STANDARD
DTSTART:20201101T010000
RDATE:20210314T030000
TZOFFSETFROM:-0500
TZOFFSETTO:-0600
TZNAME:America/Chicago CST
END:STANDARD
BEGIN:STANDARD
DTSTART:20211107T010000
RDATE:20220313T030000
TZOFFSETFROM:-0500
TZOFFSETTO:-0600
TZNAME:America/Chicago CST
END:STANDARD
BEGIN:STANDARD
DTSTART:20221106T010000
RDATE:20230312T030000
TZOFFSETFROM:-0500
TZOFFSETTO:-0600
TZNAME:America/Chicago CST
END:STANDARD
BEGIN:STANDARD
DTSTART:20231105T010000
RDATE:20240310T030000
TZOFFSETFROM:-0500
TZOFFSETTO:-0600
TZNAME:America/Chicago CST
END:STANDARD
BEGIN:STANDARD
DTSTART:20241103T010000
RDATE:20250309T030000
TZOFFSETFROM:-0500
TZOFFSETTO:-0600
TZNAME:America/Chicago CST
END:STANDARD
BEGIN:STANDARD
DTSTART:20251102T010000
RDATE:20260308T030000
TZOFFSETFROM:-0500
TZOFFSETTO:-0600
TZNAME:America/Chicago CST
END:STANDARD
BEGIN:STANDARD
DTSTART:20261101T010000
RDATE:20270314T030000
TZOFFSETFROM:-0500
TZOFFSETTO:-0600
TZNAME:America/Chicago CST
END:STANDARD
BEGIN:STANDARD
DTSTART:20271107T010000
RDATE:20280312T030000
TZOFFSETFROM:-0500
TZOFFSETTO:-0600
TZNAME:America/Chicago CST
END:STANDARD
BEGIN:STANDARD
DTSTART:20281105T010000
RDATE:20290311T030000
TZOFFSETFROM:-0500
TZOFFSETTO:-0600
TZNAME:America/Chicago CST
END:STANDARD
BEGIN:DAYLIGHT
DTSTART:20111013T000000
RDATE:20111106T010000
TZOFFSETFROM:-0600
TZOFFSETTO:-0500
TZNAME:America/Chicago CDT
END:DAYLIGHT
BEGIN:DAYLIGHT
DTSTART:20120311T030000
RDATE:20121104T010000
TZOFFSETFROM:-0600
TZOFFSETTO:-0500
TZNAME:America/Chicago CDT
END:DAYLIGHT
BEGIN:DAYLIGHT
DTSTART:20130310T030000
RDATE:20131103T010000
TZOFFSETFROM:-0600
TZOFFSETTO:-0500
TZNAME:America/Chicago CDT
END:DAYLIGHT
BEGIN:DAYLIGHT
DTSTART:20140309T030000
RDATE:20141102T010000
TZOFFSETFROM:-0600
TZOFFSETTO:-0500
TZNAME:America/Chicago CDT
END:DAYLIGHT
BEGIN:DAYLIGHT
DTSTART:20150308T030000
RDATE:20151101T010000
TZOFFSETFROM:-0600
TZOFFSETTO:-0500
TZNAME:America/Chicago CDT
END:DAYLIGHT
BEGIN:DAYLIGHT
DTSTART:20160313T030000
RDATE:20161106T010000
TZOFFSETFROM:-0600
TZOFFSETTO:-0500
TZNAME:America/Chicago CDT
END:DAYLIGHT
BEGIN:DAYLIGHT
DTSTART:20170312T030000
RDATE:20171105T010000
TZOFFSETFROM:-0600
TZOFFSETTO:-0500
TZNAME:America/Chicago CDT
END:DAYLIGHT
BEGIN:DAYLIGHT
DTSTART:20180311T030000
RDATE:20181104T010000
TZOFFSETFROM:-0600
TZOFFSETTO:-0500
TZNAME:America/Chicago CDT
END:DAYLIGHT
BEGIN:DAYLIGHT
DTSTART:20190310T030000
RDATE:20191103T010000
TZOFFSETFROM:-0600
TZOFFSETTO:-0500
TZNAME:America/Chicago CDT
END:DAYLIGHT
BEGIN:DAYLIGHT
DTSTART:20200308T030000
RDATE:20201101T010000
TZOFFSETFROM:-0600
TZOFFSETTO:-0500
TZNAME:America/Chicago CDT
END:DAYLIGHT
BEGIN:DAYLIGHT
DTSTART:20210314T030000
RDATE:20211107T010000
TZOFFSETFROM:-0600
TZOFFSETTO:-0500
TZNAME:America/Chicago CDT
END:DAYLIGHT
BEGIN:DAYLIGHT
DTSTART:20220313T030000
RDATE:20221106T010000
TZOFFSETFROM:-0600
TZOFFSETTO:-0500
TZNAME:America/Chicago CDT
END:DAYLIGHT
BEGIN:DAYLIGHT
DTSTART:20230312T030000
RDATE:20231105T010000
TZOFFSETFROM:-0600
TZOFFSETTO:-0500
TZNAME:America/Chicago CDT
END:DAYLIGHT
BEGIN:DAYLIGHT
DTSTART:20240310T030000
RDATE:20241103T010000
TZOFFSETFROM:-0600
TZOFFSETTO:-0500
TZNAME:America/Chicago CDT
END:DAYLIGHT
BEGIN:DAYLIGHT
DTSTART:20250309T030000
RDATE:20251102T010000
TZOFFSETFROM:-0600
TZOFFSETTO:-0500
TZNAME:America/Chicago CDT
END:DAYLIGHT
BEGIN:DAYLIGHT
DTSTART:20260308T030000
RDATE:20261101T010000
TZOFFSETFROM:-0600
TZOFFSETTO:-0500
TZNAME:America/Chicago CDT
END:DAYLIGHT
BEGIN:DAYLIGHT
DTSTART:20270314T030000
RDATE:20271107T010000
TZOFFSETFROM:-0600
TZOFFSETTO:-0500
TZNAME:America/Chicago CDT
END:DAYLIGHT
BEGIN:DAYLIGHT
DTSTART:20280312T030000
RDATE:20281105T010000
TZOFFSETFROM:-0600
TZOFFSETTO:-0500
TZNAME:America/Chicago CDT
END:DAYLIGHT
END:VTIMEZONE
BEGIN:VEVENT
UID:54f97435ea1eacb0a45e7302b59353fa
CATEGORIES:Tournaments
CREATED:20120907T141348
SUMMARY:National Chess Day! Time is Ticking G/30
LOCATION:Olympia Resort 1350 Royale Mile Road Oconomowoc\, WI 53066
DESCRIPTION:\n When: Saturday October 13th\n On site Registration is from 8:30 am – 9:3
 0 am.\n Entry Fees: Open and RBO ( U 1200 ) is $12 by October 11th\n Non Ra
 ted Scholastic ( U 18 ) and Non Rated Adults (18+) is $8 by October 11th\n 
 After October 11th is $3 more for all sections.\n Time Control: Game in 30 
 Minutes. If using a digital clock, G/30 with 5 second delay.\n Rounds: 10 a
 m - 11:30 am - 1 pm - 2:30 pm - 4 pm\n Prizes: Open: 1st $100 (Guaranteed).
  Both Open and RBO sections will have donated book prizes for selected winn
 ers \n Both Non Rated sections winners will Receive a free year USCF Member
 ship after the tournament. \n Everyone else will receive a certificate in c
 ompletion of the “National Chess Day! Time Is Ticking! \n G/30 chess tourna
 ment”\n Advance entries: (Make check payable to) \n Benjamin Corcoran \n 27
 11 N. University Dr. #64 Waukesha, WI 53188\n For other information's, chec
 k out www.benzochess.com\nFor printable flyer go to <a href="http://benzoch
 ess.com/TimeisTickingG30.pdf">www.benzochess.com/TimeisTickingG30.pdf</a>\n
X-ALT-DESC;FMTTYPE=text/html:<p><br /> <strong>When</strong>: Saturday October 13th<br /> On site Regist
 ration is from 8:30 am – 9:30 am.<br /> <strong>Entry Fees</strong>: Open a
 nd RBO ( U 1200 ) is $12 by October 11th<br /> Non Rated Scholastic ( U 18 
 ) and Non Rated Adults (18+) is $8 by October 11th<br /> After October 11th
  is $3 more for all sections.<br /> <strong>Time Control:</strong> Game in 
 30 Minutes. If using a digital clock, G/30 with 5 second delay.<br /> <stro
 ng>Rounds:</strong> 10 am - 11:30 am - 1 pm - 2:30 pm - 4 pm<br /> <strong>
 Prizes:</strong> Open: 1st $100 (Guaranteed). Both Open and RBO sections wi
 ll have donated book prizes for selected winners <br /> Both Non Rated sect
 ions winners will Receive a free year USCF Membership after the tournament.
  <br /> Everyone else will receive a certificate in completion of the “Nati
 onal Chess Day! Time Is Ticking! <br /> G/30 chess tournament”<br /> <stron
 g>Advance entries:</strong> (Make check payable to) <br /> Benjamin Corcora
 n <br /> 2711 N. University Dr. #64 Waukesha, WI 53188<br /> For other info
 rmation's, check out <a href="https://wischess.org/www.benzochess.com">www.
 benzochess.com</a></p><p>For printable flyer go to <a href="http://benzoche
 ss.com/TimeisTickingG30.pdf">www.benzochess.com/TimeisTickingG30.pdf</a></p
 >
CONTACT:Ben at (262) 506-4203 or send an E-mail to This email address is being protected from spambots. You need JavaScript enabled to view it.
				document.getElementById('cloak448bf236a4fb8467cc71f466c612486d').innerHTML = '';
				var prefix = '&#109;a' + 'i&#108;' + '&#116;o';
				var path = 'hr' + 'ef' + '=';
				var addy448bf236a4fb8467cc71f466c612486d = 'b&#101;nz&#111;ch&#101;ss' + '&#64;';
				addy448bf236a4fb8467cc71f466c612486d = addy448bf236a4fb8467cc71f466c612486d + 'ch&#101;ss' + '&#46;' + 'c&#111;m';
				var addy_text448bf236a4fb8467cc71f466c612486d = 'b&#101;nz&#111;ch&#101;ss' + '&#64;' + 'ch&#101;ss' + '&#46;' + 'c&#111;m';document.getElementById('cloak448bf236a4fb8467cc71f466c612486d').innerHTML += '<a ' + path + '\'' + prefix + ':' + addy448bf236a4fb8467cc71f466c612486d + '\'>'+addy_text448bf236a4fb8467cc71f466c612486d+'';
		
DTSTAMP:20260423T144328
DTSTART;TZID=America/Chicago;VALUE=DATE:20121013
DTEND;TZID=America/Chicago;VALUE=DATE:20121014
SEQUENCE:0
TRANSP:OPAQUE
END:VEVENT
END:VCALENDAR