BEGIN:VCALENDAR
VERSION:2.0
PRODID:-//jEvents 2.0 for Joomla//EN
CALSCALE:GREGORIAN
METHOD:PUBLISH
BEGIN:VTIMEZONE
TZID:America/Chicago
BEGIN:STANDARD
DTSTART:20121104T010000
RDATE:20130310T030000
TZOFFSETFROM:-0500
TZOFFSETTO:-0600
TZNAME:America/Chicago CST
END:STANDARD
BEGIN:STANDARD
DTSTART:20131103T010000
RDATE:20140309T030000
TZOFFSETFROM:-0500
TZOFFSETTO:-0600
TZNAME:America/Chicago CST
END:STANDARD
BEGIN:STANDARD
DTSTART:20141102T010000
RDATE:20150308T030000
TZOFFSETFROM:-0500
TZOFFSETTO:-0600
TZNAME:America/Chicago CST
END:STANDARD
BEGIN:STANDARD
DTSTART:20151101T010000
RDATE:20160313T030000
TZOFFSETFROM:-0500
TZOFFSETTO:-0600
TZNAME:America/Chicago CST
END:STANDARD
BEGIN:STANDARD
DTSTART:20161106T010000
RDATE:20170312T030000
TZOFFSETFROM:-0500
TZOFFSETTO:-0600
TZNAME:America/Chicago CST
END:STANDARD
BEGIN:STANDARD
DTSTART:20171105T010000
RDATE:20180311T030000
TZOFFSETFROM:-0500
TZOFFSETTO:-0600
TZNAME:America/Chicago CST
END:STANDARD
BEGIN:STANDARD
DTSTART:20181104T010000
RDATE:20190310T030000
TZOFFSETFROM:-0500
TZOFFSETTO:-0600
TZNAME:America/Chicago CST
END:STANDARD
BEGIN:STANDARD
DTSTART:20191103T010000
RDATE:20200308T030000
TZOFFSETFROM:-0500
TZOFFSETTO:-0600
TZNAME:America/Chicago CST
END:STANDARD
BEGIN:STANDARD
DTSTART:20201101T010000
RDATE:20210314T030000
TZOFFSETFROM:-0500
TZOFFSETTO:-0600
TZNAME:America/Chicago CST
END:STANDARD
BEGIN:STANDARD
DTSTART:20211107T010000
RDATE:20220313T030000
TZOFFSETFROM:-0500
TZOFFSETTO:-0600
TZNAME:America/Chicago CST
END:STANDARD
BEGIN:STANDARD
DTSTART:20221106T010000
RDATE:20230312T030000
TZOFFSETFROM:-0500
TZOFFSETTO:-0600
TZNAME:America/Chicago CST
END:STANDARD
BEGIN:STANDARD
DTSTART:20231105T010000
RDATE:20240310T030000
TZOFFSETFROM:-0500
TZOFFSETTO:-0600
TZNAME:America/Chicago CST
END:STANDARD
BEGIN:STANDARD
DTSTART:20241103T010000
RDATE:20250309T030000
TZOFFSETFROM:-0500
TZOFFSETTO:-0600
TZNAME:America/Chicago CST
END:STANDARD
BEGIN:STANDARD
DTSTART:20251102T010000
RDATE:20260308T030000
TZOFFSETFROM:-0500
TZOFFSETTO:-0600
TZNAME:America/Chicago CST
END:STANDARD
BEGIN:STANDARD
DTSTART:20261101T010000
RDATE:20270314T030000
TZOFFSETFROM:-0500
TZOFFSETTO:-0600
TZNAME:America/Chicago CST
END:STANDARD
BEGIN:STANDARD
DTSTART:20271107T010000
RDATE:20280312T030000
TZOFFSETFROM:-0500
TZOFFSETTO:-0600
TZNAME:America/Chicago CST
END:STANDARD
BEGIN:STANDARD
DTSTART:20281105T010000
RDATE:20290311T030000
TZOFFSETFROM:-0500
TZOFFSETTO:-0600
TZNAME:America/Chicago CST
END:STANDARD
BEGIN:DAYLIGHT
DTSTART:20120315T000000
RDATE:20121104T010000
TZOFFSETFROM:-0600
TZOFFSETTO:-0500
TZNAME:America/Chicago CDT
END:DAYLIGHT
BEGIN:DAYLIGHT
DTSTART:20130310T030000
RDATE:20131103T010000
TZOFFSETFROM:-0600
TZOFFSETTO:-0500
TZNAME:America/Chicago CDT
END:DAYLIGHT
BEGIN:DAYLIGHT
DTSTART:20140309T030000
RDATE:20141102T010000
TZOFFSETFROM:-0600
TZOFFSETTO:-0500
TZNAME:America/Chicago CDT
END:DAYLIGHT
BEGIN:DAYLIGHT
DTSTART:20150308T030000
RDATE:20151101T010000
TZOFFSETFROM:-0600
TZOFFSETTO:-0500
TZNAME:America/Chicago CDT
END:DAYLIGHT
BEGIN:DAYLIGHT
DTSTART:20160313T030000
RDATE:20161106T010000
TZOFFSETFROM:-0600
TZOFFSETTO:-0500
TZNAME:America/Chicago CDT
END:DAYLIGHT
BEGIN:DAYLIGHT
DTSTART:20170312T030000
RDATE:20171105T010000
TZOFFSETFROM:-0600
TZOFFSETTO:-0500
TZNAME:America/Chicago CDT
END:DAYLIGHT
BEGIN:DAYLIGHT
DTSTART:20180311T030000
RDATE:20181104T010000
TZOFFSETFROM:-0600
TZOFFSETTO:-0500
TZNAME:America/Chicago CDT
END:DAYLIGHT
BEGIN:DAYLIGHT
DTSTART:20190310T030000
RDATE:20191103T010000
TZOFFSETFROM:-0600
TZOFFSETTO:-0500
TZNAME:America/Chicago CDT
END:DAYLIGHT
BEGIN:DAYLIGHT
DTSTART:20200308T030000
RDATE:20201101T010000
TZOFFSETFROM:-0600
TZOFFSETTO:-0500
TZNAME:America/Chicago CDT
END:DAYLIGHT
BEGIN:DAYLIGHT
DTSTART:20210314T030000
RDATE:20211107T010000
TZOFFSETFROM:-0600
TZOFFSETTO:-0500
TZNAME:America/Chicago CDT
END:DAYLIGHT
BEGIN:DAYLIGHT
DTSTART:20220313T030000
RDATE:20221106T010000
TZOFFSETFROM:-0600
TZOFFSETTO:-0500
TZNAME:America/Chicago CDT
END:DAYLIGHT
BEGIN:DAYLIGHT
DTSTART:20230312T030000
RDATE:20231105T010000
TZOFFSETFROM:-0600
TZOFFSETTO:-0500
TZNAME:America/Chicago CDT
END:DAYLIGHT
BEGIN:DAYLIGHT
DTSTART:20240310T030000
RDATE:20241103T010000
TZOFFSETFROM:-0600
TZOFFSETTO:-0500
TZNAME:America/Chicago CDT
END:DAYLIGHT
BEGIN:DAYLIGHT
DTSTART:20250309T030000
RDATE:20251102T010000
TZOFFSETFROM:-0600
TZOFFSETTO:-0500
TZNAME:America/Chicago CDT
END:DAYLIGHT
BEGIN:DAYLIGHT
DTSTART:20260308T030000
RDATE:20261101T010000
TZOFFSETFROM:-0600
TZOFFSETTO:-0500
TZNAME:America/Chicago CDT
END:DAYLIGHT
BEGIN:DAYLIGHT
DTSTART:20270314T030000
RDATE:20271107T010000
TZOFFSETFROM:-0600
TZOFFSETTO:-0500
TZNAME:America/Chicago CDT
END:DAYLIGHT
BEGIN:DAYLIGHT
DTSTART:20280312T030000
RDATE:20281105T010000
TZOFFSETFROM:-0600
TZOFFSETTO:-0500
TZNAME:America/Chicago CDT
END:DAYLIGHT
END:VTIMEZONE
BEGIN:VEVENT
UID:b0efac240efb316961feefc6f672fa74
CATEGORIES:Tournaments
CREATED:20120922T145111
SUMMARY:Wisconsin Scholastic Chess Championships
LOCATION:Reeve Memorial Student Union\, UW-Oshkosh
DESCRIPTION:The Official Scholastic Chess Championship for Wisconsin!\nIn 6 sections.  
 Varsity Divisions 1, 2 and 3 are 5 round, 5 person, boarded team, team Swis
 s.  The Junior Varsity, K-8 and K-5 sections are individual 6 round Swisses
 .  All award individual and team trophies.  Teams must be from the same sch
 ool.  Request a full flyer from the organizer for complete team formation r
 ules.\nThis event is not USCF rated but uses USCF ratings for seeding and p
 airings.\nSite is Reeve Student Union, UW-Oshkosh, 800 Algoma Blvd., Oshkos
 h.  Lodging is available in Gruenhagen Conference Center, a 4 minute walk t
 o the Union.\nEntry fee is $15 if received before March 9, $19 if received 
 March 9-14 and $24 on site.\nFor a full flyer, e-mail the organizer or phon
 e the organizer at 608-467-8510 evenings before March 15 or weekends.\n\n -
  Entries Received (http://www.wischess.org/index.php/component/content/arti
 cle/35-state-scholastic/forms/101-schentr)
X-ALT-DESC;FMTTYPE=text/html:<p><em><strong>The Official Scholastic Chess Championship for Wisconsin!</s
 trong></em></p><p>In 6 sections.  Varsity Divisions 1, 2 and 3 are 5 round,
  5 person, boarded team, team Swiss.  The Junior Varsity, K-8 and K-5 secti
 ons are individual 6 round Swisses.  All award individual and team trophies
 .  Teams must be from the same school.  Request a full flyer from the organ
 izer for complete team formation rules.</p><p>This event is not USCF rated 
 but uses USCF ratings for seeding and pairings.</p><p>Site is Reeve Student
  Union, UW-Oshkosh, 800 Algoma Blvd., Oshkosh.  Lodging is available in Gru
 enhagen Conference Center, a 4 minute walk to the Union.</p><p>Entry fee is
  $15 if received before March 9, $19 if received March 9-14 and $24 on site
 .</p><p>For a full flyer, e-mail the organizer or phone the organizer at 60
 8-467-8510 evenings before March 15 or weekends.</p><ul><li><a href="http:/
 /www.wischess.org/index.php/component/content/article/35-state-scholastic/f
 orms/101-schentr">Entries Received</a></li></ul>
CONTACT:Mike Nietman This email address is being protected from spambots. You need JavaScript enabled to view it.
				document.getElementById('cloakadbbfe7d8eb35a8f978b577d162a02e0').innerHTML = '';
				var prefix = '&#109;a' + 'i&#108;' + '&#116;o';
				var path = 'hr' + 'ef' + '=';
				var addyadbbfe7d8eb35a8f978b577d162a02e0 = 'm&#105;k&#101;.n&#105;&#101;tm&#97;n' + '&#64;';
				addyadbbfe7d8eb35a8f978b577d162a02e0 = addyadbbfe7d8eb35a8f978b577d162a02e0 + 'ch&#97;rt&#101;r' + '&#46;' + 'n&#101;t';
				var addy_textadbbfe7d8eb35a8f978b577d162a02e0 = 'm&#105;k&#101;.n&#105;&#101;tm&#97;n' + '&#64;' + 'ch&#97;rt&#101;r' + '&#46;' + 'n&#101;t';document.getElementById('cloakadbbfe7d8eb35a8f978b577d162a02e0').innerHTML += '<a ' + path + '\'' + prefix + ':' + addyadbbfe7d8eb35a8f978b577d162a02e0 + '\'>'+addy_textadbbfe7d8eb35a8f978b577d162a02e0+'';
		
DTSTAMP:20260423T010432
DTSTART;TZID=America/Chicago;VALUE=DATE:20130316
DTEND;TZID=America/Chicago;VALUE=DATE:20130318
SEQUENCE:0
TRANSP:OPAQUE
END:VEVENT
END:VCALENDAR