BEGIN:VCALENDAR
VERSION:2.0
PRODID:-//jEvents 2.0 for Joomla//EN
CALSCALE:GREGORIAN
METHOD:PUBLISH
BEGIN:VTIMEZONE
TZID:America/Chicago
BEGIN:STANDARD
DTSTART:20200306T100000
RDATE:20200308T030000
TZOFFSETFROM:-0500
TZOFFSETTO:-0600
TZNAME:America/Chicago CST
END:STANDARD
BEGIN:STANDARD
DTSTART:20201101T010000
RDATE:20210314T030000
TZOFFSETFROM:-0500
TZOFFSETTO:-0600
TZNAME:America/Chicago CST
END:STANDARD
BEGIN:STANDARD
DTSTART:20211107T010000
RDATE:20220313T030000
TZOFFSETFROM:-0500
TZOFFSETTO:-0600
TZNAME:America/Chicago CST
END:STANDARD
BEGIN:STANDARD
DTSTART:20221106T010000
RDATE:20230312T030000
TZOFFSETFROM:-0500
TZOFFSETTO:-0600
TZNAME:America/Chicago CST
END:STANDARD
BEGIN:STANDARD
DTSTART:20231105T010000
RDATE:20240310T030000
TZOFFSETFROM:-0500
TZOFFSETTO:-0600
TZNAME:America/Chicago CST
END:STANDARD
BEGIN:STANDARD
DTSTART:20241103T010000
RDATE:20250309T030000
TZOFFSETFROM:-0500
TZOFFSETTO:-0600
TZNAME:America/Chicago CST
END:STANDARD
BEGIN:STANDARD
DTSTART:20251102T010000
RDATE:20260308T030000
TZOFFSETFROM:-0500
TZOFFSETTO:-0600
TZNAME:America/Chicago CST
END:STANDARD
BEGIN:STANDARD
DTSTART:20261101T010000
RDATE:20270314T030000
TZOFFSETFROM:-0500
TZOFFSETTO:-0600
TZNAME:America/Chicago CST
END:STANDARD
BEGIN:STANDARD
DTSTART:20271107T010000
RDATE:20280312T030000
TZOFFSETFROM:-0500
TZOFFSETTO:-0600
TZNAME:America/Chicago CST
END:STANDARD
BEGIN:STANDARD
DTSTART:20281105T010000
RDATE:20290311T030000
TZOFFSETFROM:-0500
TZOFFSETTO:-0600
TZNAME:America/Chicago CST
END:STANDARD
BEGIN:DAYLIGHT
DTSTART:20200308T030000
RDATE:20201101T010000
TZOFFSETFROM:-0600
TZOFFSETTO:-0500
TZNAME:America/Chicago CDT
END:DAYLIGHT
BEGIN:DAYLIGHT
DTSTART:20210314T030000
RDATE:20211107T010000
TZOFFSETFROM:-0600
TZOFFSETTO:-0500
TZNAME:America/Chicago CDT
END:DAYLIGHT
BEGIN:DAYLIGHT
DTSTART:20220313T030000
RDATE:20221106T010000
TZOFFSETFROM:-0600
TZOFFSETTO:-0500
TZNAME:America/Chicago CDT
END:DAYLIGHT
BEGIN:DAYLIGHT
DTSTART:20230312T030000
RDATE:20231105T010000
TZOFFSETFROM:-0600
TZOFFSETTO:-0500
TZNAME:America/Chicago CDT
END:DAYLIGHT
BEGIN:DAYLIGHT
DTSTART:20240310T030000
RDATE:20241103T010000
TZOFFSETFROM:-0600
TZOFFSETTO:-0500
TZNAME:America/Chicago CDT
END:DAYLIGHT
BEGIN:DAYLIGHT
DTSTART:20250309T030000
RDATE:20251102T010000
TZOFFSETFROM:-0600
TZOFFSETTO:-0500
TZNAME:America/Chicago CDT
END:DAYLIGHT
BEGIN:DAYLIGHT
DTSTART:20260308T030000
RDATE:20261101T010000
TZOFFSETFROM:-0600
TZOFFSETTO:-0500
TZNAME:America/Chicago CDT
END:DAYLIGHT
BEGIN:DAYLIGHT
DTSTART:20270314T030000
RDATE:20271107T010000
TZOFFSETFROM:-0600
TZOFFSETTO:-0500
TZNAME:America/Chicago CDT
END:DAYLIGHT
BEGIN:DAYLIGHT
DTSTART:20280312T030000
RDATE:20281105T010000
TZOFFSETFROM:-0600
TZOFFSETTO:-0500
TZNAME:America/Chicago CDT
END:DAYLIGHT
END:VTIMEZONE
BEGIN:VEVENT
UID:3928a91b574b825e7c225bbd0163de5c
CATEGORIES:Tournaments
CREATED:20210223T215538
SUMMARY:$1,000 Sunday Snowman Bonanza - US Chess Online Rated Event
LOCATION:Online
DESCRIPTION:This event takes place on a Sunday\nDATE &amp; TIME: Sunday, March 7 at 10:
 00am Central Time. This event is open to K-12 students. Current US Chess me
 mbership is required (you may join or renew your membership here (https://n
 ew.uschess.org/become-member)).\nREGISTER HERE: <a href="https://www.kingre
 gistration.com/event/SundaySnowmanBonanza">$1,000 Sunday Snowman Bonanza - 
 US Chess Online Rated Event (kingregistration.com)</a>\nFREE GAME ANALYSIS:
  All participants will be invited to an analysis session via Zoom with titl
 ed players upon conclusion of their section!\nPLAYING SITE: https://lichess
 .org/ (https://eur06.safelinks.protection.outlook.com/?url=https%3A%2F%2Fli
 chess.org%2F&amp;data=02%7C01%7C%7C725308d02afa4a30aff708d86e30d0a9%7C84df9
 e7fe9f640afb435aaaaaaaaaaaa%7C1%7C0%7C637380503216089450&amp;sdata=IhqurSi3
 qek6q8cttY7ZR7VjPMqIEkqYDxk%2BXoOi6ZE%3D&amp;reserved=0) Players must join 
 lichess. Membership is free.\nPRIZES: $1,000 in Amazon Gift Cards (b/100 to
 tal). In case of ties, the prize will be split equally between tied players
 . One prize per person. Prizes may take up to a week after the event conclu
 des as games need to be checked for fair play violations. These checks are 
 done through the proprietary methods used by lichess and independent analys
 is by tournament organizers.\nENTRY FEE: $30. Please provide correct email 
 address during registration: link and password for the tournament will be e
 mailed to that address. If the link is not received by 8:00am the next morn
 ing, please contact the organizers at This email address is being protected
  from spambots. You need JavaScript enabled to view it.
				document.getEle
 mentById('cloakcb42c337f8e252b44cb4d9dde36874a0').innerHTML = '';
				var p
 refix = '&#109;a' + 'i&#108;' + '&#116;o';
				var path = 'hr' + 'ef' + '='
 ;
				var addycb42c337f8e252b44cb4d9dde36874a0 = 'td' + '&#64;';
				addycb
 42c337f8e252b44cb4d9dde36874a0 = addycb42c337f8e252b44cb4d9dde36874a0 + '&#
 105;&#97;-ch&#101;ss' + '&#46;' + 'c&#111;m';
				var addy_textcb42c337f8e2
 52b44cb4d9dde36874a0 = 'td' + '&#64;' + '&#105;&#97;-ch&#101;ss' + '&#46;' 
 + 'c&#111;m';document.getElementById('cloakcb42c337f8e252b44cb4d9dde36874a0
 ').innerHTML += '<a ' + path + '\'' + prefix + ':' + addycb42c337f8e252b44c
 b4d9dde36874a0 + '\'>'+addy_textcb42c337f8e252b44cb4d9dde36874a0+'';
		 For
  this event the earliest the links and passwords will be sent is March 1st 
 (Monday prior).\nBYES and LATE REGISTRATION: Online registration closes on 
 March 7th at 9:45am Central Time. Contact This email address is being prote
 cted from spambots. You need JavaScript enabled to view it.
				document.ge
 tElementById('cloakcc00975761a759996bd72effbfda9d65').innerHTML = '';
				v
 ar prefix = '&#109;a' + 'i&#108;' + '&#116;o';
				var path = 'hr' + 'ef' +
  '=';
				var addycc00975761a759996bd72effbfda9d65 = 'td' + '&#64;';
				ad
 dycc00975761a759996bd72effbfda9d65 = addycc00975761a759996bd72effbfda9d65 +
  '&#105;&#97;-ch&#101;ss' + '&#46;' + 'c&#111;m';
				var addy_textcc009757
 61a759996bd72effbfda9d65 = 'td' + '&#64;' + '&#105;&#97;-ch&#101;ss' + '&#4
 6;' + 'c&#111;m';document.getElementById('cloakcc00975761a759996bd72effbfda
 9d65').innerHTML += '<a ' + path + '\'' + prefix + ':' + addycc00975761a759
 996bd72effbfda9d65 + '\'>'+addy_textcc00975761a759996bd72effbfda9d65+'';
		
  if you wish to register after registration is closed. Players may request 
 a 1/2 bye in round one (players who "late join" after 10:00am will also rec
 eive a 1/2 bye). No other 1/2 byes can be requested. \nFORMAT AND TIME CONT
 ROL: G/10+5. All three sections are a 5-round Swiss. Rounds 2, 3, 4, and 5 
 will be paired five minutes after completion of the final game in the secti
 on, so each section will run as an independent event. You must be logged in
  and have joined the tournament to be paired.\nTHREE SECTIONS: All players 
 must have current US Chess Membership. Only US Chess Online Quick ratings a
 re affected.\nK-12 Section (all students can enter, but grade 6/below are e
 ligible only for top three prizes)\n\n - 1st $70\n - 2nd $50\n - 3rd $40\n 
 - top grade 12 $40\n - top grade 11 $40\n - top grade 10 $40\n - top grade 
 9   $40\n - top grade 8 $40\n - top grade 7 $40K-6 Section (students in gra
 des K-6 can enter, but grade 3/below are eligible only for top three prizes
 )\n\n - 1st $70\n - 2nd $50\n - 3rd $40\n - top grade 6 $40\n - top grade 5
  $40\n - top grade 4 $40K-3 Section (students in grade 3 and younger can en
 ter)\n\n - 1st $70\n - 2nd $50\n - 3rd $40\n - top grade 3 $40\n - top grad
 e 2 $40\n - top grade 1 $40\n - top K/below $40QUESTIONS: Please email any 
 questions to This email address is being protected from spambots. You need 
 JavaScript enabled to view it.
				document.getElementById('cloak3e8d46f0cf
 e286da07991b7e15c97ce4').innerHTML = '';
				var prefix = '&#109;a' + 'i&#1
 08;' + '&#116;o';
				var path = 'hr' + 'ef' + '=';
				var addy3e8d46f0cfe
 286da07991b7e15c97ce4 = 'td' + '&#64;';
				addy3e8d46f0cfe286da07991b7e15c
 97ce4 = addy3e8d46f0cfe286da07991b7e15c97ce4 + '&#105;&#97;-ch&#101;ss' + '
 &#46;' + 'c&#111;m';
				var addy_text3e8d46f0cfe286da07991b7e15c97ce4 = 't
 d' + '&#64;' + '&#105;&#97;-ch&#101;ss' + '&#46;' + 'c&#111;m';document.get
 ElementById('cloak3e8d46f0cfe286da07991b7e15c97ce4').innerHTML += '<a ' + p
 ath + '\'' + prefix + ':' + addy3e8d46f0cfe286da07991b7e15c97ce4 + '\'>'+ad
 dy_text3e8d46f0cfe286da07991b7e15c97ce4+'';
		\nFAIR PLAY: In case any fair
  play violations are discovered, none of the games played by the violator w
 ill be US Chess rated. For the purposes of standings, any players who lose 
 to someone who violates fair play rules will be given 1/2 point. Any wins o
 r draws against fair play violators will stand, though the games will not b
 e rated.\nAny participant may be invited to a subsequent Zoom interview to 
 confirm their identity and/or chess-playing ability.\nBy registering for th
 is tournament, you agree that your child's lichess username might be reveal
 ed on player registration and prize winner lists.\n
X-ALT-DESC;FMTTYPE=text/html:<p>This event takes place on a Sunday</p><p><strong>DATE &amp; TIME:</stron
 g> Sunday, March 7 at 10:00am Central Time. This event is open to K-12 stud
 ents. Current US Chess membership is required (<a href="https://new.uschess
 .org/become-member">you may join or renew your membership here</a>).</p><p>
 <strong>REGISTER HERE:</strong> <a href="https://www.kingregistration.com/e
 vent/SundaySnowmanBonanza">$1,000 Sunday Snowman Bonanza - US Chess Online 
 Rated Event (kingregistration.com)</a></p><p><strong>FREE GAME ANALYSIS:</s
 trong> All participants will be invited to an analysis session via Zoom wit
 h titled players upon conclusion of their section!</p><p><strong>PLAYING SI
 TE:</strong> <a href="https://eur06.safelinks.protection.outlook.com/?url=h
 ttps%3A%2F%2Flichess.org%2F&amp;data=02%7C01%7C%7C725308d02afa4a30aff708d86
 e30d0a9%7C84df9e7fe9f640afb435aaaaaaaaaaaa%7C1%7C0%7C637380503216089450&amp
 ;sdata=IhqurSi3qek6q8cttY7ZR7VjPMqIEkqYDxk%2BXoOi6ZE%3D&amp;reserved=0">htt
 ps://lichess.org/</a> Players must join lichess. Membership is free.</p><p>
 <strong>PRIZES:</strong> $1,000 in Amazon Gift Cards (b/100 total). In case
  of ties, the prize will be split equally between tied players. One prize p
 er person. Prizes may take up to a week after the event concludes as games 
 need to be checked for fair play violations. These checks are done through 
 the proprietary methods used by lichess and independent analysis by tournam
 ent organizers.</p><p><strong>ENTRY FEE:</strong> $30. Please provide corre
 ct email address during registration: link and password for the tournament 
 will be emailed to that address. <strong>If the link is not received by 8:0
 0am the next morning, please contact the organizers at </strong><span id="c
 loak4acac04184d471da907eaefdf247b2c4"><span id="cloakcb42c337f8e252b44cb4d9
 dde36874a0">This email address is being protected from spambots. You need J
 avaScript enabled to view it.</span><script type='text/javascript'>
				doc
 ument.getElementById('cloakcb42c337f8e252b44cb4d9dde36874a0').innerHTML = '
 ';
				var prefix = '&#109;a' + 'i&#108;' + '&#116;o';
				var path = 'hr' 
 + 'ef' + '=';
				var addycb42c337f8e252b44cb4d9dde36874a0 = 'td' + '&#64;'
 ;
				addycb42c337f8e252b44cb4d9dde36874a0 = addycb42c337f8e252b44cb4d9dde3
 6874a0 + '&#105;&#97;-ch&#101;ss' + '&#46;' + 'c&#111;m';
				var addy_text
 cb42c337f8e252b44cb4d9dde36874a0 = 'td' + '&#64;' + '&#105;&#97;-ch&#101;ss
 ' + '&#46;' + 'c&#111;m';document.getElementById('cloakcb42c337f8e252b44cb4
 d9dde36874a0').innerHTML += '<a ' + path + '\'' + prefix + ':' + addycb42c3
 37f8e252b44cb4d9dde36874a0 + '\'>'+addy_textcb42c337f8e252b44cb4d9dde36874a
 0+'<\/a>';
		</script></span> For this event the earliest the links and pas
 swords will be sent is March 1st (Monday prior).</p><p><strong>BYES and LAT
 E REGISTRATION:</strong> Online registration closes on March 7th at 9:45am 
 Central Time. Contact <span id="cloaka1c11277fc89c973294e908b4e28dde2"><spa
 n id="cloakcc00975761a759996bd72effbfda9d65">This email address is being pr
 otected from spambots. You need JavaScript enabled to view it.</span><scrip
 t type='text/javascript'>
				document.getElementById('cloakcc00975761a7599
 96bd72effbfda9d65').innerHTML = '';
				var prefix = '&#109;a' + 'i&#108;' 
 + '&#116;o';
				var path = 'hr' + 'ef' + '=';
				var addycc00975761a75999
 6bd72effbfda9d65 = 'td' + '&#64;';
				addycc00975761a759996bd72effbfda9d65
  = addycc00975761a759996bd72effbfda9d65 + '&#105;&#97;-ch&#101;ss' + '&#46;
 ' + 'c&#111;m';
				var addy_textcc00975761a759996bd72effbfda9d65 = 'td' + 
 '&#64;' + '&#105;&#97;-ch&#101;ss' + '&#46;' + 'c&#111;m';document.getEleme
 ntById('cloakcc00975761a759996bd72effbfda9d65').innerHTML += '<a ' + path +
  '\'' + prefix + ':' + addycc00975761a759996bd72effbfda9d65 + '\'>'+addy_te
 xtcc00975761a759996bd72effbfda9d65+'<\/a>';
		</script></span> if you wish 
 to register after registration is closed. Players may request a 1/2 bye in 
 round one (players who "late join" after 10:00am will also receive a 1/2 by
 e). No other 1/2 byes can be requested. </p><p><strong>FORMAT AND TIME CONT
 ROL:</strong> G/10+5. All three sections are a <strong>5-round Swiss</stron
 g>. Rounds 2, 3, 4, and 5 will be paired five minutes after completion of t
 he final game in the section, so <strong>each section will run as an indepe
 ndent event</strong>. <strong>You must be logged in and have joined the tou
 rnament to be paired.</strong></p><p><strong>THREE SECTIONS: </strong>All p
 layers must have current US Chess Membership. Only US Chess Online Quick ra
 tings are affected.</p><p><strong>K-12 Section</strong> (all students can e
 nter, but grade 6/below are eligible only for top three prizes)</p><ul><li>
 1st $70</li><li>2nd $50</li><li>3rd $40</li><li>top grade 12 $40</li><li>to
 p grade 11 $40</li><li>top grade 10 $40</li><li>top grade 9   $40</li><li>t
 op grade 8 $40</li><li>top grade 7 $40</li></ul><p><strong>K-6 Section</str
 ong> (students in grades K-6 can enter, but grade 3/below are eligible only
  for top three prizes)</p><ul><li>1st $70</li><li>2nd $50</li><li>3rd $40</
 li><li>top grade 6 $40</li><li>top grade 5 $40</li><li>top grade 4 $40</li>
 </ul><p><strong>K-3 Section</strong> (students in grade 3 and younger can e
 nter)</p><ul><li>1st $70</li><li>2nd $50</li><li>3rd $40</li><li>top grade 
 3 $40</li><li>top grade 2 $40</li><li>top grade 1 $40</li><li>top K/below $
 40</li></ul><p><strong>QUESTIONS:</strong> Please email any questions to <s
 pan id="cloak4d98b73161168b469a9182cf4d1257c9"><span id="cloak3e8d46f0cfe28
 6da07991b7e15c97ce4">This email address is being protected from spambots. Y
 ou need JavaScript enabled to view it.</span><script type='text/javascript'
 >
				document.getElementById('cloak3e8d46f0cfe286da07991b7e15c97ce4').inne
 rHTML = '';
				var prefix = '&#109;a' + 'i&#108;' + '&#116;o';
				var pat
 h = 'hr' + 'ef' + '=';
				var addy3e8d46f0cfe286da07991b7e15c97ce4 = 'td' 
 + '&#64;';
				addy3e8d46f0cfe286da07991b7e15c97ce4 = addy3e8d46f0cfe286da0
 7991b7e15c97ce4 + '&#105;&#97;-ch&#101;ss' + '&#46;' + 'c&#111;m';
				var 
 addy_text3e8d46f0cfe286da07991b7e15c97ce4 = 'td' + '&#64;' + '&#105;&#97;-c
 h&#101;ss' + '&#46;' + 'c&#111;m';document.getElementById('cloak3e8d46f0cfe
 286da07991b7e15c97ce4').innerHTML += '<a ' + path + '\'' + prefix + ':' + a
 ddy3e8d46f0cfe286da07991b7e15c97ce4 + '\'>'+addy_text3e8d46f0cfe286da07991b
 7e15c97ce4+'<\/a>';
		</script></span></p><p><strong>FAIR PLAY: </strong>In
  case any fair play violations are discovered, none of the games played by 
 the violator will be US Chess rated. For the purposes of standings, any pla
 yers who lose to someone who violates fair play rules will be given 1/2 poi
 nt. Any wins or draws against fair play violators will stand, though the ga
 mes will not be rated.</p><p>Any participant may be invited to a subsequent
  Zoom interview to confirm their identity and/or chess-playing ability.</p>
 <p>By registering for this tournament, you agree that your child's lichess 
 username might be revealed on player registration and prize winner lists.</
 p>
CONTACT:Chris Wainscott
DTSTAMP:20260419T175042
DTSTART;TZID=America/Chicago:20210307T100000
SEQUENCE:0
TRANSP:OPAQUE
END:VEVENT
END:VCALENDAR