BEGIN:VCALENDAR
VERSION:2.0
PRODID:-//jEvents 2.0 for Joomla//EN
CALSCALE:GREGORIAN
METHOD:PUBLISH
BEGIN:VTIMEZONE
TZID:America/Chicago
BEGIN:STANDARD
DTSTART:20201101T010000
RDATE:20210314T030000
TZOFFSETFROM:-0500
TZOFFSETTO:-0600
TZNAME:America/Chicago CST
END:STANDARD
BEGIN:STANDARD
DTSTART:20211107T010000
RDATE:20220313T030000
TZOFFSETFROM:-0500
TZOFFSETTO:-0600
TZNAME:America/Chicago CST
END:STANDARD
BEGIN:STANDARD
DTSTART:20221106T010000
RDATE:20230312T030000
TZOFFSETFROM:-0500
TZOFFSETTO:-0600
TZNAME:America/Chicago CST
END:STANDARD
BEGIN:STANDARD
DTSTART:20231105T010000
RDATE:20240310T030000
TZOFFSETFROM:-0500
TZOFFSETTO:-0600
TZNAME:America/Chicago CST
END:STANDARD
BEGIN:STANDARD
DTSTART:20241103T010000
RDATE:20250309T030000
TZOFFSETFROM:-0500
TZOFFSETTO:-0600
TZNAME:America/Chicago CST
END:STANDARD
BEGIN:STANDARD
DTSTART:20251102T010000
RDATE:20260308T030000
TZOFFSETFROM:-0500
TZOFFSETTO:-0600
TZNAME:America/Chicago CST
END:STANDARD
BEGIN:STANDARD
DTSTART:20261101T010000
RDATE:20270314T030000
TZOFFSETFROM:-0500
TZOFFSETTO:-0600
TZNAME:America/Chicago CST
END:STANDARD
BEGIN:STANDARD
DTSTART:20271107T010000
RDATE:20280312T030000
TZOFFSETFROM:-0500
TZOFFSETTO:-0600
TZNAME:America/Chicago CST
END:STANDARD
BEGIN:STANDARD
DTSTART:20281105T010000
RDATE:20290311T030000
TZOFFSETFROM:-0500
TZOFFSETTO:-0600
TZNAME:America/Chicago CST
END:STANDARD
BEGIN:DAYLIGHT
DTSTART:20200319T100000
RDATE:20201101T010000
TZOFFSETFROM:-0600
TZOFFSETTO:-0500
TZNAME:America/Chicago CDT
END:DAYLIGHT
BEGIN:DAYLIGHT
DTSTART:20210314T030000
RDATE:20211107T010000
TZOFFSETFROM:-0600
TZOFFSETTO:-0500
TZNAME:America/Chicago CDT
END:DAYLIGHT
BEGIN:DAYLIGHT
DTSTART:20220313T030000
RDATE:20221106T010000
TZOFFSETFROM:-0600
TZOFFSETTO:-0500
TZNAME:America/Chicago CDT
END:DAYLIGHT
BEGIN:DAYLIGHT
DTSTART:20230312T030000
RDATE:20231105T010000
TZOFFSETFROM:-0600
TZOFFSETTO:-0500
TZNAME:America/Chicago CDT
END:DAYLIGHT
BEGIN:DAYLIGHT
DTSTART:20240310T030000
RDATE:20241103T010000
TZOFFSETFROM:-0600
TZOFFSETTO:-0500
TZNAME:America/Chicago CDT
END:DAYLIGHT
BEGIN:DAYLIGHT
DTSTART:20250309T030000
RDATE:20251102T010000
TZOFFSETFROM:-0600
TZOFFSETTO:-0500
TZNAME:America/Chicago CDT
END:DAYLIGHT
BEGIN:DAYLIGHT
DTSTART:20260308T030000
RDATE:20261101T010000
TZOFFSETFROM:-0600
TZOFFSETTO:-0500
TZNAME:America/Chicago CDT
END:DAYLIGHT
BEGIN:DAYLIGHT
DTSTART:20270314T030000
RDATE:20271107T010000
TZOFFSETFROM:-0600
TZOFFSETTO:-0500
TZNAME:America/Chicago CDT
END:DAYLIGHT
BEGIN:DAYLIGHT
DTSTART:20280312T030000
RDATE:20281105T010000
TZOFFSETFROM:-0600
TZOFFSETTO:-0500
TZNAME:America/Chicago CDT
END:DAYLIGHT
END:VTIMEZONE
BEGIN:VEVENT
UID:5be5905d1ccb751da78f9ed425cb5c04
CATEGORIES:Tournaments
CREATED:20210223T215833
SUMMARY:$1,000 Spring Festival - US Chess Online Rated Event
LOCATION:Online
DESCRIPTION:<p><strong>DATE &amp; TIME:</strong> Saturday, March 20th at 10:00am Centra
 l Time. This event is open to K-12 students. Current US Chess membership is
  required (<a href="https://new.uschess.org/become-member">you may join or 
 renew your membership here</a>).</p><p><strong>REGISTER HERE:</strong> <a h
 ref="https://www.kingregistration.com/event/SpringFestival">$1,000 Spring F
 estival - US Chess Online Rated Event (kingregistration.com)</a></p><p><str
 ong>FREE GAME ANALYSIS:</strong> All participants will be invited to an ana
 lysis session via Zoom with titled players upon conclusion of their section
 !</p><p><strong>PLAYING SITE:</strong> <a href="https://eur06.safelinks.pro
 tection.outlook.com/?url=https%3A%2F%2Flichess.org%2F&amp;data=02%7C01%7C%7
 C725308d02afa4a30aff708d86e30d0a9%7C84df9e7fe9f640afb435aaaaaaaaaaaa%7C1%7C
 0%7C637380503216089450&amp;sdata=IhqurSi3qek6q8cttY7ZR7VjPMqIEkqYDxk%2BXoOi
 6ZE%3D&amp;reserved=0">https://lichess.org/</a> Players must join lichess. 
 Membership is free.</p><p><strong>PRIZES:</strong> $1,000 in Amazon Gift Ca
 rds (b/100 total). In case of ties, the prize will be split equally between
  tied players. One prize per person. Prizes may take up to a week after the
  event concludes as games need to be checked for fair play violations. Thes
 e checks are done through the proprietary methods used by lichess and indep
 endent analysis by tournament organizers.</p><p><strong>ENTRY FEE:</strong>
  $30. Please provide correct email address during registration: link and pa
 ssword for the tournament will be emailed to that address. <strong>If the l
 ink is not received by 8:00am the next morning, please contact the organize
 rs at </strong><span id="cloak5cc2568f48045a3819156621d9106fd7"><span id="c
 loakd6c4f3ac4f1a53f6aefea4fdbcb8dd25">This email address is being protected
  from spambots. You need JavaScript enabled to view it.</span><script type=
 'text/javascript'>
				document.getElementById('cloakd6c4f3ac4f1a53f6aefea4
 fdbcb8dd25').innerHTML = '';
				var prefix = '&#109;a' + 'i&#108;' + '&#11
 6;o';
				var path = 'hr' + 'ef' + '=';
				var addyd6c4f3ac4f1a53f6aefea4f
 dbcb8dd25 = 'td' + '&#64;';
				addyd6c4f3ac4f1a53f6aefea4fdbcb8dd25 = addy
 d6c4f3ac4f1a53f6aefea4fdbcb8dd25 + '&#105;&#97;-ch&#101;ss' + '&#46;' + 'c&
 #111;m';
				var addy_textd6c4f3ac4f1a53f6aefea4fdbcb8dd25 = 'td' + '&#64;'
  + '&#105;&#97;-ch&#101;ss' + '&#46;' + 'c&#111;m';document.getElementById(
 'cloakd6c4f3ac4f1a53f6aefea4fdbcb8dd25').innerHTML += '<a ' + path + '\'' +
  prefix + ':' + addyd6c4f3ac4f1a53f6aefea4fdbcb8dd25 + '\'>'+addy_textd6c4f
 3ac4f1a53f6aefea4fdbcb8dd25+'<\/a>';
		</script></span>For this event the e
 arliest the links and passwords will be sent is March 15 (Monday prior).</p
 ><p><strong>BYES and LATE REGISTRATION:</strong> Online registration closes
  on March 20th at 9:45am Central Time. Contact <span id="cloakc8a088a5b2145
 27817510f2e863acb6e"><span id="cloak829d851e547d6d927bd264fcfd4cd2e0">This 
 email address is being protected from spambots. You need JavaScript enabled
  to view it.</span><script type='text/javascript'>
				document.getElementB
 yId('cloak829d851e547d6d927bd264fcfd4cd2e0').innerHTML = '';
				var prefix
  = '&#109;a' + 'i&#108;' + '&#116;o';
				var path = 'hr' + 'ef' + '=';
			
 	var addy829d851e547d6d927bd264fcfd4cd2e0 = 'td' + '&#64;';
				addy829d851
 e547d6d927bd264fcfd4cd2e0 = addy829d851e547d6d927bd264fcfd4cd2e0 + '&#105;&
 #97;-ch&#101;ss' + '&#46;' + 'c&#111;m';
				var addy_text829d851e547d6d927
 bd264fcfd4cd2e0 = 'td' + '&#64;' + '&#105;&#97;-ch&#101;ss' + '&#46;' + 'c&
 #111;m';document.getElementById('cloak829d851e547d6d927bd264fcfd4cd2e0').in
 nerHTML += '<a ' + path + '\'' + prefix + ':' + addy829d851e547d6d927bd264f
 cfd4cd2e0 + '\'>'+addy_text829d851e547d6d927bd264fcfd4cd2e0+'<\/a>';
		</sc
 ript></span> if you wish to register after registration is closed. Players 
 may request a 1/2 bye in round one (players who "late join" after 10:00am w
 ill also receive a 1/2 bye). No other 1/2 byes can be requested. </p><p><st
 rong>FORMAT AND TIME CONTROL:</strong> G/10+5. All three sections are a <st
 rong>5-round Swiss</strong>. Rounds 2, 3, 4, and 5 will be paired five minu
 tes after completion of the final game in the section, so <strong>each sect
 ion will run as an independent event</strong>. <strong>You must be logged i
 n and have joined the tournament to be paired.</strong></p><p><strong>THREE
  SECTIONS: </strong>All players must have current US Chess Membership. Only
  US Chess Online Quick ratings are affected.</p><p><strong>K-12 Section</st
 rong> (all students can enter, but grade 6/below are eligible only for top 
 three prizes)</p><ul><li>1st $70</li><li>2nd $50</li><li>3rd $40</li><li>to
 p grade 12 $40</li><li>top grade 11 $40</li><li>top grade 10 $40</li><li>to
 p grade 9   $40</li><li>top grade 8 $40</li><li>top grade 7 $40</li></ul><p
 ><strong>K-6 Section</strong> (students in grades K-6 can enter, but grade 
 3/below are eligible only for top three prizes)</p><ul><li>1st $70</li><li>
 2nd $50</li><li>3rd $40</li><li>top grade 6 $40</li><li>top grade 5 $40</li
 ><li>top grade 4 $40</li></ul><p><strong>K-3 Section</strong> (students in 
 grade 3 and younger can enter)</p><ul><li>1st $70</li><li>2nd $50</li><li>3
 rd $40</li><li>top grade 3 $40</li><li>top grade 2 $40</li><li>top grade 1 
 $40</li><li>top K/below $40</li></ul><p><strong>QUESTIONS:</strong> Please 
 email any questions to <span id="cloak707af2b0b1e8565cf969fe8b9d3ed257"><sp
 an id="cloake28f87e16b0bc9cae67c336e3bc21180">This email address is being p
 rotected from spambots. You need JavaScript enabled to view it.</span><scri
 pt type='text/javascript'>
				document.getElementById('cloake28f87e16b0bc9
 cae67c336e3bc21180').innerHTML = '';
				var prefix = '&#109;a' + 'i&#108;'
  + '&#116;o';
				var path = 'hr' + 'ef' + '=';
				var addye28f87e16b0bc9c
 ae67c336e3bc21180 = 'td' + '&#64;';
				addye28f87e16b0bc9cae67c336e3bc2118
 0 = addye28f87e16b0bc9cae67c336e3bc21180 + '&#105;&#97;-ch&#101;ss' + '&#46
 ;' + 'c&#111;m';
				var addy_texte28f87e16b0bc9cae67c336e3bc21180 = 'td' +
  '&#64;' + '&#105;&#97;-ch&#101;ss' + '&#46;' + 'c&#111;m';document.getElem
 entById('cloake28f87e16b0bc9cae67c336e3bc21180').innerHTML += '<a ' + path 
 + '\'' + prefix + ':' + addye28f87e16b0bc9cae67c336e3bc21180 + '\'>'+addy_t
 exte28f87e16b0bc9cae67c336e3bc21180+'<\/a>';
		</script></span></p><p><stro
 ng>FAIR PLAY: </strong>In case any fair play violations are discovered, non
 e of the games played by the violator will be US Chess rated. For the purpo
 ses of standings, any players who lose to someone who violates fair play ru
 les will be given 1/2 point. Any wins or draws against fair play violators 
 will stand, though the games will not be rated.</p><p>Any participant may b
 e invited to a subsequent Zoom interview to confirm their identity and/or c
 hess-playing ability.</p><p>By registering for this tournament, you agree t
 hat your child's lichess username might be revealed on player registration 
 and prize winner lists.</p>
CONTACT:Chris Wainscott
DTSTAMP:20260419T175329
DTSTART;TZID=America/Chicago:20210320T100000
SEQUENCE:0
TRANSP:OPAQUE
END:VEVENT
END:VCALENDAR