BEGIN:VCALENDAR
VERSION:2.0
PRODID:-//jEvents 2.0 for Joomla//EN
CALSCALE:GREGORIAN
METHOD:PUBLISH
BEGIN:VTIMEZONE
TZID:America/Chicago
BEGIN:STANDARD
DTSTART:20201101T010000
RDATE:20210314T030000
TZOFFSETFROM:-0500
TZOFFSETTO:-0600
TZNAME:America/Chicago CST
END:STANDARD
BEGIN:STANDARD
DTSTART:20211107T010000
RDATE:20220313T030000
TZOFFSETFROM:-0500
TZOFFSETTO:-0600
TZNAME:America/Chicago CST
END:STANDARD
BEGIN:STANDARD
DTSTART:20221106T010000
RDATE:20230312T030000
TZOFFSETFROM:-0500
TZOFFSETTO:-0600
TZNAME:America/Chicago CST
END:STANDARD
BEGIN:STANDARD
DTSTART:20231105T010000
RDATE:20240310T030000
TZOFFSETFROM:-0500
TZOFFSETTO:-0600
TZNAME:America/Chicago CST
END:STANDARD
BEGIN:STANDARD
DTSTART:20241103T010000
RDATE:20250309T030000
TZOFFSETFROM:-0500
TZOFFSETTO:-0600
TZNAME:America/Chicago CST
END:STANDARD
BEGIN:STANDARD
DTSTART:20251102T010000
RDATE:20260308T030000
TZOFFSETFROM:-0500
TZOFFSETTO:-0600
TZNAME:America/Chicago CST
END:STANDARD
BEGIN:STANDARD
DTSTART:20261101T010000
RDATE:20270314T030000
TZOFFSETFROM:-0500
TZOFFSETTO:-0600
TZNAME:America/Chicago CST
END:STANDARD
BEGIN:STANDARD
DTSTART:20271107T010000
RDATE:20280312T030000
TZOFFSETFROM:-0500
TZOFFSETTO:-0600
TZNAME:America/Chicago CST
END:STANDARD
BEGIN:STANDARD
DTSTART:20281105T010000
RDATE:20290311T030000
TZOFFSETFROM:-0500
TZOFFSETTO:-0600
TZNAME:America/Chicago CST
END:STANDARD
BEGIN:DAYLIGHT
DTSTART:20200326T100000
RDATE:20201101T010000
TZOFFSETFROM:-0600
TZOFFSETTO:-0500
TZNAME:America/Chicago CDT
END:DAYLIGHT
BEGIN:DAYLIGHT
DTSTART:20210314T030000
RDATE:20211107T010000
TZOFFSETFROM:-0600
TZOFFSETTO:-0500
TZNAME:America/Chicago CDT
END:DAYLIGHT
BEGIN:DAYLIGHT
DTSTART:20220313T030000
RDATE:20221106T010000
TZOFFSETFROM:-0600
TZOFFSETTO:-0500
TZNAME:America/Chicago CDT
END:DAYLIGHT
BEGIN:DAYLIGHT
DTSTART:20230312T030000
RDATE:20231105T010000
TZOFFSETFROM:-0600
TZOFFSETTO:-0500
TZNAME:America/Chicago CDT
END:DAYLIGHT
BEGIN:DAYLIGHT
DTSTART:20240310T030000
RDATE:20241103T010000
TZOFFSETFROM:-0600
TZOFFSETTO:-0500
TZNAME:America/Chicago CDT
END:DAYLIGHT
BEGIN:DAYLIGHT
DTSTART:20250309T030000
RDATE:20251102T010000
TZOFFSETFROM:-0600
TZOFFSETTO:-0500
TZNAME:America/Chicago CDT
END:DAYLIGHT
BEGIN:DAYLIGHT
DTSTART:20260308T030000
RDATE:20261101T010000
TZOFFSETFROM:-0600
TZOFFSETTO:-0500
TZNAME:America/Chicago CDT
END:DAYLIGHT
BEGIN:DAYLIGHT
DTSTART:20270314T030000
RDATE:20271107T010000
TZOFFSETFROM:-0600
TZOFFSETTO:-0500
TZNAME:America/Chicago CDT
END:DAYLIGHT
BEGIN:DAYLIGHT
DTSTART:20280312T030000
RDATE:20281105T010000
TZOFFSETFROM:-0600
TZOFFSETTO:-0500
TZNAME:America/Chicago CDT
END:DAYLIGHT
END:VTIMEZONE
BEGIN:VEVENT
UID:060ec239916ccee1f1c40821561ce60d
CATEGORIES:Tournaments
CREATED:20210223T220009
SUMMARY:Trophy Madness Swiss - US Chess Online Rated Event
LOCATION:Online
DESCRIPTION:MORE THAN TWENTY TROPHIES AS PRIZES!\nDATE &amp; TIME: Saturday, March 27h 
 at 10:00am Central Time. This event is open to K-12 students. Current US Ch
 ess membership is required (you may join or renew your membership here (htt
 ps://new.uschess.org/become-member)).\nREGISTER HERE: <a href="https://www.
 kingregistration.com/event/TrophyMadness">Trophy Madness - US Chess Online 
 Rated Event (kingregistration.com)</a>\nFREE GAME ANALYSIS: All participant
 s will be invited to an analysis session via Zoom with titled players upon 
 conclusion of their section!\nPLAYING SITE: https://lichess.org/ (https://e
 ur06.safelinks.protection.outlook.com/?url=https%3A%2F%2Flichess.org%2F&amp
 ;data=02%7C01%7C%7C725308d02afa4a30aff708d86e30d0a9%7C84df9e7fe9f640afb435a
 aaaaaaaaaaa%7C1%7C0%7C637380503216089450&amp;sdata=IhqurSi3qek6q8cttY7ZR7Vj
 PMqIEkqYDxk%2BXoOi6ZE%3D&amp;reserved=0) Players must join lichess. Members
 hip is free.\nPRIZES: Trophies for top three in each section, plus top grad
 e in each section. We do not use tiebreaks, so everyone who ties for a grad
 e prize is considered a winner. One prize per person. Free entry into a fut
 ure event may be chosen instead of a trophy for those who wish. Prizes may 
 take up to a week after the event concludes as games need to be checked for
  fair play violations. These checks are done through the proprietary method
 s used by lichess and independent analysis by tournament organizers.\nENTRY
  FEE: $30. Please provide correct email address during registration: link a
 nd password for the tournament will be emailed to that address. If the link
  is not received by 8:00am the next morning, please contact the organizers 
 at This email address is being protected from spambots. You need JavaScript
  enabled to view it.
				document.getElementById('cloak09a0a7b5e32adb972fcc
 4eedc6d31724').innerHTML = '';
				var prefix = '&#109;a' + 'i&#108;' + '&#
 116;o';
				var path = 'hr' + 'ef' + '=';
				var addy09a0a7b5e32adb972fcc4
 eedc6d31724 = 'td' + '&#64;';
				addy09a0a7b5e32adb972fcc4eedc6d31724 = ad
 dy09a0a7b5e32adb972fcc4eedc6d31724 + '&#105;&#97;-ch&#101;ss' + '&#46;' + '
 c&#111;m';
				var addy_text09a0a7b5e32adb972fcc4eedc6d31724 = 'td' + '&#64
 ;' + '&#105;&#97;-ch&#101;ss' + '&#46;' + 'c&#111;m';document.getElementByI
 d('cloak09a0a7b5e32adb972fcc4eedc6d31724').innerHTML += '<a ' + path + '\''
  + prefix + ':' + addy09a0a7b5e32adb972fcc4eedc6d31724 + '\'>'+addy_text09a
 0a7b5e32adb972fcc4eedc6d31724+'';
		 For this event the earliest the links 
 and passwords will be sent is March 22nd (Monday prior).\nBYES and LATE REG
 ISTRATION: Online registration closes on March 27th at 9:45am Central Time.
  Contact This email address is being protected from spambots. You need Java
 Script enabled to view it.
				document.getElementById('cloak76f99ad42bc8e2
 e0efc592d99c1c042d').innerHTML = '';
				var prefix = '&#109;a' + 'i&#108;'
  + '&#116;o';
				var path = 'hr' + 'ef' + '=';
				var addy76f99ad42bc8e2e
 0efc592d99c1c042d = 'td' + '&#64;';
				addy76f99ad42bc8e2e0efc592d99c1c042
 d = addy76f99ad42bc8e2e0efc592d99c1c042d + '&#105;&#97;-ch&#101;ss' + '&#46
 ;' + 'c&#111;m';
				var addy_text76f99ad42bc8e2e0efc592d99c1c042d = 'td' +
  '&#64;' + '&#105;&#97;-ch&#101;ss' + '&#46;' + 'c&#111;m';document.getElem
 entById('cloak76f99ad42bc8e2e0efc592d99c1c042d').innerHTML += '<a ' + path 
 + '\'' + prefix + ':' + addy76f99ad42bc8e2e0efc592d99c1c042d + '\'>'+addy_t
 ext76f99ad42bc8e2e0efc592d99c1c042d+'';
		 if you wish to register after re
 gistration is closed. Players may request a 1/2 bye in round one (players w
 ho "late join" after 10:00am will also receive a 1/2 bye). No other 1/2 bye
 s can be requested. \nFORMAT AND TIME CONTROL: G/10+5. All three sections a
 re a 5-round Swiss. Rounds 2, 3, 4, and 5 will be paired five minutes after
  completion of the final game in the section, so each section will run as a
 n independent event. You must be logged in and have joined the tournament t
 o be paired.\nTHREE SECTIONS: All players must have current US Chess Member
 ship. Only US Chess Online Quick ratings are affected.\nK-12 Section (all s
 tudents can enter, but grade 6/below are eligible only for top three prizes
 ). Trophies for\n\n - 1st \n - 2nd \n - 3rd \n - top grade 12 \n - top grad
 e 11 \n - top grade 10 \n - top grade 9   \n - top grade 8\n - top grade 7K
 -6 Section (students in grades K-6 can enter, but grade 3/below are eligibl
 e only for top three prizes). Trophies for\n\n - 1st \n - 2nd \n - 3rd \n -
  top grade 6\n - top grade 5 \n - top grade 4 K-3 Section (students in grad
 e 3  and younger can enter). Trophies for\n\n - 1st \n - 2nd \n - 3rd\n - t
 op grade 3\n - top grade 2\n - top grade 1\n - top K/belowQUESTIONS: Please
  email any questions to This email address is being protected from spambots
 . You need JavaScript enabled to view it.
				document.getElementById('cloa
 k8a7b758f5f8a331fad588318810ff39b').innerHTML = '';
				var prefix = '&#109
 ;a' + 'i&#108;' + '&#116;o';
				var path = 'hr' + 'ef' + '=';
				var addy
 8a7b758f5f8a331fad588318810ff39b = 'td' + '&#64;';
				addy8a7b758f5f8a331f
 ad588318810ff39b = addy8a7b758f5f8a331fad588318810ff39b + '&#105;&#97;-ch&#
 101;ss' + '&#46;' + 'c&#111;m';
				var addy_text8a7b758f5f8a331fad58831881
 0ff39b = 'td' + '&#64;' + '&#105;&#97;-ch&#101;ss' + '&#46;' + 'c&#111;m';d
 ocument.getElementById('cloak8a7b758f5f8a331fad588318810ff39b').innerHTML +
 = '<a ' + path + '\'' + prefix + ':' + addy8a7b758f5f8a331fad588318810ff39b
  + '\'>'+addy_text8a7b758f5f8a331fad588318810ff39b+'';
		\nFAIR PLAY: In ca
 se any fair play violations are discovered, none of the games played by the
  violator will be US Chess rated. For the purposes of standings, any player
 s who lose to someone who violates fair play rules will be given 1/2 point.
  Any wins or draws against fair play violators will stand, though the games
  will not be rated.\nAny participant may be invited to a subsequent Zoom in
 terview to confirm their identity and/or chess-playing ability.\nBy registe
 ring for this tournament, you agree that your child's lichess username migh
 t be revealed on player registration and prize winner lists.\n
X-ALT-DESC;FMTTYPE=text/html:<p><strong>MORE THAN TWENTY TROPHIES AS PRIZES!</strong></p><p><strong>DATE
  &amp; TIME:</strong> Saturday, March 27h at 10:00am Central Time. This eve
 nt is open to K-12 students. Current US Chess membership is required (<a hr
 ef="https://new.uschess.org/become-member">you may join or renew your membe
 rship here</a>).</p><p><strong>REGISTER HERE:</strong> <a href="https://www
 .kingregistration.com/event/TrophyMadness">Trophy Madness - US Chess Online
  Rated Event (kingregistration.com)</a></p><p><strong>FREE GAME ANALYSIS:</
 strong> All participants will be invited to an analysis session via Zoom wi
 th titled players upon conclusion of their section!</p><p><strong>PLAYING S
 ITE:</strong> <a href="https://eur06.safelinks.protection.outlook.com/?url=
 https%3A%2F%2Flichess.org%2F&amp;data=02%7C01%7C%7C725308d02afa4a30aff708d8
 6e30d0a9%7C84df9e7fe9f640afb435aaaaaaaaaaaa%7C1%7C0%7C637380503216089450&am
 p;sdata=IhqurSi3qek6q8cttY7ZR7VjPMqIEkqYDxk%2BXoOi6ZE%3D&amp;reserved=0">ht
 tps://lichess.org/</a> Players must join lichess. Membership is free.</p><p
 ><strong>PRIZES:</strong> Trophies for top three in each section, plus top 
 grade in each section. We do not use tiebreaks, so everyone who ties for a 
 grade prize is considered a winner. One prize per person. <strong>Free entr
 y into a future event may be chosen instead of a trophy for those who wish.
  </strong>Prizes may take up to a week after the event concludes as games n
 eed to be checked for fair play violations. These checks are done through t
 he proprietary methods used by lichess and independent analysis by tourname
 nt organizers.</p><p><strong>ENTRY FEE:</strong> $30. Please provide correc
 t email address during registration: link and password for the tournament w
 ill be emailed to that address. <strong>If the link is not received by 8:00
 am the next morning, please contact the organizers at </strong><span id="cl
 oak9261d79e04a71defa2f0f06ace89e0d2"><span id="cloak09a0a7b5e32adb972fcc4ee
 dc6d31724">This email address is being protected from spambots. You need Ja
 vaScript enabled to view it.</span><script type='text/javascript'>
				docu
 ment.getElementById('cloak09a0a7b5e32adb972fcc4eedc6d31724').innerHTML = ''
 ;
				var prefix = '&#109;a' + 'i&#108;' + '&#116;o';
				var path = 'hr' +
  'ef' + '=';
				var addy09a0a7b5e32adb972fcc4eedc6d31724 = 'td' + '&#64;';
 
				addy09a0a7b5e32adb972fcc4eedc6d31724 = addy09a0a7b5e32adb972fcc4eedc6d
 31724 + '&#105;&#97;-ch&#101;ss' + '&#46;' + 'c&#111;m';
				var addy_text0
 9a0a7b5e32adb972fcc4eedc6d31724 = 'td' + '&#64;' + '&#105;&#97;-ch&#101;ss'
  + '&#46;' + 'c&#111;m';document.getElementById('cloak09a0a7b5e32adb972fcc4
 eedc6d31724').innerHTML += '<a ' + path + '\'' + prefix + ':' + addy09a0a7b
 5e32adb972fcc4eedc6d31724 + '\'>'+addy_text09a0a7b5e32adb972fcc4eedc6d31724
 +'<\/a>';
		</script></span><strong> </strong>For this event the earliest t
 he links and passwords will be sent is March 22nd (Monday prior).</p><p><st
 rong>BYES and LATE REGISTRATION:</strong> Online registration closes on Mar
 ch 27th at 9:45am Central Time. Contact <span id="cloak769af79f77577bb6e25a
 151094cfcf4e"><span id="cloak76f99ad42bc8e2e0efc592d99c1c042d">This email a
 ddress is being protected from spambots. You need JavaScript enabled to vie
 w it.</span><script type='text/javascript'>
				document.getElementById('cl
 oak76f99ad42bc8e2e0efc592d99c1c042d').innerHTML = '';
				var prefix = '&#1
 09;a' + 'i&#108;' + '&#116;o';
				var path = 'hr' + 'ef' + '=';
				var ad
 dy76f99ad42bc8e2e0efc592d99c1c042d = 'td' + '&#64;';
				addy76f99ad42bc8e2
 e0efc592d99c1c042d = addy76f99ad42bc8e2e0efc592d99c1c042d + '&#105;&#97;-ch
 &#101;ss' + '&#46;' + 'c&#111;m';
				var addy_text76f99ad42bc8e2e0efc592d9
 9c1c042d = 'td' + '&#64;' + '&#105;&#97;-ch&#101;ss' + '&#46;' + 'c&#111;m'
 ;document.getElementById('cloak76f99ad42bc8e2e0efc592d99c1c042d').innerHTML
  += '<a ' + path + '\'' + prefix + ':' + addy76f99ad42bc8e2e0efc592d99c1c04
 2d + '\'>'+addy_text76f99ad42bc8e2e0efc592d99c1c042d+'<\/a>';
		</script></
 span> if you wish to register after registration is closed. Players may req
 uest a 1/2 bye in round one (players who "late join" after 10:00am will als
 o receive a 1/2 bye). No other 1/2 byes can be requested. </p><p><strong>FO
 RMAT AND TIME CONTROL:</strong> G/10+5. All three sections are a <strong>5-
 round Swiss</strong>. Rounds 2, 3, 4, and 5 will be paired five minutes aft
 er completion of the final game in the section, so <strong>each section wil
 l run as an independent event</strong>. <strong>You must be logged in and h
 ave joined the tournament to be paired.</strong></p><p><strong>THREE SECTIO
 NS: All players must have current US Chess Membership. Only US Chess Online
  Quick ratings are affected.</strong></p><p><strong>K-12 Section</strong> (
 all students can enter, but grade 6/below are eligible only for top three p
 rizes). Trophies for</p><ul><li>1st </li><li>2nd </li><li>3rd </li><li>top 
 grade 12 </li><li>top grade 11 </li><li>top grade 10 </li><li>top grade 9  
  </li><li>top grade 8</li><li>top grade 7</li></ul><p><strong>K-6 Section</
 strong> (students in grades K-6 can enter, but grade 3/below are eligible o
 nly for top three prizes). Trophies for</p><ul><li>1st </li><li>2nd </li><l
 i>3rd </li><li>top grade 6</li><li>top grade 5 </li><li>top grade 4 </li></
 ul><p><strong>K-3 Section</strong> (students in grade 3  and younger can en
 ter). Trophies for</p><ul><li>1st </li><li>2nd </li><li>3rd</li><li>top gra
 de 3</li><li>top grade 2</li><li>top grade 1</li><li>top K/below</li></ul><
 p><strong>QUESTIONS:</strong> Please email any questions to <span id="cloak
 347d6d765004539a351e52594d7a7ca2"><span id="cloak8a7b758f5f8a331fad58831881
 0ff39b">This email address is being protected from spambots. You need JavaS
 cript enabled to view it.</span><script type='text/javascript'>
				documen
 t.getElementById('cloak8a7b758f5f8a331fad588318810ff39b').innerHTML = '';
	
 			var prefix = '&#109;a' + 'i&#108;' + '&#116;o';
				var path = 'hr' + 'e
 f' + '=';
				var addy8a7b758f5f8a331fad588318810ff39b = 'td' + '&#64;';
		
 		addy8a7b758f5f8a331fad588318810ff39b = addy8a7b758f5f8a331fad588318810ff3
 9b + '&#105;&#97;-ch&#101;ss' + '&#46;' + 'c&#111;m';
				var addy_text8a7b
 758f5f8a331fad588318810ff39b = 'td' + '&#64;' + '&#105;&#97;-ch&#101;ss' + 
 '&#46;' + 'c&#111;m';document.getElementById('cloak8a7b758f5f8a331fad588318
 810ff39b').innerHTML += '<a ' + path + '\'' + prefix + ':' + addy8a7b758f5f
 8a331fad588318810ff39b + '\'>'+addy_text8a7b758f5f8a331fad588318810ff39b+'<
 \/a>';
		</script></span></p><p><strong>FAIR PLAY: </strong>In case any fai
 r play violations are discovered, none of the games played by the violator 
 will be US Chess rated. For the purposes of standings, any players who lose
  to someone who violates fair play rules will be given 1/2 point. Any wins 
 or draws against fair play violators will stand, though the games will not 
 be rated.</p><p>Any participant may be invited to a subsequent Zoom intervi
 ew to confirm their identity and/or chess-playing ability.</p><p>By registe
 ring for this tournament, you agree that your child's lichess username migh
 t be revealed on player registration and prize winner lists.</p>
CONTACT:Chris Wainscott
DTSTAMP:20260419T175200
DTSTART;TZID=America/Chicago:20210327T100000
DTEND;TZID=America/Chicago:20210327T170000
SEQUENCE:0
TRANSP:OPAQUE
END:VEVENT
END:VCALENDAR