BEGIN:VCALENDAR
VERSION:2.0
PRODID:-//jEvents 2.0 for Joomla//EN
CALSCALE:GREGORIAN
METHOD:PUBLISH
BEGIN:VTIMEZONE
TZID:America/Chicago
BEGIN:STANDARD
DTSTART:20201101T010000
RDATE:20210314T030000
TZOFFSETFROM:-0500
TZOFFSETTO:-0600
TZNAME:America/Chicago CST
END:STANDARD
BEGIN:STANDARD
DTSTART:20211107T010000
RDATE:20220313T030000
TZOFFSETFROM:-0500
TZOFFSETTO:-0600
TZNAME:America/Chicago CST
END:STANDARD
BEGIN:STANDARD
DTSTART:20221106T010000
RDATE:20230312T030000
TZOFFSETFROM:-0500
TZOFFSETTO:-0600
TZNAME:America/Chicago CST
END:STANDARD
BEGIN:STANDARD
DTSTART:20231105T010000
RDATE:20240310T030000
TZOFFSETFROM:-0500
TZOFFSETTO:-0600
TZNAME:America/Chicago CST
END:STANDARD
BEGIN:STANDARD
DTSTART:20241103T010000
RDATE:20250309T030000
TZOFFSETFROM:-0500
TZOFFSETTO:-0600
TZNAME:America/Chicago CST
END:STANDARD
BEGIN:STANDARD
DTSTART:20251102T010000
RDATE:20260308T030000
TZOFFSETFROM:-0500
TZOFFSETTO:-0600
TZNAME:America/Chicago CST
END:STANDARD
BEGIN:STANDARD
DTSTART:20261101T010000
RDATE:20270314T030000
TZOFFSETFROM:-0500
TZOFFSETTO:-0600
TZNAME:America/Chicago CST
END:STANDARD
BEGIN:STANDARD
DTSTART:20271107T010000
RDATE:20280312T030000
TZOFFSETFROM:-0500
TZOFFSETTO:-0600
TZNAME:America/Chicago CST
END:STANDARD
BEGIN:STANDARD
DTSTART:20281105T010000
RDATE:20290311T030000
TZOFFSETFROM:-0500
TZOFFSETTO:-0600
TZNAME:America/Chicago CST
END:STANDARD
BEGIN:DAYLIGHT
DTSTART:20200320T100000
RDATE:20201101T010000
TZOFFSETFROM:-0600
TZOFFSETTO:-0500
TZNAME:America/Chicago CDT
END:DAYLIGHT
BEGIN:DAYLIGHT
DTSTART:20210314T030000
RDATE:20211107T010000
TZOFFSETFROM:-0600
TZOFFSETTO:-0500
TZNAME:America/Chicago CDT
END:DAYLIGHT
BEGIN:DAYLIGHT
DTSTART:20220313T030000
RDATE:20221106T010000
TZOFFSETFROM:-0600
TZOFFSETTO:-0500
TZNAME:America/Chicago CDT
END:DAYLIGHT
BEGIN:DAYLIGHT
DTSTART:20230312T030000
RDATE:20231105T010000
TZOFFSETFROM:-0600
TZOFFSETTO:-0500
TZNAME:America/Chicago CDT
END:DAYLIGHT
BEGIN:DAYLIGHT
DTSTART:20240310T030000
RDATE:20241103T010000
TZOFFSETFROM:-0600
TZOFFSETTO:-0500
TZNAME:America/Chicago CDT
END:DAYLIGHT
BEGIN:DAYLIGHT
DTSTART:20250309T030000
RDATE:20251102T010000
TZOFFSETFROM:-0600
TZOFFSETTO:-0500
TZNAME:America/Chicago CDT
END:DAYLIGHT
BEGIN:DAYLIGHT
DTSTART:20260308T030000
RDATE:20261101T010000
TZOFFSETFROM:-0600
TZOFFSETTO:-0500
TZNAME:America/Chicago CDT
END:DAYLIGHT
BEGIN:DAYLIGHT
DTSTART:20270314T030000
RDATE:20271107T010000
TZOFFSETFROM:-0600
TZOFFSETTO:-0500
TZNAME:America/Chicago CDT
END:DAYLIGHT
BEGIN:DAYLIGHT
DTSTART:20280312T030000
RDATE:20281105T010000
TZOFFSETFROM:-0600
TZOFFSETTO:-0500
TZNAME:America/Chicago CDT
END:DAYLIGHT
END:VTIMEZONE
BEGIN:VEVENT
UID:dc560737c683e910c061b6c25aa209f5
CATEGORIES:Tournaments
CREATED:20210224T204007
SUMMARY:WI High School Online Rapid State Championship
LOCATION:Online
DESCRIPTION:WISCONSIN HIGH SCHOOL RAPID ONLINE CHESS CHAMPIONSHIP\n \nMARCH 21st, 2021\
 n \nFORMAT AND TIME CONTROL: This is a single day team event. Teams will be
  comprised of five players each. See "eligibility" below for details on who
  qualifies to be on a team. 5 double rounds of G15+5 in one open section, r
 un as a swiss. Each team member will play a game with White and a game with
  Black against the same board number from the opposing team (e.g., board 1 
 must play against the other team’s board 1).  Round 1: 10 AM, Round 2: 12 P
 M, Round 3: 2 PM Round 4: 4 PM, Round 5: 6 PM. US Chess membership is not r
 equired to play in this event.\n \nTO ENTER: WI High School Online Rapid St
 ate Championship (kingregistration.com) (https://www.kingregistration.com/e
 vent/WIHighschool)\n \nTEAM RULES: Players must play in rating order. Playe
 rs within 50 rating points of each other may permanently switch positions p
 rior to the tournament. Teams will be seeded based on a team rating derived
  from the higher of either lichess.org rapid ratings or US Chess ratings. F
 or US Chess ratings the March rating supplement will be used. The determina
 tion to use lichess.org or US Chess ratings for team averages will be made 
 the Friday before the event.\n \nPLAYING SITE: All match play will take pla
 ce on <a href="https://lichess.org/">https://lichess.org/</a>. Based on cur
 rent local COVID guidelines as of the event date, teams are encouraged, but
  not required, to play together from a communal site (i.e., their school, a
  library, etc.). All participants are required to join a Zoom meeting with 
 the organizers for the duration of the event. Multiple players in the same 
 location will be able to join via a single call.\n \nELIGIBILITY: All high 
 school teams must be composed of entirely 9th through 12th grade players in
  Wisconsin. All players must be from the same school. If a high school does
  not have a 9th grade, then they may tap 9th graders from eligible feeder s
 chools. A home school or virtual school student may play on either a public
  or private school team. To play on a public school team the student must l
 ive within the attendance boundary (not district) from which that public sc
 hool draws. Any private school seeking to have these students on their team
  must use the same public school attendance boundary in which their school 
 building is located. Players from outside their boundaries are not allowed 
 to play on that school’s team. Home schooled students are considered to be 
 in 9th grade when they are 14 as of September 1st of the school year. Playe
 rs must be under age 19 as of September 1st of the school year.\n \nPRIZES:
  Team trophies will be awarded to the top 5 teams. Each member on the top 5
  teams will receive an individual trophy in addition to a cup trophy for th
 eir school. There will also be board trophies for the top five score-earner
 s at each board (in event of ties here, each player in the tie gets a troph
 y). In the event of team ties for any of the top five places, there will be
  a playoff blitz match between the tied teams. This match will have a time 
 control of G3+2 where each board plays one game against the equivalent boar
 d from the opposing team. All trophies will be mailed to the schools after 
 fair play checks have been completed. These checks are done through the pro
 prietary methods used by lichess.org. All potential fair play violations wi
 ll be reviewed by the tournament organizers.\n \nENTRY FEE + REGISTRATION: 
 $150 per team. Up to 32 teams may participate in this event. Register onlin
 e at https://www.kingregistration.com/event/WIHighschool. Teams must regist
 er as teams, and registration must be filed by an adult representative that
  has been designated by the team (coaches, parents, etc.). No individual re
 gistrations. Registration opens on March 1st and closes on March 10th. If a
 ll 32 team spots are not filled by March 10th, schools that have already en
 tered one team will be allowed to enter a second team.\n \nQUESTIONS: Pleas
 e email This email address is being protected from spambots. You need JavaS
 cript enabled to view it.
				document.getElementById('cloak5f3a9ea7bad734c
 d0dcab1c6fa391b91').innerHTML = '';
				var prefix = '&#109;a' + 'i&#108;' 
 + '&#116;o';
				var path = 'hr' + 'ef' + '=';
				var addy5f3a9ea7bad734cd
 0dcab1c6fa391b91 = 'td' + '&#64;';
				addy5f3a9ea7bad734cd0dcab1c6fa391b91
  = addy5f3a9ea7bad734cd0dcab1c6fa391b91 + '&#105;&#97;-ch&#101;ss' + '&#46;
 ' + 'c&#111;m';
				var addy_text5f3a9ea7bad734cd0dcab1c6fa391b91 = 'td' + 
 '&#64;' + '&#105;&#97;-ch&#101;ss' + '&#46;' + 'c&#111;m';document.getEleme
 ntById('cloak5f3a9ea7bad734cd0dcab1c6fa391b91').innerHTML += '<a ' + path +
  '\'' + prefix + ':' + addy5f3a9ea7bad734cd0dcab1c6fa391b91 + '\'>'+addy_te
 xt5f3a9ea7bad734cd0dcab1c6fa391b91+'';
		 with any questions.\n \nSPONSOR: 
 This event is being sponsored by the IAC (International Academy of Chess) w
 itth the endorsement of the Wisconsin Chess Association.\n
X-ALT-DESC;FMTTYPE=text/html:<p><strong>WISCONSIN HIGH SCHOOL RAPID ONLINE CHESS CHAMPIONSHIP</strong></
 p><p> </p><p><strong>MARCH 21<sup>st</sup>, 2021</strong></p><p> </p><p><st
 rong>FORMAT AND TIME CONTROL: </strong>This is a single day team event. Tea
 ms will be comprised of five players each. See "eligibility" below for deta
 ils on who qualifies to be on a team. 5 double rounds of G15+5 in one open 
 section, run as a swiss. Each team member will play a game with White and a
  game with Black against the same board number from the opposing team (e.g.
 , board 1 must play against the other team’s board 1).  Round 1: 10 AM, Rou
 nd 2: 12 PM, Round 3: 2 PM Round 4: 4 PM, Round 5: 6 PM. US Chess membershi
 p is not required to play in this event.</p><p> </p><p><strong>TO ENTER: <a
  href="https://www.kingregistration.com/event/WIHighschool">WI High School 
 Online Rapid State Championship (kingregistration.com)</a></strong></p><p> 
 </p><p><strong>TEAM RULES: </strong>Players must play in rating order. Play
 ers within 50 rating points of each other may permanently switch positions 
 prior to the tournament. Teams will be seeded based on a team rating derive
 d from the higher of either lichess.org rapid ratings or US Chess ratings. 
 For US Chess ratings the March rating supplement will be used. The determin
 ation to use lichess.org or US Chess ratings for team averages will be made
  the Friday before the event.</p><p><strong> </strong></p><p><strong>PLAYIN
 G SITE: </strong>All match play will take place on <a href="https://lichess
 .org/">https://lichess.org/</a>. Based on current local COVID guidelines as
  of the event date, teams are encouraged, but not required, to play togethe
 r from a communal site (i.e., their school, a library, etc.). All participa
 nts are required to join a Zoom meeting with the organizers for the duratio
 n of the event. Multiple players in the same location will be able to join 
 via a single call.</p><p><strong> </strong></p><p><strong>ELIGIBILITY: </st
 rong>All high school teams must be composed of entirely 9<sup>th</sup> thro
 ugh 12<sup>th</sup> grade players in Wisconsin. All players must be from th
 e same school. If a high school does not have a 9th grade, then they may ta
 p 9th graders from eligible feeder schools. A home school or virtual school
  student may play on either a public or private school team. To play on a p
 ublic school team the student must live within the attendance boundary (not
  district) from which that public school draws. Any private school seeking 
 to have these students on their team must use the same public school attend
 ance boundary in which their school building is located. Players from outsi
 de their boundaries are not allowed to play on that school’s team. Home sch
 ooled students are considered to be in 9th grade when they are 14 as of Sep
 tember 1st of the school year. Players must be under age 19 as of September
  1st of the school year.</p><p><strong> </strong></p><p><strong>PRIZES: </s
 trong>Team trophies will be awarded to the top 5 teams. Each member on the 
 top 5 teams will receive an individual trophy in addition to a cup trophy f
 or their school. There will also be board trophies for the top five score-e
 arners at each board (in event of ties here, each player in the tie gets a 
 trophy). In the event of team ties for any of the top five places, there wi
 ll be a playoff blitz match between the tied teams. This match will have a 
 time control of G3+2 where each board plays one game against the equivalent
  board from the opposing team. All trophies will be mailed to the schools a
 fter fair play checks have been completed. These checks are done through th
 e proprietary methods used by lichess.org. All potential fair play violatio
 ns will be reviewed by the tournament organizers.</p><p><strong> </strong><
 /p><p><strong>ENTRY FEE + REGISTRATION: </strong>$150 per team. Up to 32 te
 ams may participate in this event. Register online at <a href="https://www.
 kingregistration.com/event/WIHighschool">https://www.kingregistration.com/e
 vent/WIHighschool</a>. Teams must register as teams, and registration must 
 be filed by an adult representative that has been designated by the team (c
 oaches, parents, etc.). No individual registrations. Registration opens on 
 March 1<sup>st</sup> and closes on March 10<sup>th</sup>. If all 32 team sp
 ots are not filled by March 10<sup>th</sup>, schools that have already ente
 red one team will be allowed to enter a second team.</p><p> </p><p><strong>
 QUESTIONS:</strong> Please email <span id="cloak5f3a9ea7bad734cd0dcab1c6fa3
 91b91">This email address is being protected from spambots. You need JavaSc
 ript enabled to view it.</span><script type='text/javascript'>
				document
 .getElementById('cloak5f3a9ea7bad734cd0dcab1c6fa391b91').innerHTML = '';
		
 		var prefix = '&#109;a' + 'i&#108;' + '&#116;o';
				var path = 'hr' + 'ef
 ' + '=';
				var addy5f3a9ea7bad734cd0dcab1c6fa391b91 = 'td' + '&#64;';
			
 	addy5f3a9ea7bad734cd0dcab1c6fa391b91 = addy5f3a9ea7bad734cd0dcab1c6fa391b9
 1 + '&#105;&#97;-ch&#101;ss' + '&#46;' + 'c&#111;m';
				var addy_text5f3a9
 ea7bad734cd0dcab1c6fa391b91 = 'td' + '&#64;' + '&#105;&#97;-ch&#101;ss' + '
 &#46;' + 'c&#111;m';document.getElementById('cloak5f3a9ea7bad734cd0dcab1c6f
 a391b91').innerHTML += '<a ' + path + '\'' + prefix + ':' + addy5f3a9ea7bad
 734cd0dcab1c6fa391b91 + '\'>'+addy_text5f3a9ea7bad734cd0dcab1c6fa391b91+'<\
 /a>';
		</script> with any questions.</p><p> </p><p><strong>SPONSOR:</stron
 g> This event is being sponsored by the IAC (International Academy of Chess
 ) witth the endorsement of the Wisconsin Chess Association.</p>
CONTACT:Chris Wainscott
X-EXTRAINFO:This event is open only to WI Teams. It IS NOT US Chess rated.
DTSTAMP:20260419T175031
DTSTART;TZID=America/Chicago:20210321T100000
SEQUENCE:0
TRANSP:OPAQUE
END:VEVENT
END:VCALENDAR