BEGIN:VCALENDAR
VERSION:2.0
PRODID:-//jEvents 2.0 for Joomla//EN
CALSCALE:GREGORIAN
METHOD:PUBLISH
BEGIN:VTIMEZONE
TZID:America/Chicago
BEGIN:STANDARD
DTSTART:20201101T010000
RDATE:20210314T030000
TZOFFSETFROM:-0500
TZOFFSETTO:-0600
TZNAME:America/Chicago CST
END:STANDARD
BEGIN:STANDARD
DTSTART:20211107T010000
RDATE:20220313T030000
TZOFFSETFROM:-0500
TZOFFSETTO:-0600
TZNAME:America/Chicago CST
END:STANDARD
BEGIN:STANDARD
DTSTART:20221106T010000
RDATE:20230312T030000
TZOFFSETFROM:-0500
TZOFFSETTO:-0600
TZNAME:America/Chicago CST
END:STANDARD
BEGIN:STANDARD
DTSTART:20231105T010000
RDATE:20240310T030000
TZOFFSETFROM:-0500
TZOFFSETTO:-0600
TZNAME:America/Chicago CST
END:STANDARD
BEGIN:STANDARD
DTSTART:20241103T010000
RDATE:20250309T030000
TZOFFSETFROM:-0500
TZOFFSETTO:-0600
TZNAME:America/Chicago CST
END:STANDARD
BEGIN:STANDARD
DTSTART:20251102T010000
RDATE:20260308T030000
TZOFFSETFROM:-0500
TZOFFSETTO:-0600
TZNAME:America/Chicago CST
END:STANDARD
BEGIN:STANDARD
DTSTART:20261101T010000
RDATE:20270314T030000
TZOFFSETFROM:-0500
TZOFFSETTO:-0600
TZNAME:America/Chicago CST
END:STANDARD
BEGIN:STANDARD
DTSTART:20271107T010000
RDATE:20280312T030000
TZOFFSETFROM:-0500
TZOFFSETTO:-0600
TZNAME:America/Chicago CST
END:STANDARD
BEGIN:STANDARD
DTSTART:20281105T010000
RDATE:20290311T030000
TZOFFSETFROM:-0500
TZOFFSETTO:-0600
TZNAME:America/Chicago CST
END:STANDARD
BEGIN:DAYLIGHT
DTSTART:20200409T100000
RDATE:20201101T010000
TZOFFSETFROM:-0600
TZOFFSETTO:-0500
TZNAME:America/Chicago CDT
END:DAYLIGHT
BEGIN:DAYLIGHT
DTSTART:20210314T030000
RDATE:20211107T010000
TZOFFSETFROM:-0600
TZOFFSETTO:-0500
TZNAME:America/Chicago CDT
END:DAYLIGHT
BEGIN:DAYLIGHT
DTSTART:20220313T030000
RDATE:20221106T010000
TZOFFSETFROM:-0600
TZOFFSETTO:-0500
TZNAME:America/Chicago CDT
END:DAYLIGHT
BEGIN:DAYLIGHT
DTSTART:20230312T030000
RDATE:20231105T010000
TZOFFSETFROM:-0600
TZOFFSETTO:-0500
TZNAME:America/Chicago CDT
END:DAYLIGHT
BEGIN:DAYLIGHT
DTSTART:20240310T030000
RDATE:20241103T010000
TZOFFSETFROM:-0600
TZOFFSETTO:-0500
TZNAME:America/Chicago CDT
END:DAYLIGHT
BEGIN:DAYLIGHT
DTSTART:20250309T030000
RDATE:20251102T010000
TZOFFSETFROM:-0600
TZOFFSETTO:-0500
TZNAME:America/Chicago CDT
END:DAYLIGHT
BEGIN:DAYLIGHT
DTSTART:20260308T030000
RDATE:20261101T010000
TZOFFSETFROM:-0600
TZOFFSETTO:-0500
TZNAME:America/Chicago CDT
END:DAYLIGHT
BEGIN:DAYLIGHT
DTSTART:20270314T030000
RDATE:20271107T010000
TZOFFSETFROM:-0600
TZOFFSETTO:-0500
TZNAME:America/Chicago CDT
END:DAYLIGHT
BEGIN:DAYLIGHT
DTSTART:20280312T030000
RDATE:20281105T010000
TZOFFSETFROM:-0600
TZOFFSETTO:-0500
TZNAME:America/Chicago CDT
END:DAYLIGHT
END:VTIMEZONE
BEGIN:VEVENT
UID:365e9066004d45021adf6c83274bc4ba
CATEGORIES:Tournaments
CREATED:20210404T101856
SUMMARY:Trophy Hunter Swiss - US Chess Online Rated Event
LOCATION:Online
DESCRIPTION:<div><strong>Trophy Hunter Swiss - US Chess Online Rated Event</strong></di
 v><div> </div><div><strong>ENTER: <a href="https://www.kingregistration.com
 /event/TrophyHunter">Trophy Hunter Swiss - US Chess Online Rated Event (kin
 gregistration.com)</a></strong></div><div> </div><div><strong>MORE THAN TWE
 NTY TROPHIES AS PRIZES!</strong></div><div> </div><div><strong>DATE &amp; T
 IME:</strong> Saturday, April, 10th at 10:00am Central Time. This event is 
 open to K-12 students. Current US Chess membership is required (<a href="ht
 tps://new.uschess.org/become-member">you may join or renew your membership 
 here</a>).</div><div> </div><div><p><strong>FREE GAME ANALYSIS:</strong> Al
 l participants will be invited to an analysis session via Zoom with titled 
 players upon conclusion of their section!</p><p><strong>PLAYING SITE:</stro
 ng> <a href="https://eur06.safelinks.protection.outlook.com/?url=https%3A%2
 F%2Flichess.org%2F&amp;data=02%7C01%7C%7C725308d02afa4a30aff708d86e30d0a9%7
 C84df9e7fe9f640afb435aaaaaaaaaaaa%7C1%7C0%7C637380503216089450&amp;sdata=Ih
 qurSi3qek6q8cttY7ZR7VjPMqIEkqYDxk%2BXoOi6ZE%3D&amp;reserved=0">https://lich
 ess.org/</a> Players must join lichess. Membership is free.</p></div><div><
 div><div> </div><div><strong>PRIZES:</strong> Trophies for top three in eac
 h section, plus top grade in each section. We do not use tiebreaks, so ever
 yone who ties for a grade prize is considered a winner. One prize per perso
 n. <strong>FREE ENTRY into a future event may be chosen instead of a trophy
  for those who wish. </strong>Prizes may take up to a week after the event 
 concludes as games need to be checked for fair play violations. These check
 s are done through the proprietary methods used by lichess and independent 
 analysis by the tournament organizers.</div><div> </div></div></div><div><p
 ><strong>ENTRY FEE:</strong> $30. Please provide a correct email address du
 ring registration: the link and password for the tournament will be emailed
  to that address. <strong>If the link is not received by 8:00am the next mo
 rning, please contact the organizers at </strong><span id="cloaka9460f556f7
 3d2b2b648d430c431f6a0">This email address is being protected from spambots.
  You need JavaScript enabled to view it.</span><script type='text/javascrip
 t'>
				document.getElementById('cloaka9460f556f73d2b2b648d430c431f6a0').in
 nerHTML = '';
				var prefix = '&#109;a' + 'i&#108;' + '&#116;o';
				var p
 ath = 'hr' + 'ef' + '=';
				var addya9460f556f73d2b2b648d430c431f6a0 = 'td
 ' + '&#64;';
				addya9460f556f73d2b2b648d430c431f6a0 = addya9460f556f73d2b
 2b648d430c431f6a0 + '&#105;&#97;-ch&#101;ss' + '&#46;' + 'c&#111;m';
				va
 r addy_texta9460f556f73d2b2b648d430c431f6a0 = 'td' + '&#64;' + '&#105;&#97;
 -ch&#101;ss' + '&#46;' + 'c&#111;m';document.getElementById('cloaka9460f556
 f73d2b2b648d430c431f6a0').innerHTML += '<a ' + path + '\'' + prefix + ':' +
  addya9460f556f73d2b2b648d430c431f6a0 + '\'>'+addy_texta9460f556f73d2b2b648
 d430c431f6a0+'<\/a>';
		</script>.<strong> </strong>For this event the earl
 iest the links and passwords will be sent is April 5th (Monday prior).</p><
 p><strong>BYES AND LATE REGISTRATION:</strong> Online registration closes o
 n April 10th at 9:45am Central Time. Contact <span id="cloak0d18b5c3a0e9218
 7841485b237fbfd43">This email address is being protected from spambots. You
  need JavaScript enabled to view it.</span><script type='text/javascript'>

 				document.getElementById('cloak0d18b5c3a0e92187841485b237fbfd43').innerH
 TML = '';
				var prefix = '&#109;a' + 'i&#108;' + '&#116;o';
				var path 
 = 'hr' + 'ef' + '=';
				var addy0d18b5c3a0e92187841485b237fbfd43 = 'td' + 
 '&#64;';
				addy0d18b5c3a0e92187841485b237fbfd43 = addy0d18b5c3a0e92187841
 485b237fbfd43 + '&#105;&#97;-ch&#101;ss' + '&#46;' + 'c&#111;m';
				var ad
 dy_text0d18b5c3a0e92187841485b237fbfd43 = 'td' + '&#64;' + '&#105;&#97;-ch&
 #101;ss' + '&#46;' + 'c&#111;m';document.getElementById('cloak0d18b5c3a0e92
 187841485b237fbfd43').innerHTML += '<a ' + path + '\'' + prefix + ':' + add
 y0d18b5c3a0e92187841485b237fbfd43 + '\'>'+addy_text0d18b5c3a0e92187841485b2
 37fbfd43+'<\/a>';
		</script> if you wish to register after registration is
  closed. Players may request a 1/2 bye in round one (players who "late join
 " after 10:00am will also receive a 1/2 bye). No other 1/2 byes can be requ
 ested. </p><p><strong>FORMAT AND TIME CONTROL:</strong> G/10+5. All three s
 ections are a <strong>5-round Swiss</strong>. Rounds 2, 3, 4, and 5 will be
  paired five minutes after completion of the final game in the section, so 
 <strong>each section will run as an independent event</strong>. <strong>You
  must be logged in and have joined the tournament to be paired.</strong></p
 ><p><strong>THREE SECTIONS: All players must have current US Chess Membersh
 ip.</strong><strong> </strong><strong>Only US Chess Online Quick ratings ar
 e affected.</strong></p> </div><div><strong>K-12 Section</strong> (all stud
 ents can enter, but grade 6/below are eligible only for top three prizes)</
 div><div> </div><div>Trophies for</div><div>1st </div><div>2nd </div><div>3
 rd </div><div>top grade 12 </div><div>top grade 11 </div><div>top grade 10 
 </div><div>top grade 9   </div><div>top grade 8</div><div>top grade 7</div>
 <div> </div><div><strong>K-6 Section</strong> (students in grades K-6 can e
 nter, but grade 3/below are eligible only for top three prizes)</div><div> 
 </div><div><div>Trophies for</div><div>1st </div><div>2nd </div><div>3rd </
 div></div><div>top grade 6</div><div>top grade 5 </div><div>top grade 4 </d
 iv><div> </div><div><strong>K-3 Section</strong> (students in grade 3  and 
 younger can enter)</div><div><div> </div><div><div>Trophies for</div><div>1
 st </div><div>2nd </div><div>3rd</div><div>top grade 3</div></div></div><di
 v>top grade 2</div><div>top grade 1</div><div>top K/below</div><div> </div>
 <p><strong>QUESTIONS:</strong> Please email any questions to <span id="cloa
 kf70aa79174f54001cf7da745b7db1432">This email address is being protected fr
 om spambots. You need JavaScript enabled to view it.</span><script type='te
 xt/javascript'>
				document.getElementById('cloakf70aa79174f54001cf7da745b
 7db1432').innerHTML = '';
				var prefix = '&#109;a' + 'i&#108;' + '&#116;o
 ';
				var path = 'hr' + 'ef' + '=';
				var addyf70aa79174f54001cf7da745b7
 db1432 = 'td' + '&#64;';
				addyf70aa79174f54001cf7da745b7db1432 = addyf70
 aa79174f54001cf7da745b7db1432 + '&#105;&#97;-ch&#101;ss' + '&#46;' + 'c&#11
 1;m';
				var addy_textf70aa79174f54001cf7da745b7db1432 = 'td' + '&#64;' + 
 '&#105;&#97;-ch&#101;ss' + '&#46;' + 'c&#111;m';document.getElementById('cl
 oakf70aa79174f54001cf7da745b7db1432').innerHTML += '<a ' + path + '\'' + pr
 efix + ':' + addyf70aa79174f54001cf7da745b7db1432 + '\'>'+addy_textf70aa791
 74f54001cf7da745b7db1432+'<\/a>';
		</script></p><p><strong>FAIR PLAY: </st
 rong>In case any fair play violations are discovered, none of the games pla
 yed by the violator will be US Chess rated. For the purposes of standings, 
 any players who lose to someone who violates fair play rules will be given 
 1/2 point. Any wins or draws against fair play violators will stand, though
  the games will not be rated.</p><p>Any participant may be invited to a sub
 sequent Zoom interview to confirm their identity and/or chess-playing abili
 ty.</p><p>By registering for this tournament, you agree that your child's l
 ichess username might be revealed on player registration and prize winner l
 ists.</p>
CONTACT:Chris Wainscott
DTSTAMP:20260419T130634
DTSTART;TZID=America/Chicago:20210410T100000
SEQUENCE:0
TRANSP:OPAQUE
END:VEVENT
END:VCALENDAR