BEGIN:VCALENDAR
VERSION:2.0
PRODID:-//jEvents 2.0 for Joomla//EN
CALSCALE:GREGORIAN
METHOD:PUBLISH
BEGIN:VTIMEZONE
TZID:America/Chicago
BEGIN:STANDARD
DTSTART:20201101T010000
RDATE:20210314T030000
TZOFFSETFROM:-0500
TZOFFSETTO:-0600
TZNAME:America/Chicago CST
END:STANDARD
BEGIN:STANDARD
DTSTART:20211107T010000
RDATE:20220313T030000
TZOFFSETFROM:-0500
TZOFFSETTO:-0600
TZNAME:America/Chicago CST
END:STANDARD
BEGIN:STANDARD
DTSTART:20221106T010000
RDATE:20230312T030000
TZOFFSETFROM:-0500
TZOFFSETTO:-0600
TZNAME:America/Chicago CST
END:STANDARD
BEGIN:STANDARD
DTSTART:20231105T010000
RDATE:20240310T030000
TZOFFSETFROM:-0500
TZOFFSETTO:-0600
TZNAME:America/Chicago CST
END:STANDARD
BEGIN:STANDARD
DTSTART:20241103T010000
RDATE:20250309T030000
TZOFFSETFROM:-0500
TZOFFSETTO:-0600
TZNAME:America/Chicago CST
END:STANDARD
BEGIN:STANDARD
DTSTART:20251102T010000
RDATE:20260308T030000
TZOFFSETFROM:-0500
TZOFFSETTO:-0600
TZNAME:America/Chicago CST
END:STANDARD
BEGIN:STANDARD
DTSTART:20261101T010000
RDATE:20270314T030000
TZOFFSETFROM:-0500
TZOFFSETTO:-0600
TZNAME:America/Chicago CST
END:STANDARD
BEGIN:STANDARD
DTSTART:20271107T010000
RDATE:20280312T030000
TZOFFSETFROM:-0500
TZOFFSETTO:-0600
TZNAME:America/Chicago CST
END:STANDARD
BEGIN:STANDARD
DTSTART:20281105T010000
RDATE:20290311T030000
TZOFFSETFROM:-0500
TZOFFSETTO:-0600
TZNAME:America/Chicago CST
END:STANDARD
BEGIN:DAYLIGHT
DTSTART:20200416T100000
RDATE:20201101T010000
TZOFFSETFROM:-0600
TZOFFSETTO:-0500
TZNAME:America/Chicago CDT
END:DAYLIGHT
BEGIN:DAYLIGHT
DTSTART:20210314T030000
RDATE:20211107T010000
TZOFFSETFROM:-0600
TZOFFSETTO:-0500
TZNAME:America/Chicago CDT
END:DAYLIGHT
BEGIN:DAYLIGHT
DTSTART:20220313T030000
RDATE:20221106T010000
TZOFFSETFROM:-0600
TZOFFSETTO:-0500
TZNAME:America/Chicago CDT
END:DAYLIGHT
BEGIN:DAYLIGHT
DTSTART:20230312T030000
RDATE:20231105T010000
TZOFFSETFROM:-0600
TZOFFSETTO:-0500
TZNAME:America/Chicago CDT
END:DAYLIGHT
BEGIN:DAYLIGHT
DTSTART:20240310T030000
RDATE:20241103T010000
TZOFFSETFROM:-0600
TZOFFSETTO:-0500
TZNAME:America/Chicago CDT
END:DAYLIGHT
BEGIN:DAYLIGHT
DTSTART:20250309T030000
RDATE:20251102T010000
TZOFFSETFROM:-0600
TZOFFSETTO:-0500
TZNAME:America/Chicago CDT
END:DAYLIGHT
BEGIN:DAYLIGHT
DTSTART:20260308T030000
RDATE:20261101T010000
TZOFFSETFROM:-0600
TZOFFSETTO:-0500
TZNAME:America/Chicago CDT
END:DAYLIGHT
BEGIN:DAYLIGHT
DTSTART:20270314T030000
RDATE:20271107T010000
TZOFFSETFROM:-0600
TZOFFSETTO:-0500
TZNAME:America/Chicago CDT
END:DAYLIGHT
BEGIN:DAYLIGHT
DTSTART:20280312T030000
RDATE:20281105T010000
TZOFFSETFROM:-0600
TZOFFSETTO:-0500
TZNAME:America/Chicago CDT
END:DAYLIGHT
END:VTIMEZONE
BEGIN:VEVENT
UID:976fa3269f960c04d2fd97e40f42dc00
CATEGORIES:Tournaments
CREATED:20210404T102031
SUMMARY:$1,000 Spring Into Spring Swiss - US Chess Online Rated Event
LOCATION:Online
DESCRIPTION:<div><strong>$1,000 Spring Into Spring Swiss - US Chess Online Rated Event<
 /strong></div><div> </div><div><strong>ENTER: <a href="https://www.kingregi
 stration.com/event/SpringIntoSpring">$1,000 Spring Into Spring Swiss - US C
 hess Online Rated Event (kingregistration.com)</a></strong></div><div> </di
 v><div><p><strong>DATE &amp; TIME:</strong> Saturday, April 17th at 10:00am
  Central Time. This event is open to K-12 students. Current US Chess member
 ship is required (<a href="https://new.uschess.org/become-member">you may j
 oin or renew your membership here</a>).</p><p><strong>FREE GAME ANALYSIS:</
 strong> All participants will be invited to an analysis session via Zoom wi
 th titled players upon conclusion of their section!</p><p><strong>PLAYING S
 ITE:</strong> <a href="https://eur06.safelinks.protection.outlook.com/?url=
 https%3A%2F%2Flichess.org%2F&amp;data=02%7C01%7C%7C725308d02afa4a30aff708d8
 6e30d0a9%7C84df9e7fe9f640afb435aaaaaaaaaaaa%7C1%7C0%7C637380503216089450&am
 p;sdata=IhqurSi3qek6q8cttY7ZR7VjPMqIEkqYDxk%2BXoOi6ZE%3D&amp;reserved=0">ht
 tps://lichess.org/</a> Players must join lichess. Membership is free.</p><p
 ><strong>PRIZES:</strong> $1,000 in Amazon Gift Cards (b/100 total). In cas
 e of ties, the prize will be split equally between tied players. One prize 
 per person. Prizes may take up to a week after the event concludes as games
  need to be checked for fair play violations. These checks are done through
  the proprietary methods used by lichess and independent analysis by the to
 urnament organizers.</p><p><strong>ENTRY FEE:</strong> $30. Please provide 
 a correct email address during registration: the link and password for the 
 tournament will be emailed to that address. <strong>If the link is not rece
 ived by 8:00am the next morning, please contact the organizers at </strong>
 <span id="cloak9349b8f42f733634e3f594b6e3d0b7ce">This email address is bein
 g protected from spambots. You need JavaScript enabled to view it.</span><s
 cript type='text/javascript'>
				document.getElementById('cloak9349b8f42f7
 33634e3f594b6e3d0b7ce').innerHTML = '';
				var prefix = '&#109;a' + 'i&#10
 8;' + '&#116;o';
				var path = 'hr' + 'ef' + '=';
				var addy9349b8f42f73
 3634e3f594b6e3d0b7ce = 'td' + '&#64;';
				addy9349b8f42f733634e3f594b6e3d0
 b7ce = addy9349b8f42f733634e3f594b6e3d0b7ce + '&#105;&#97;-ch&#101;ss' + '&
 #46;' + 'c&#111;m';
				var addy_text9349b8f42f733634e3f594b6e3d0b7ce = 'td
 ' + '&#64;' + '&#105;&#97;-ch&#101;ss' + '&#46;' + 'c&#111;m';document.getE
 lementById('cloak9349b8f42f733634e3f594b6e3d0b7ce').innerHTML += '<a ' + pa
 th + '\'' + prefix + ':' + addy9349b8f42f733634e3f594b6e3d0b7ce + '\'>'+add
 y_text9349b8f42f733634e3f594b6e3d0b7ce+'<\/a>';
		</script>. For this event
  the earliest the links and passwords will be sent is April 12th (Monday pr
 ior).</p><p><strong>BYES AND LATE REGISTRATION:</strong> Online registratio
 n closes on April 17th at 9:45am Central Time. Contact <span id="cloak889b5
 18be044bacf0d7401c87b29b66b">This email address is being protected from spa
 mbots. You need JavaScript enabled to view it.</span><script type='text/jav
 ascript'>
				document.getElementById('cloak889b518be044bacf0d7401c87b29b66
 b').innerHTML = '';
				var prefix = '&#109;a' + 'i&#108;' + '&#116;o';
			
 	var path = 'hr' + 'ef' + '=';
				var addy889b518be044bacf0d7401c87b29b66b
  = 'td' + '&#64;';
				addy889b518be044bacf0d7401c87b29b66b = addy889b518be
 044bacf0d7401c87b29b66b + '&#105;&#97;-ch&#101;ss' + '&#46;' + 'c&#111;m';

 				var addy_text889b518be044bacf0d7401c87b29b66b = 'td' + '&#64;' + '&#105
 ;&#97;-ch&#101;ss' + '&#46;' + 'c&#111;m';document.getElementById('cloak889
 b518be044bacf0d7401c87b29b66b').innerHTML += '<a ' + path + '\'' + prefix +
  ':' + addy889b518be044bacf0d7401c87b29b66b + '\'>'+addy_text889b518be044ba
 cf0d7401c87b29b66b+'<\/a>';
		</script> if you wish to register after regis
 tration is closed. Players may request a 1/2 bye in round one (players who 
 "late join" after 10:00am will also receive a 1/2 bye). No other 1/2 byes c
 an be requested. </p><p><strong>FORMAT AND TIME CONTROL:</strong> G/10+5. A
 ll three sections are a <strong>5-round Swiss</strong>. Rounds 2, 3, 4, and
  5 will be paired five minutes after completion of the final game in the se
 ction, so <strong>each section will run as an independent event</strong>. <
 strong>You must be logged in and have joined the tournament to be paired.</
 strong></p><p><strong>THREE SECTIONS: All players must have current US Ches
 s Membership.</strong><strong> </strong><strong>Only US Chess Online Quick 
 ratings are affected.</strong></p><p><strong>K-12 Section</strong> (all stu
 dents can enter, but grade 6/below are eligible only for top three prizes)<
 /p><p>1st $70</p><p>2nd $50</p><p>3rd $40</p><p>top grade 12 $40</p><p>top 
 grade 11 $40</p><p>top grade 10 $40</p><p>top grade 9   $40</p><p>top grade
  8 $40</p><p>top grade 7 $40</p><p><strong>K-6 Section</strong> (students i
 n grades K-6 can enter, but grade 3/below are eligible only for top three p
 rizes)</p><p>1st $70</p><p>2nd $50</p><p>3rd $40</p><p>top grade 6 $40</p><
 p>top grade 5 $40</p><p>top grade 4 $40</p><p><strong>K-3 Section</strong> 
 (students in grade 3 and younger can enter)</p><p>1st $70</p><p>2nd $50</p>
 <p>3rd $40</p><p>top grade 3 $40</p><p>top grade 2 $40</p><p>top grade 1 $4
 0</p><p>top K/below $40</p><p><strong>QUESTIONS:</strong> Please email any 
 questions to <span id="cloak5961028660c1037a2efa0eac34a508f3">This email ad
 dress is being protected from spambots. You need JavaScript enabled to view
  it.</span><script type='text/javascript'>
				document.getElementById('clo
 ak5961028660c1037a2efa0eac34a508f3').innerHTML = '';
				var prefix = '&#10
 9;a' + 'i&#108;' + '&#116;o';
				var path = 'hr' + 'ef' + '=';
				var add
 y5961028660c1037a2efa0eac34a508f3 = 'td' + '&#64;';
				addy5961028660c1037
 a2efa0eac34a508f3 = addy5961028660c1037a2efa0eac34a508f3 + '&#105;&#97;-ch&
 #101;ss' + '&#46;' + 'c&#111;m';
				var addy_text5961028660c1037a2efa0eac3
 4a508f3 = 'td' + '&#64;' + '&#105;&#97;-ch&#101;ss' + '&#46;' + 'c&#111;m';
 document.getElementById('cloak5961028660c1037a2efa0eac34a508f3').innerHTML 
 += '<a ' + path + '\'' + prefix + ':' + addy5961028660c1037a2efa0eac34a508f
 3 + '\'>'+addy_text5961028660c1037a2efa0eac34a508f3+'<\/a>';
		</script></p
 ><p><strong>FAIR PLAY: </strong>In case any fair play violations are discov
 ered, none of the games played by the violator will be US Chess rated. For 
 the purposes of standings, any players who lose to someone who violates fai
 r play rules will be given 1/2 point. Any wins or draws against fair play v
 iolators will stand, though the games will not be rated.</p><p>Any particip
 ant may be invited to a subsequent Zoom interview to confirm their identity
  and/or chess-playing ability.</p><p>By registering for this tournament, yo
 u agree that your child's lichess username might be revealed on player regi
 stration and prize winner lists.</p></div>
CONTACT:Chris Wainscott
DTSTAMP:20260419T130432
DTSTART;TZID=America/Chicago:20210417T100000
SEQUENCE:0
TRANSP:OPAQUE
END:VEVENT
END:VCALENDAR