BEGIN:VCALENDAR
VERSION:2.0
PRODID:-//jEvents 2.0 for Joomla//EN
CALSCALE:GREGORIAN
METHOD:PUBLISH
BEGIN:VTIMEZONE
TZID:America/Chicago
BEGIN:STANDARD
DTSTART:20201101T010000
RDATE:20210314T030000
TZOFFSETFROM:-0500
TZOFFSETTO:-0600
TZNAME:America/Chicago CST
END:STANDARD
BEGIN:STANDARD
DTSTART:20211107T010000
RDATE:20220313T030000
TZOFFSETFROM:-0500
TZOFFSETTO:-0600
TZNAME:America/Chicago CST
END:STANDARD
BEGIN:STANDARD
DTSTART:20221106T010000
RDATE:20230312T030000
TZOFFSETFROM:-0500
TZOFFSETTO:-0600
TZNAME:America/Chicago CST
END:STANDARD
BEGIN:STANDARD
DTSTART:20231105T010000
RDATE:20240310T030000
TZOFFSETFROM:-0500
TZOFFSETTO:-0600
TZNAME:America/Chicago CST
END:STANDARD
BEGIN:STANDARD
DTSTART:20241103T010000
RDATE:20250309T030000
TZOFFSETFROM:-0500
TZOFFSETTO:-0600
TZNAME:America/Chicago CST
END:STANDARD
BEGIN:STANDARD
DTSTART:20251102T010000
RDATE:20260308T030000
TZOFFSETFROM:-0500
TZOFFSETTO:-0600
TZNAME:America/Chicago CST
END:STANDARD
BEGIN:STANDARD
DTSTART:20261101T010000
RDATE:20270314T030000
TZOFFSETFROM:-0500
TZOFFSETTO:-0600
TZNAME:America/Chicago CST
END:STANDARD
BEGIN:STANDARD
DTSTART:20271107T010000
RDATE:20280312T030000
TZOFFSETFROM:-0500
TZOFFSETTO:-0600
TZNAME:America/Chicago CST
END:STANDARD
BEGIN:STANDARD
DTSTART:20281105T010000
RDATE:20290311T030000
TZOFFSETFROM:-0500
TZOFFSETTO:-0600
TZNAME:America/Chicago CST
END:STANDARD
BEGIN:DAYLIGHT
DTSTART:20200423T100000
RDATE:20201101T010000
TZOFFSETFROM:-0600
TZOFFSETTO:-0500
TZNAME:America/Chicago CDT
END:DAYLIGHT
BEGIN:DAYLIGHT
DTSTART:20210314T030000
RDATE:20211107T010000
TZOFFSETFROM:-0600
TZOFFSETTO:-0500
TZNAME:America/Chicago CDT
END:DAYLIGHT
BEGIN:DAYLIGHT
DTSTART:20220313T030000
RDATE:20221106T010000
TZOFFSETFROM:-0600
TZOFFSETTO:-0500
TZNAME:America/Chicago CDT
END:DAYLIGHT
BEGIN:DAYLIGHT
DTSTART:20230312T030000
RDATE:20231105T010000
TZOFFSETFROM:-0600
TZOFFSETTO:-0500
TZNAME:America/Chicago CDT
END:DAYLIGHT
BEGIN:DAYLIGHT
DTSTART:20240310T030000
RDATE:20241103T010000
TZOFFSETFROM:-0600
TZOFFSETTO:-0500
TZNAME:America/Chicago CDT
END:DAYLIGHT
BEGIN:DAYLIGHT
DTSTART:20250309T030000
RDATE:20251102T010000
TZOFFSETFROM:-0600
TZOFFSETTO:-0500
TZNAME:America/Chicago CDT
END:DAYLIGHT
BEGIN:DAYLIGHT
DTSTART:20260308T030000
RDATE:20261101T010000
TZOFFSETFROM:-0600
TZOFFSETTO:-0500
TZNAME:America/Chicago CDT
END:DAYLIGHT
BEGIN:DAYLIGHT
DTSTART:20270314T030000
RDATE:20271107T010000
TZOFFSETFROM:-0600
TZOFFSETTO:-0500
TZNAME:America/Chicago CDT
END:DAYLIGHT
BEGIN:DAYLIGHT
DTSTART:20280312T030000
RDATE:20281105T010000
TZOFFSETFROM:-0600
TZOFFSETTO:-0500
TZNAME:America/Chicago CDT
END:DAYLIGHT
END:VTIMEZONE
BEGIN:VEVENT
UID:d49bbc01845dad1f9b5e37c92be85d54
CATEGORIES:Tournaments
CREATED:20210404T102156
SUMMARY:April Showers Trophy Swiss - US Chess Online Rated Event
LOCATION:Online
DESCRIPTION:April Showers Trophy Swiss - US Chess Online Rated Event ENTER: April Showe
 rs Trophy Swiss - US Chess Online Rated Event (kingregistration.com) (https
 ://www.kingregistration.com/event/AprilShowers) MORE THAN TWENTY TROPHIES A
 S PRIZES! DATE &amp; TIME: Saturday, April, 24th at 10:00am Central Time. T
 his event is open to K-12 students. Current US Chess membership is required
  (<a href="https://new.uschess.org/become-member">you may join or renew you
 r membership here</a>). FREE GAME ANALYSIS: All participants will be invite
 d to an analysis session via Zoom with titled players upon conclusion of th
 eir section!\nPLAYING SITE: https://lichess.org/ (https://eur06.safelinks.p
 rotection.outlook.com/?url=https%3A%2F%2Flichess.org%2F&amp;data=02%7C01%7C
 %7C725308d02afa4a30aff708d86e30d0a9%7C84df9e7fe9f640afb435aaaaaaaaaaaa%7C1%
 7C0%7C637380503216089450&amp;sdata=IhqurSi3qek6q8cttY7ZR7VjPMqIEkqYDxk%2BXo
 Oi6ZE%3D&amp;reserved=0) Players must join lichess. Membership is free.\n P
 RIZES: Trophies for top three in each section, plus top grade in each secti
 on. We do not use tiebreaks, so everyone who ties for a grade prize is cons
 idered a winner. One prize per person. FREE ENTRY into a future event may b
 e chosen instead of a trophy for those who wish. Prizes may take up to a we
 ek after the event concludes as games need to be checked for fair play viol
 ations. These checks are done through the proprietary methods used by liche
 ss and independent analysis by the tournament organizers. ENTRY FEE: $30. P
 lease provide a correct email address during registration: the link and pas
 sword for the tournament will be emailed to that address. If the link is no
 t received by 8:00am the next morning, please contact the organizers at Thi
 s email address is being protected from spambots. You need JavaScript enabl
 ed to view it.
				document.getElementById('cloakc28949d2f9eb20f2f5edd71363
 4d3c46').innerHTML = '';
				var prefix = '&#109;a' + 'i&#108;' + '&#116;o'
 ;
				var path = 'hr' + 'ef' + '=';
				var addyc28949d2f9eb20f2f5edd713634
 d3c46 = 'td' + '&#64;';
				addyc28949d2f9eb20f2f5edd713634d3c46 = addyc289
 49d2f9eb20f2f5edd713634d3c46 + '&#105;&#97;-ch&#101;ss' + '&#46;' + 'c&#111
 ;m';
				var addy_textc28949d2f9eb20f2f5edd713634d3c46 = 'td' + '&#64;' + '
 &#105;&#97;-ch&#101;ss' + '&#46;' + 'c&#111;m';document.getElementById('clo
 akc28949d2f9eb20f2f5edd713634d3c46').innerHTML += '<a ' + path + '\'' + pre
 fix + ':' + addyc28949d2f9eb20f2f5edd713634d3c46 + '\'>'+addy_textc28949d2f
 9eb20f2f5edd713634d3c46+'';
		. For this event the earliest the links and p
 asswords will be sent is April 19th (Monday prior).\nBYES AND LATE REGISTRA
 TION: Online registration closes on April 24th at 9:45am Central Time. Cont
 act This email address is being protected from spambots. You need JavaScrip
 t enabled to view it.
				document.getElementById('cloaka3b46b6e9bc270c4745
 fa3482e7a6b51').innerHTML = '';
				var prefix = '&#109;a' + 'i&#108;' + '&
 #116;o';
				var path = 'hr' + 'ef' + '=';
				var addya3b46b6e9bc270c4745f
 a3482e7a6b51 = 'td' + '&#64;';
				addya3b46b6e9bc270c4745fa3482e7a6b51 = a
 ddya3b46b6e9bc270c4745fa3482e7a6b51 + '&#105;&#97;-ch&#101;ss' + '&#46;' + 
 'c&#111;m';
				var addy_texta3b46b6e9bc270c4745fa3482e7a6b51 = 'td' + '&#6
 4;' + '&#105;&#97;-ch&#101;ss' + '&#46;' + 'c&#111;m';document.getElementBy
 Id('cloaka3b46b6e9bc270c4745fa3482e7a6b51').innerHTML += '<a ' + path + '\'
 ' + prefix + ':' + addya3b46b6e9bc270c4745fa3482e7a6b51 + '\'>'+addy_texta3
 b46b6e9bc270c4745fa3482e7a6b51+'';
		 if you wish to register after registr
 ation is closed. Players may request a 1/2 bye in round one (players who "l
 ate join" after 10:00am will also receive a 1/2 bye). No other 1/2 byes can
  be requested. \nFORMAT AND TIME CONTROL: G/10+5. All three sections are a 
 5-round Swiss. Rounds 2, 3, 4, and 5 will be paired five minutes after comp
 letion of the final game in the section, so each section will run as an ind
 ependent event. You must be logged in and have joined the tournament to be 
 paired.\nTHREE SECTIONS: All players must have current US Chess Membership.
  Only US Chess Online Quick ratings are affected.\n K-12 Section (all stude
 nts can enter, but grade 6/below are eligible only for top three prizes) Tr
 ophies for1st 2nd 3rd top grade 12 top grade 11 top grade 10 top grade 9   
 top grade 8top grade 7 K-6 Section (students in grades K-6 can enter, but g
 rade 3/below are eligible only for top three prizes) Trophies for1st 2nd 3r
 d top grade 6top grade 5 top grade 4  K-3 Section (students in grade 3  and
  younger can enter) Trophies for1st 2nd 3rdtop grade 3top grade 2top grade 
 1top K/below QUESTIONS: Please email any questions to This email address is
  being protected from spambots. You need JavaScript enabled to view it.
			
 	document.getElementById('cloakf4a9f707cdd20e29f9924554f454cb02').innerHTML
  = '';
				var prefix = '&#109;a' + 'i&#108;' + '&#116;o';
				var path = '
 hr' + 'ef' + '=';
				var addyf4a9f707cdd20e29f9924554f454cb02 = 'td' + '&#
 64;';
				addyf4a9f707cdd20e29f9924554f454cb02 = addyf4a9f707cdd20e29f99245
 54f454cb02 + '&#105;&#97;-ch&#101;ss' + '&#46;' + 'c&#111;m';
				var addy_
 textf4a9f707cdd20e29f9924554f454cb02 = 'td' + '&#64;' + '&#105;&#97;-ch&#10
 1;ss' + '&#46;' + 'c&#111;m';document.getElementById('cloakf4a9f707cdd20e29
 f9924554f454cb02').innerHTML += '<a ' + path + '\'' + prefix + ':' + addyf4
 a9f707cdd20e29f9924554f454cb02 + '\'>'+addy_textf4a9f707cdd20e29f9924554f45
 4cb02+'';
		\nFAIR PLAY: In case any fair play violations are discovered, n
 one of the games played by the violator will be US Chess rated. For the pur
 poses of standings, any players who lose to someone who violates fair play 
 rules will be given 1/2 point. Any wins or draws against fair play violator
 s will stand, though the games will not be rated.\nAny participant may be i
 nvited to a subsequent Zoom interview to confirm their identity and/or ches
 s-playing ability.\nBy registering for this tournament, you agree that your
  child's lichess username might be revealed on player registration and priz
 e winner lists.\n
X-ALT-DESC;FMTTYPE=text/html:<div><strong>April Showers Trophy Swiss - US Chess Online Rated Event</stro
 ng></div><div> </div><div><strong>ENTER: <a href="https://www.kingregistrat
 ion.com/event/AprilShowers">April Showers Trophy Swiss - US Chess Online Ra
 ted Event (kingregistration.com)</a></strong></div><div> </div><div><strong
 >MORE THAN TWENTY TROPHIES AS PRIZES!</strong></div><div> </div><div><stron
 g>DATE &amp; TIME:</strong> Saturday, April, 24th at 10:00am Central Time. 
 This event is open to K-12 students. Current US Chess membership is require
 d (<a href="https://new.uschess.org/become-member">you may join or renew yo
 ur membership here</a>).</div><div> </div><div><p><strong>FREE GAME ANALYSI
 S:</strong> All participants will be invited to an analysis session via Zoo
 m with titled players upon conclusion of their section!</p><p><strong>PLAYI
 NG SITE:</strong> <a href="https://eur06.safelinks.protection.outlook.com/?
 url=https%3A%2F%2Flichess.org%2F&amp;data=02%7C01%7C%7C725308d02afa4a30aff7
 08d86e30d0a9%7C84df9e7fe9f640afb435aaaaaaaaaaaa%7C1%7C0%7C63738050321608945
 0&amp;sdata=IhqurSi3qek6q8cttY7ZR7VjPMqIEkqYDxk%2BXoOi6ZE%3D&amp;reserved=0
 ">https://lichess.org/</a> Players must join lichess. Membership is free.</
 p></div><div><div><div> </div><div><strong>PRIZES:</strong> Trophies for to
 p three in each section, plus top grade in each section. We do not use tieb
 reaks, so everyone who ties for a grade prize is considered a winner. One p
 rize per person. <strong>FREE ENTRY into a future event may be chosen inste
 ad of a trophy for those who wish. </strong>Prizes may take up to a week af
 ter the event concludes as games need to be checked for fair play violation
 s. These checks are done through the proprietary methods used by lichess an
 d independent analysis by the tournament organizers.</div><div> </div></div
 ></div><div><p><strong>ENTRY FEE:</strong> $30. Please provide a correct em
 ail address during registration: the link and password for the tournament w
 ill be emailed to that address. <strong>If the link is not received by 8:00
 am the next morning, please contact the organizers at </strong><span id="cl
 oakc28949d2f9eb20f2f5edd713634d3c46">This email address is being protected 
 from spambots. You need JavaScript enabled to view it.</span><script type='
 text/javascript'>
				document.getElementById('cloakc28949d2f9eb20f2f5edd71
 3634d3c46').innerHTML = '';
				var prefix = '&#109;a' + 'i&#108;' + '&#116
 ;o';
				var path = 'hr' + 'ef' + '=';
				var addyc28949d2f9eb20f2f5edd713
 634d3c46 = 'td' + '&#64;';
				addyc28949d2f9eb20f2f5edd713634d3c46 = addyc
 28949d2f9eb20f2f5edd713634d3c46 + '&#105;&#97;-ch&#101;ss' + '&#46;' + 'c&#
 111;m';
				var addy_textc28949d2f9eb20f2f5edd713634d3c46 = 'td' + '&#64;' 
 + '&#105;&#97;-ch&#101;ss' + '&#46;' + 'c&#111;m';document.getElementById('
 cloakc28949d2f9eb20f2f5edd713634d3c46').innerHTML += '<a ' + path + '\'' + 
 prefix + ':' + addyc28949d2f9eb20f2f5edd713634d3c46 + '\'>'+addy_textc28949
 d2f9eb20f2f5edd713634d3c46+'<\/a>';
		</script>.<strong> </strong>For this 
 event the earliest the links and passwords will be sent is April 19th (Mond
 ay prior).</p><p><strong>BYES AND LATE REGISTRATION:</strong> Online regist
 ration closes on April 24th at 9:45am Central Time. Contact <span id="cloak
 a3b46b6e9bc270c4745fa3482e7a6b51">This email address is being protected fro
 m spambots. You need JavaScript enabled to view it.</span><script type='tex
 t/javascript'>
				document.getElementById('cloaka3b46b6e9bc270c4745fa3482e
 7a6b51').innerHTML = '';
				var prefix = '&#109;a' + 'i&#108;' + '&#116;o'
 ;
				var path = 'hr' + 'ef' + '=';
				var addya3b46b6e9bc270c4745fa3482e7
 a6b51 = 'td' + '&#64;';
				addya3b46b6e9bc270c4745fa3482e7a6b51 = addya3b4
 6b6e9bc270c4745fa3482e7a6b51 + '&#105;&#97;-ch&#101;ss' + '&#46;' + 'c&#111
 ;m';
				var addy_texta3b46b6e9bc270c4745fa3482e7a6b51 = 'td' + '&#64;' + '
 &#105;&#97;-ch&#101;ss' + '&#46;' + 'c&#111;m';document.getElementById('clo
 aka3b46b6e9bc270c4745fa3482e7a6b51').innerHTML += '<a ' + path + '\'' + pre
 fix + ':' + addya3b46b6e9bc270c4745fa3482e7a6b51 + '\'>'+addy_texta3b46b6e9
 bc270c4745fa3482e7a6b51+'<\/a>';
		</script> if you wish to register after 
 registration is closed. Players may request a 1/2 bye in round one (players
  who "late join" after 10:00am will also receive a 1/2 bye). No other 1/2 b
 yes can be requested. </p><p><strong>FORMAT AND TIME CONTROL:</strong> G/10
 +5. All three sections are a <strong>5-round Swiss</strong>. Rounds 2, 3, 4
 , and 5 will be paired five minutes after completion of the final game in t
 he section, so <strong>each section will run as an independent event</stron
 g>. <strong>You must be logged in and have joined the tournament to be pair
 ed.</strong></p><p><strong>THREE SECTIONS: All players must have current US
  Chess Membership.</strong><strong> </strong><strong>Only US Chess Online Q
 uick ratings are affected.</strong></p> </div><div><strong>K-12 Section</st
 rong> (all students can enter, but grade 6/below are eligible only for top 
 three prizes)</div><div> </div><div>Trophies for</div><div>1st </div><div>2
 nd </div><div>3rd </div><div>top grade 12 </div><div>top grade 11 </div><di
 v>top grade 10 </div><div>top grade 9   </div><div>top grade 8</div><div>to
 p grade 7</div><div> </div><div><strong>K-6 Section</strong> (students in g
 rades K-6 can enter, but grade 3/below are eligible only for top three priz
 es)</div><div> </div><div><div>Trophies for</div><div>1st </div><div>2nd </
 div><div>3rd </div></div><div>top grade 6</div><div>top grade 5 </div><div>
 top grade 4 </div><div> </div><div><strong>K-3 Section</strong> (students i
 n grade 3  and younger can enter)</div><div><div> </div><div><div>Trophies 
 for</div><div>1st </div><div>2nd </div><div>3rd</div><div>top grade 3</div>
 </div></div><div>top grade 2</div><div>top grade 1</div><div>top K/below</d
 iv><div> </div><p><strong>QUESTIONS:</strong> Please email any questions to
  <span id="cloakf4a9f707cdd20e29f9924554f454cb02">This email address is bei
 ng protected from spambots. You need JavaScript enabled to view it.</span><
 script type='text/javascript'>
				document.getElementById('cloakf4a9f707cd
 d20e29f9924554f454cb02').innerHTML = '';
				var prefix = '&#109;a' + 'i&#1
 08;' + '&#116;o';
				var path = 'hr' + 'ef' + '=';
				var addyf4a9f707cdd
 20e29f9924554f454cb02 = 'td' + '&#64;';
				addyf4a9f707cdd20e29f9924554f45
 4cb02 = addyf4a9f707cdd20e29f9924554f454cb02 + '&#105;&#97;-ch&#101;ss' + '
 &#46;' + 'c&#111;m';
				var addy_textf4a9f707cdd20e29f9924554f454cb02 = 't
 d' + '&#64;' + '&#105;&#97;-ch&#101;ss' + '&#46;' + 'c&#111;m';document.get
 ElementById('cloakf4a9f707cdd20e29f9924554f454cb02').innerHTML += '<a ' + p
 ath + '\'' + prefix + ':' + addyf4a9f707cdd20e29f9924554f454cb02 + '\'>'+ad
 dy_textf4a9f707cdd20e29f9924554f454cb02+'<\/a>';
		</script></p><p><strong>
 FAIR PLAY: </strong>In case any fair play violations are discovered, none o
 f the games played by the violator will be US Chess rated. For the purposes
  of standings, any players who lose to someone who violates fair play rules
  will be given 1/2 point. Any wins or draws against fair play violators wil
 l stand, though the games will not be rated.</p><p>Any participant may be i
 nvited to a subsequent Zoom interview to confirm their identity and/or ches
 s-playing ability.</p><p>By registering for this tournament, you agree that
  your child's lichess username might be revealed on player registration and
  prize winner lists.</p>
CONTACT:Chris Wainscott
DTSTAMP:20260419T130105
DTSTART;TZID=America/Chicago:20210424T100000
SEQUENCE:0
TRANSP:OPAQUE
END:VEVENT
END:VCALENDAR