BEGIN:VCALENDAR
VERSION:2.0
PRODID:-//jEvents 2.0 for Joomla//EN
CALSCALE:GREGORIAN
METHOD:PUBLISH
BEGIN:VTIMEZONE
TZID:America/Chicago
BEGIN:STANDARD
DTSTART:20201101T010000
RDATE:20210314T030000
TZOFFSETFROM:-0500
TZOFFSETTO:-0600
TZNAME:America/Chicago CST
END:STANDARD
BEGIN:STANDARD
DTSTART:20211107T010000
RDATE:20220313T030000
TZOFFSETFROM:-0500
TZOFFSETTO:-0600
TZNAME:America/Chicago CST
END:STANDARD
BEGIN:STANDARD
DTSTART:20221106T010000
RDATE:20230312T030000
TZOFFSETFROM:-0500
TZOFFSETTO:-0600
TZNAME:America/Chicago CST
END:STANDARD
BEGIN:STANDARD
DTSTART:20231105T010000
RDATE:20240310T030000
TZOFFSETFROM:-0500
TZOFFSETTO:-0600
TZNAME:America/Chicago CST
END:STANDARD
BEGIN:STANDARD
DTSTART:20241103T010000
RDATE:20250309T030000
TZOFFSETFROM:-0500
TZOFFSETTO:-0600
TZNAME:America/Chicago CST
END:STANDARD
BEGIN:STANDARD
DTSTART:20251102T010000
RDATE:20260308T030000
TZOFFSETFROM:-0500
TZOFFSETTO:-0600
TZNAME:America/Chicago CST
END:STANDARD
BEGIN:STANDARD
DTSTART:20261101T010000
RDATE:20270314T030000
TZOFFSETFROM:-0500
TZOFFSETTO:-0600
TZNAME:America/Chicago CST
END:STANDARD
BEGIN:STANDARD
DTSTART:20271107T010000
RDATE:20280312T030000
TZOFFSETFROM:-0500
TZOFFSETTO:-0600
TZNAME:America/Chicago CST
END:STANDARD
BEGIN:STANDARD
DTSTART:20281105T010000
RDATE:20290311T030000
TZOFFSETFROM:-0500
TZOFFSETTO:-0600
TZNAME:America/Chicago CST
END:STANDARD
BEGIN:DAYLIGHT
DTSTART:20200903T000000
RDATE:20201101T010000
TZOFFSETFROM:-0600
TZOFFSETTO:-0500
TZNAME:America/Chicago CDT
END:DAYLIGHT
BEGIN:DAYLIGHT
DTSTART:20210314T030000
RDATE:20211107T010000
TZOFFSETFROM:-0600
TZOFFSETTO:-0500
TZNAME:America/Chicago CDT
END:DAYLIGHT
BEGIN:DAYLIGHT
DTSTART:20220313T030000
RDATE:20221106T010000
TZOFFSETFROM:-0600
TZOFFSETTO:-0500
TZNAME:America/Chicago CDT
END:DAYLIGHT
BEGIN:DAYLIGHT
DTSTART:20230312T030000
RDATE:20231105T010000
TZOFFSETFROM:-0600
TZOFFSETTO:-0500
TZNAME:America/Chicago CDT
END:DAYLIGHT
BEGIN:DAYLIGHT
DTSTART:20240310T030000
RDATE:20241103T010000
TZOFFSETFROM:-0600
TZOFFSETTO:-0500
TZNAME:America/Chicago CDT
END:DAYLIGHT
BEGIN:DAYLIGHT
DTSTART:20250309T030000
RDATE:20251102T010000
TZOFFSETFROM:-0600
TZOFFSETTO:-0500
TZNAME:America/Chicago CDT
END:DAYLIGHT
BEGIN:DAYLIGHT
DTSTART:20260308T030000
RDATE:20261101T010000
TZOFFSETFROM:-0600
TZOFFSETTO:-0500
TZNAME:America/Chicago CDT
END:DAYLIGHT
BEGIN:DAYLIGHT
DTSTART:20270314T030000
RDATE:20271107T010000
TZOFFSETFROM:-0600
TZOFFSETTO:-0500
TZNAME:America/Chicago CDT
END:DAYLIGHT
BEGIN:DAYLIGHT
DTSTART:20280312T030000
RDATE:20281105T010000
TZOFFSETFROM:-0600
TZOFFSETTO:-0500
TZNAME:America/Chicago CDT
END:DAYLIGHT
END:VTIMEZONE
BEGIN:VEVENT
UID:5f8ecd141c545d1e78ba07d67886e716
CATEGORIES:Tournaments
CREATED:20210704T134411
SUMMARY:44th Annual Green Bay Open
LOCATION:Radisson Hotel &amp; Conference Center\, 2040 Airport Drive\, Green Bay\, W
 I  54313.  Phone (920) 494-7300
DESCRIPTION:The 44th Annual Green Bay Open (GBO) Chess Championship is open to chess pl
 ayers of all ages and abilities that are or become members of the US Chess 
 Federation.  The playing site is the Radisson Hotel &amp; Conference Center
 , 2040 Airport Drive, Green Bay, WI  54313; Phone number (920) 494-7300.  H
 otel rates for chess players are $99 single/double if made by August 27.  \
 nThe 44th GBO is a 1 section 5 round Swiss system tournament.  The primary 
 time control is 40 moves in 90 minutes, followed by the secondary control o
 f sudden death in an hour with a 5 second delay for both controls.\nRound s
 tarting times are 10 AM, 2:30 &amp; 7:30 PM on Saturday, Sept. 4th; 10 AM, 
 3:15 PM on Sunday Sept. 5th. \nThe advance entry fee per person is $55 if r
 eceived by the tournament director by September 1st.  All entries are $10 m
 ore after this date.  All checks should be made payable and sent to:  Luke 
 Ludwig, 2191 Allouez Ave., Green Bay, WI  54311\nLate registrations will be
  accepted at the playing site from 8:45 - 9:25 AM.\nThe top 2 prizes of $40
 0 + trophy for 1st and $225 are guaranteed.  Other cash prizes and along wi
 th trophies junior age players will be given out based on actual tournament
  attendance.\n \n \n
X-ALT-DESC;FMTTYPE=text/html:<p>The 44th Annual Green Bay Open (GBO) Chess Championship is open to chess
  players of all ages and abilities that are or become members of the US Che
 ss Federation.  The playing site is the Radisson Hotel &amp; Conference Cen
 ter, 2040 Airport Drive, Green Bay, WI  54313; Phone number (920) 494-7300.
   Hotel rates for chess players are $99 single/double if made by August 27.
   </p><p>The 44th GBO is a 1 section 5 round Swiss system tournament.  The 
 primary time control is 40 moves in 90 minutes, followed by the secondary c
 ontrol of sudden death in an hour with a 5 second delay for both controls.<
 /p><p>Round starting times are 10 AM, 2:30 &amp; 7:30 PM on Saturday, Sept.
  4th; 10 AM, 3:15 PM on Sunday Sept. 5th. </p><p>The advance entry fee per 
 person is $55 if received by the tournament director by September 1st.  All
  entries are $10 more after this date.  All checks should be made payable a
 nd sent to:  Luke Ludwig, 2191 Allouez Ave., Green Bay, WI  54311</p><p>Lat
 e registrations will be accepted at the playing site from 8:45 - 9:25 AM.</
 p><p>The top 2 prizes of $400 + trophy for 1st and $225 are guaranteed.  Ot
 her cash prizes and along with trophies junior age players will be given ou
 t based on actual tournament attendance.</p><p> </p><p> </p>
CONTACT:Luke Ludwig, 2191 Allouez Ave., Green Bay, WI  54311.  Phone (920) 465-9859.  Email: This email address is being protected from spambots. You need JavaScript enabled to view it.
				document.getElementById('cloakd88edc5ddb38d2c480fb0979b40e4a95').innerHTML = '';
				var prefix = '&#109;a' + 'i&#108;' + '&#116;o';
				var path = 'hr' + 'ef' + '=';
				var addyd88edc5ddb38d2c480fb0979b40e4a95 = 'l&#117;k&#101;&#97;l&#117;dw&#105;g' + '&#64;';
				addyd88edc5ddb38d2c480fb0979b40e4a95 = addyd88edc5ddb38d2c480fb0979b40e4a95 + '&#97;&#111;l' + '&#46;' + 'c&#111;m';
				var addy_textd88edc5ddb38d2c480fb0979b40e4a95 = 'l&#117;k&#101;&#97;l&#117;dw&#105;g' + '&#64;' + '&#97;&#111;l' + '&#46;' + 'c&#111;m';document.getElementById('cloakd88edc5ddb38d2c480fb0979b40e4a95').innerHTML += '<a ' + path + '\'' + prefix + ':' + addyd88edc5ddb38d2c480fb0979b40e4a95 + '\'>'+addy_textd88edc5ddb38d2c480fb0979b40e4a95+'';
		
DTSTAMP:20260422T072118
DTSTART;TZID=America/Chicago;VALUE=DATE:20210904
DTEND;TZID=America/Chicago;VALUE=DATE:20210906
SEQUENCE:0
TRANSP:OPAQUE
END:VEVENT
END:VCALENDAR