BEGIN:VCALENDAR
VERSION:2.0
PRODID:-//jEvents 2.0 for Joomla//EN
CALSCALE:GREGORIAN
METHOD:PUBLISH
BEGIN:VTIMEZONE
TZID:America/Chicago
BEGIN:STANDARD
DTSTART:20111106T010000
RDATE:20120311T030000
TZOFFSETFROM:-0500
TZOFFSETTO:-0600
TZNAME:America/Chicago CST
END:STANDARD
BEGIN:STANDARD
DTSTART:20121104T010000
RDATE:20130310T030000
TZOFFSETFROM:-0500
TZOFFSETTO:-0600
TZNAME:America/Chicago CST
END:STANDARD
BEGIN:STANDARD
DTSTART:20131103T010000
RDATE:20140309T030000
TZOFFSETFROM:-0500
TZOFFSETTO:-0600
TZNAME:America/Chicago CST
END:STANDARD
BEGIN:STANDARD
DTSTART:20141102T010000
RDATE:20150308T030000
TZOFFSETFROM:-0500
TZOFFSETTO:-0600
TZNAME:America/Chicago CST
END:STANDARD
BEGIN:STANDARD
DTSTART:20151101T010000
RDATE:20160313T030000
TZOFFSETFROM:-0500
TZOFFSETTO:-0600
TZNAME:America/Chicago CST
END:STANDARD
BEGIN:STANDARD
DTSTART:20161106T010000
RDATE:20170312T030000
TZOFFSETFROM:-0500
TZOFFSETTO:-0600
TZNAME:America/Chicago CST
END:STANDARD
BEGIN:STANDARD
DTSTART:20171105T010000
RDATE:20180311T030000
TZOFFSETFROM:-0500
TZOFFSETTO:-0600
TZNAME:America/Chicago CST
END:STANDARD
BEGIN:STANDARD
DTSTART:20181104T010000
RDATE:20190310T030000
TZOFFSETFROM:-0500
TZOFFSETTO:-0600
TZNAME:America/Chicago CST
END:STANDARD
BEGIN:STANDARD
DTSTART:20191103T010000
RDATE:20200308T030000
TZOFFSETFROM:-0500
TZOFFSETTO:-0600
TZNAME:America/Chicago CST
END:STANDARD
BEGIN:STANDARD
DTSTART:20201101T010000
RDATE:20210314T030000
TZOFFSETFROM:-0500
TZOFFSETTO:-0600
TZNAME:America/Chicago CST
END:STANDARD
BEGIN:STANDARD
DTSTART:20211107T010000
RDATE:20220313T030000
TZOFFSETFROM:-0500
TZOFFSETTO:-0600
TZNAME:America/Chicago CST
END:STANDARD
BEGIN:STANDARD
DTSTART:20221106T010000
RDATE:20230312T030000
TZOFFSETFROM:-0500
TZOFFSETTO:-0600
TZNAME:America/Chicago CST
END:STANDARD
BEGIN:STANDARD
DTSTART:20231105T010000
RDATE:20240310T030000
TZOFFSETFROM:-0500
TZOFFSETTO:-0600
TZNAME:America/Chicago CST
END:STANDARD
BEGIN:STANDARD
DTSTART:20241103T010000
RDATE:20250309T030000
TZOFFSETFROM:-0500
TZOFFSETTO:-0600
TZNAME:America/Chicago CST
END:STANDARD
BEGIN:STANDARD
DTSTART:20251102T010000
RDATE:20260308T030000
TZOFFSETFROM:-0500
TZOFFSETTO:-0600
TZNAME:America/Chicago CST
END:STANDARD
BEGIN:STANDARD
DTSTART:20261101T010000
RDATE:20270314T030000
TZOFFSETFROM:-0500
TZOFFSETTO:-0600
TZNAME:America/Chicago CST
END:STANDARD
BEGIN:STANDARD
DTSTART:20271107T010000
RDATE:20280312T030000
TZOFFSETFROM:-0500
TZOFFSETTO:-0600
TZNAME:America/Chicago CST
END:STANDARD
BEGIN:STANDARD
DTSTART:20281105T010000
RDATE:20290311T030000
TZOFFSETFROM:-0500
TZOFFSETTO:-0600
TZNAME:America/Chicago CST
END:STANDARD
BEGIN:DAYLIGHT
DTSTART:20111103T100000
RDATE:20111106T010000
TZOFFSETFROM:-0600
TZOFFSETTO:-0500
TZNAME:America/Chicago CDT
END:DAYLIGHT
BEGIN:DAYLIGHT
DTSTART:20120311T030000
RDATE:20121104T010000
TZOFFSETFROM:-0600
TZOFFSETTO:-0500
TZNAME:America/Chicago CDT
END:DAYLIGHT
BEGIN:DAYLIGHT
DTSTART:20130310T030000
RDATE:20131103T010000
TZOFFSETFROM:-0600
TZOFFSETTO:-0500
TZNAME:America/Chicago CDT
END:DAYLIGHT
BEGIN:DAYLIGHT
DTSTART:20140309T030000
RDATE:20141102T010000
TZOFFSETFROM:-0600
TZOFFSETTO:-0500
TZNAME:America/Chicago CDT
END:DAYLIGHT
BEGIN:DAYLIGHT
DTSTART:20150308T030000
RDATE:20151101T010000
TZOFFSETFROM:-0600
TZOFFSETTO:-0500
TZNAME:America/Chicago CDT
END:DAYLIGHT
BEGIN:DAYLIGHT
DTSTART:20160313T030000
RDATE:20161106T010000
TZOFFSETFROM:-0600
TZOFFSETTO:-0500
TZNAME:America/Chicago CDT
END:DAYLIGHT
BEGIN:DAYLIGHT
DTSTART:20170312T030000
RDATE:20171105T010000
TZOFFSETFROM:-0600
TZOFFSETTO:-0500
TZNAME:America/Chicago CDT
END:DAYLIGHT
BEGIN:DAYLIGHT
DTSTART:20180311T030000
RDATE:20181104T010000
TZOFFSETFROM:-0600
TZOFFSETTO:-0500
TZNAME:America/Chicago CDT
END:DAYLIGHT
BEGIN:DAYLIGHT
DTSTART:20190310T030000
RDATE:20191103T010000
TZOFFSETFROM:-0600
TZOFFSETTO:-0500
TZNAME:America/Chicago CDT
END:DAYLIGHT
BEGIN:DAYLIGHT
DTSTART:20200308T030000
RDATE:20201101T010000
TZOFFSETFROM:-0600
TZOFFSETTO:-0500
TZNAME:America/Chicago CDT
END:DAYLIGHT
BEGIN:DAYLIGHT
DTSTART:20210314T030000
RDATE:20211107T010000
TZOFFSETFROM:-0600
TZOFFSETTO:-0500
TZNAME:America/Chicago CDT
END:DAYLIGHT
BEGIN:DAYLIGHT
DTSTART:20220313T030000
RDATE:20221106T010000
TZOFFSETFROM:-0600
TZOFFSETTO:-0500
TZNAME:America/Chicago CDT
END:DAYLIGHT
BEGIN:DAYLIGHT
DTSTART:20230312T030000
RDATE:20231105T010000
TZOFFSETFROM:-0600
TZOFFSETTO:-0500
TZNAME:America/Chicago CDT
END:DAYLIGHT
BEGIN:DAYLIGHT
DTSTART:20240310T030000
RDATE:20241103T010000
TZOFFSETFROM:-0600
TZOFFSETTO:-0500
TZNAME:America/Chicago CDT
END:DAYLIGHT
BEGIN:DAYLIGHT
DTSTART:20250309T030000
RDATE:20251102T010000
TZOFFSETFROM:-0600
TZOFFSETTO:-0500
TZNAME:America/Chicago CDT
END:DAYLIGHT
BEGIN:DAYLIGHT
DTSTART:20260308T030000
RDATE:20261101T010000
TZOFFSETFROM:-0600
TZOFFSETTO:-0500
TZNAME:America/Chicago CDT
END:DAYLIGHT
BEGIN:DAYLIGHT
DTSTART:20270314T030000
RDATE:20271107T010000
TZOFFSETFROM:-0600
TZOFFSETTO:-0500
TZNAME:America/Chicago CDT
END:DAYLIGHT
BEGIN:DAYLIGHT
DTSTART:20280312T030000
RDATE:20281105T010000
TZOFFSETFROM:-0600
TZOFFSETTO:-0500
TZNAME:America/Chicago CDT
END:DAYLIGHT
END:VTIMEZONE
BEGIN:VEVENT
UID:571756b2e3430a2a06ae5248e05bc4e6
CATEGORIES:Tournaments
CREATED:20121004T110110
SUMMARY:5th Annual Holy Trinity Oconomowoc USCF Open
LOCATION: Holy Trinity School\, N50 W35181 East Wisconsin Avenue\,  Oconomowoc\, WI 
 53066; (262) 567-0669 
DESCRIPTION:<p style="line-height: 1.5em; margin: 0px 0px 5px; color: #2a2a2a; padding:
  5px 20px; font-size: 12.800000190734863px; font-family: arial, verdana, he
 lvetica, sans-serif;"><strong style="line-height: 16px;">Three sections: </
 strong>Scholastic K-3 (non-rated), Scholastic K-8 (non-rated), <strong styl
 e="line-height: 16px;">Open (adults and juniors, USCF rated section)</stron
 g><br style="line-height: 16px;" /><br style="line-height: 16px;" /><strong
  style="line-height: 16px;">Prizes: </strong>K-3 and K-8: trophies to top f
 ive individuals and to top three teams; Open: trophies to top two, top fini
 sher with rating less than 1100, top finisher with rating less than 900, an
 d top finisher with rating less than 700.<br style="line-height: 16px;" /><
 br style="line-height: 16px;" /><strong style="line-height: 16px;">Later Re
 gistration/Check-in:</strong> 8:45-9:30am<br style="line-height: 16px;" /><
 br style="line-height: 16px;" /><strong style="line-height: 16px;">Round Ti
 mes:</strong> K-3 and K-8 (5 rounds, g/30+5 second delay per player, no eli
 mination): 10am, 11:00am, 12:30pm, 2:00pm, 3:30pm, awards at 4:45pm  Open (
 4 rounds, g/45+5 second delay per player, no elimination): 10:00am, 12:30pm
 , 2:15pm, 4:00pm, awards at 5:30pm<br style="line-height: 16px;" /><br styl
 e="line-height: 16px;" /><span style="line-height: 16px; color: #008000;">L
 unch can be purchased at playing site</span></p><p style="line-height: 1.5e
 m; margin: 0px 0px 5px; color: #2a2a2a; padding: 5px 20px; font-size: 12.80
 0000190734863px; font-family: arial, verdana, helvetica, sans-serif;"><stro
 ng style="font-size: 12.800000190734863px; line-height: 16px;">Entry Fee:</
 strong><span style="font-size: 12.800000190734863px; line-height: 1.5em;"> 
 $15 advance, $20 after October 31st; online entry: </span><span style="font
 -size: 10pt; line-height: 17.600000381469727px; font-family: Tahoma;">www.o
 nlineregistration.cc OR </span><span style="font-size: 12.800000190734863px
 ; line-height: 1.5em;">make checks payable to Holy Trinity Chess; send to H
 oly Trinity School, Attention: Sue Visconti (Chess), N50 W35181 East Wiscon
 sin Avenue,  Oconomowoc, WI 53066; </span></p>
CONTACT:Sue Visconti: Tel: 262-893-4742, This email address is being protected from spambots. You need JavaScript enabled to view it.
				document.getElementById('cloak489bab9045849f68129a4ffc84768343').innerHTML = '';
				var prefix = '&#109;a' + 'i&#108;' + '&#116;o';
				var path = 'hr' + 'ef' + '=';
				var addy489bab9045849f68129a4ffc84768343 = 'sv&#105;sc&#111;nt&#105;' + '&#64;';
				addy489bab9045849f68129a4ffc84768343 = addy489bab9045849f68129a4ffc84768343 + 'w&#105;' + '&#46;' + 'rr' + '&#46;' + 'c&#111;m';
				var addy_text489bab9045849f68129a4ffc84768343 = 'sv&#105;sc&#111;nt&#105;' + '&#64;' + 'w&#105;' + '&#46;' + 'rr' + '&#46;' + 'c&#111;m';document.getElementById('cloak489bab9045849f68129a4ffc84768343').innerHTML += '<a ' + path + '\'' + prefix + ':' + addy489bab9045849f68129a4ffc84768343 + '\'>'+addy_text489bab9045849f68129a4ffc84768343+'';
		
DTSTAMP:20260423T161806
DTSTART;TZID=America/Chicago:20121103T100000
DTEND;TZID=America/Chicago:20121103T170000
SEQUENCE:0
TRANSP:OPAQUE
END:VEVENT
END:VCALENDAR