BEGIN:VCALENDAR
VERSION:2.0
PRODID:-//jEvents 2.0 for Joomla//EN
CALSCALE:GREGORIAN
METHOD:PUBLISH
BEGIN:VTIMEZONE
TZID:America/Chicago
BEGIN:STANDARD
DTSTART:20121104T010000
RDATE:20130310T030000
TZOFFSETFROM:-0500
TZOFFSETTO:-0600
TZNAME:America/Chicago CST
END:STANDARD
BEGIN:STANDARD
DTSTART:20131103T010000
RDATE:20140309T030000
TZOFFSETFROM:-0500
TZOFFSETTO:-0600
TZNAME:America/Chicago CST
END:STANDARD
BEGIN:STANDARD
DTSTART:20141102T010000
RDATE:20150308T030000
TZOFFSETFROM:-0500
TZOFFSETTO:-0600
TZNAME:America/Chicago CST
END:STANDARD
BEGIN:STANDARD
DTSTART:20151101T010000
RDATE:20160313T030000
TZOFFSETFROM:-0500
TZOFFSETTO:-0600
TZNAME:America/Chicago CST
END:STANDARD
BEGIN:STANDARD
DTSTART:20161106T010000
RDATE:20170312T030000
TZOFFSETFROM:-0500
TZOFFSETTO:-0600
TZNAME:America/Chicago CST
END:STANDARD
BEGIN:STANDARD
DTSTART:20171105T010000
RDATE:20180311T030000
TZOFFSETFROM:-0500
TZOFFSETTO:-0600
TZNAME:America/Chicago CST
END:STANDARD
BEGIN:STANDARD
DTSTART:20181104T010000
RDATE:20190310T030000
TZOFFSETFROM:-0500
TZOFFSETTO:-0600
TZNAME:America/Chicago CST
END:STANDARD
BEGIN:STANDARD
DTSTART:20191103T010000
RDATE:20200308T030000
TZOFFSETFROM:-0500
TZOFFSETTO:-0600
TZNAME:America/Chicago CST
END:STANDARD
BEGIN:STANDARD
DTSTART:20201101T010000
RDATE:20210314T030000
TZOFFSETFROM:-0500
TZOFFSETTO:-0600
TZNAME:America/Chicago CST
END:STANDARD
BEGIN:STANDARD
DTSTART:20211107T010000
RDATE:20220313T030000
TZOFFSETFROM:-0500
TZOFFSETTO:-0600
TZNAME:America/Chicago CST
END:STANDARD
BEGIN:STANDARD
DTSTART:20221106T010000
RDATE:20230312T030000
TZOFFSETFROM:-0500
TZOFFSETTO:-0600
TZNAME:America/Chicago CST
END:STANDARD
BEGIN:STANDARD
DTSTART:20231105T010000
RDATE:20240310T030000
TZOFFSETFROM:-0500
TZOFFSETTO:-0600
TZNAME:America/Chicago CST
END:STANDARD
BEGIN:STANDARD
DTSTART:20241103T010000
RDATE:20250309T030000
TZOFFSETFROM:-0500
TZOFFSETTO:-0600
TZNAME:America/Chicago CST
END:STANDARD
BEGIN:STANDARD
DTSTART:20251102T010000
RDATE:20260308T030000
TZOFFSETFROM:-0500
TZOFFSETTO:-0600
TZNAME:America/Chicago CST
END:STANDARD
BEGIN:STANDARD
DTSTART:20261101T010000
RDATE:20270314T030000
TZOFFSETFROM:-0500
TZOFFSETTO:-0600
TZNAME:America/Chicago CST
END:STANDARD
BEGIN:STANDARD
DTSTART:20271107T010000
RDATE:20280312T030000
TZOFFSETFROM:-0500
TZOFFSETTO:-0600
TZNAME:America/Chicago CST
END:STANDARD
BEGIN:STANDARD
DTSTART:20281105T010000
RDATE:20290311T030000
TZOFFSETFROM:-0500
TZOFFSETTO:-0600
TZNAME:America/Chicago CST
END:STANDARD
BEGIN:DAYLIGHT
DTSTART:20120614T100000
RDATE:20121104T010000
TZOFFSETFROM:-0600
TZOFFSETTO:-0500
TZNAME:America/Chicago CDT
END:DAYLIGHT
BEGIN:DAYLIGHT
DTSTART:20130310T030000
RDATE:20131103T010000
TZOFFSETFROM:-0600
TZOFFSETTO:-0500
TZNAME:America/Chicago CDT
END:DAYLIGHT
BEGIN:DAYLIGHT
DTSTART:20140309T030000
RDATE:20141102T010000
TZOFFSETFROM:-0600
TZOFFSETTO:-0500
TZNAME:America/Chicago CDT
END:DAYLIGHT
BEGIN:DAYLIGHT
DTSTART:20150308T030000
RDATE:20151101T010000
TZOFFSETFROM:-0600
TZOFFSETTO:-0500
TZNAME:America/Chicago CDT
END:DAYLIGHT
BEGIN:DAYLIGHT
DTSTART:20160313T030000
RDATE:20161106T010000
TZOFFSETFROM:-0600
TZOFFSETTO:-0500
TZNAME:America/Chicago CDT
END:DAYLIGHT
BEGIN:DAYLIGHT
DTSTART:20170312T030000
RDATE:20171105T010000
TZOFFSETFROM:-0600
TZOFFSETTO:-0500
TZNAME:America/Chicago CDT
END:DAYLIGHT
BEGIN:DAYLIGHT
DTSTART:20180311T030000
RDATE:20181104T010000
TZOFFSETFROM:-0600
TZOFFSETTO:-0500
TZNAME:America/Chicago CDT
END:DAYLIGHT
BEGIN:DAYLIGHT
DTSTART:20190310T030000
RDATE:20191103T010000
TZOFFSETFROM:-0600
TZOFFSETTO:-0500
TZNAME:America/Chicago CDT
END:DAYLIGHT
BEGIN:DAYLIGHT
DTSTART:20200308T030000
RDATE:20201101T010000
TZOFFSETFROM:-0600
TZOFFSETTO:-0500
TZNAME:America/Chicago CDT
END:DAYLIGHT
BEGIN:DAYLIGHT
DTSTART:20210314T030000
RDATE:20211107T010000
TZOFFSETFROM:-0600
TZOFFSETTO:-0500
TZNAME:America/Chicago CDT
END:DAYLIGHT
BEGIN:DAYLIGHT
DTSTART:20220313T030000
RDATE:20221106T010000
TZOFFSETFROM:-0600
TZOFFSETTO:-0500
TZNAME:America/Chicago CDT
END:DAYLIGHT
BEGIN:DAYLIGHT
DTSTART:20230312T030000
RDATE:20231105T010000
TZOFFSETFROM:-0600
TZOFFSETTO:-0500
TZNAME:America/Chicago CDT
END:DAYLIGHT
BEGIN:DAYLIGHT
DTSTART:20240310T030000
RDATE:20241103T010000
TZOFFSETFROM:-0600
TZOFFSETTO:-0500
TZNAME:America/Chicago CDT
END:DAYLIGHT
BEGIN:DAYLIGHT
DTSTART:20250309T030000
RDATE:20251102T010000
TZOFFSETFROM:-0600
TZOFFSETTO:-0500
TZNAME:America/Chicago CDT
END:DAYLIGHT
BEGIN:DAYLIGHT
DTSTART:20260308T030000
RDATE:20261101T010000
TZOFFSETFROM:-0600
TZOFFSETTO:-0500
TZNAME:America/Chicago CDT
END:DAYLIGHT
BEGIN:DAYLIGHT
DTSTART:20270314T030000
RDATE:20271107T010000
TZOFFSETFROM:-0600
TZOFFSETTO:-0500
TZNAME:America/Chicago CDT
END:DAYLIGHT
BEGIN:DAYLIGHT
DTSTART:20280312T030000
RDATE:20281105T010000
TZOFFSETFROM:-0600
TZOFFSETTO:-0500
TZNAME:America/Chicago CDT
END:DAYLIGHT
END:VTIMEZONE
BEGIN:VEVENT
UID:09a39081d64ddc68e6aa2e573ba7f4e6
CATEGORIES:Tournaments
CREATED:20121014T155510
SUMMARY:Milwaukee Summer Challenge
LOCATION:Comfort Suites Milwaukee Airport Hotel
DESCRIPTION:Chess Magnet School Junior Grand Prix!\n \n June 15-16, Milwaukee Summer Ch
 allenge II\n 5SS, G/120;d5. 4 Sections: Master/Expert (closed), U2000, U150
 0,\n U1000. Comfort Suites Milwaukee Airport Hotel, 6362 S. 13th St., Oak\n
  Creek, WI; 414-570-1111; (Mention Southwest Chess Club for $89 room\n rate
 ). EF: $40 All Sections (except U1000), U1000 Entry Fee: $25, all $5\n more
  after 6/13. Prizes based on 50 total entries, $$ Master/Expert\n (closed s
 ection)=1st-$300, 2nd-$200, 3rd-$100. U2000=1st-$150,\n U1500=1st-$80, U100
 0=1st-$50. Reg.: 8:30-9:30. Rds.: Saturday, June\n 15: 10:00 am, 2:30 pm, 7
 :00 pm, Sunday June 16: 10:00 am-2:30 pm.\n ENT: Robin Grochowski, 3835 E. 
 Morris Ave., Cudahy, WI 53110 or This email address is being protected from
  spambots. You need JavaScript enabled to view it.
				document.getElementB
 yId('cloak825e6319cdb43bbb61dc88feebb526d7').innerHTML = '';
				var prefix
  = '&#109;a' + 'i&#108;' + '&#116;o';
				var path = 'hr' + 'ef' + '=';
			
 	var addy825e6319cdb43bbb61dc88feebb526d7 = '&#97;ll&#101;nb&#101;ck&#101;r
 ' + '&#64;';
				addy825e6319cdb43bbb61dc88feebb526d7 = addy825e6319cdb43bb
 b61dc88feebb526d7 + 'w&#105;' + '&#46;' + 'rr' + '&#46;' + 'c&#111;m';
				
 var addy_text825e6319cdb43bbb61dc88feebb526d7 = '&#97;ll&#101;nb&#101;ck&#1
 01;r' + '&#64;' + 'w&#105;' + '&#46;' + 'rr' + '&#46;' + 'c&#111;m';documen
 t.getElementById('cloak825e6319cdb43bbb61dc88feebb526d7').innerHTML += '<a 
 ' + path + '\'' + prefix + ':' + addy825e6319cdb43bbb61dc88feebb526d7 + '\'
 >'+addy_text825e6319cdb43bbb61dc88feebb526d7+'';
		. Questions: TD Robin Gr
 ochowski; 414-861-2745\n (cell).\n
X-ALT-DESC;FMTTYPE=text/html:<p><span style="color: #000099; font-family: 'Times New Roman','serif'; fon
 t-size: 13.5pt; mso-fareast-font-family: 'Times New Roman'; mso-ansi-langua
 ge: EN-US; mso-fareast-language: EN-US; mso-bidi-language: AR-SA;">Chess Ma
 gnet School Junior Grand Prix!<br /> <br /> <strong><span style="text-decor
 ation: underline;">June 15-16, Milwaukee Summer Challenge II</span></strong
 ><br /> 5SS, G/120;d5. 4 Sections: Master/Expert (closed), U2000, U1500,<br
  /> U1000. Comfort Suites Milwaukee Airport Hotel, 6362 S. 13th St., Oak<br
  /> Creek, WI; 414-570-1111; (Mention Southwest Chess Club for $89 room<br 
 /> rate). EF: $40 All Sections (except U1000), U1000 Entry Fee: $25, all $5
 <br /> more after 6/13. Prizes based on 50 total entries, $$ Master/Expert<
 br /> (closed section)=1st-$300, 2nd-$200, 3rd-$100. U2000=1st-$150,<br /> 
 U1500=1st-$80, U1000=1st-$50. Reg.: 8:30-9:30. Rds.: Saturday, June<br /> 1
 5: 10:00 am, 2:30 pm, 7:00 pm, Sunday June 16: 10:00 am-2:30 pm.<br /> ENT:
  Robin Grochowski, 3835 E. Morris Ave., Cudahy, WI 53110 or <span id="cloak
 825e6319cdb43bbb61dc88feebb526d7">This email address is being protected fro
 m spambots. You need JavaScript enabled to view it.</span><script type='tex
 t/javascript'>
				document.getElementById('cloak825e6319cdb43bbb61dc88feeb
 b526d7').innerHTML = '';
				var prefix = '&#109;a' + 'i&#108;' + '&#116;o'
 ;
				var path = 'hr' + 'ef' + '=';
				var addy825e6319cdb43bbb61dc88feebb
 526d7 = '&#97;ll&#101;nb&#101;ck&#101;r' + '&#64;';
				addy825e6319cdb43bb
 b61dc88feebb526d7 = addy825e6319cdb43bbb61dc88feebb526d7 + 'w&#105;' + '&#4
 6;' + 'rr' + '&#46;' + 'c&#111;m';
				var addy_text825e6319cdb43bbb61dc88f
 eebb526d7 = '&#97;ll&#101;nb&#101;ck&#101;r' + '&#64;' + 'w&#105;' + '&#46;
 ' + 'rr' + '&#46;' + 'c&#111;m';document.getElementById('cloak825e6319cdb43
 bbb61dc88feebb526d7').innerHTML += '<a ' + path + '\'' + prefix + ':' + add
 y825e6319cdb43bbb61dc88feebb526d7 + '\'>'+addy_text825e6319cdb43bbb61dc88fe
 ebb526d7+'<\/a>';
		</script>. Questions: TD Robin Grochowski; 414-861-2745
 <br /> (cell).</span></p>
CONTACT:Robin Grochowski 414-861-2745
X-EXTRAINFO:http://www.southwestchessclub.com/MSC.pdf 
DTSTAMP:20260423T070347
DTSTART;TZID=America/Chicago:20130615T100000
DTEND;TZID=America/Chicago:20130616T190000
SEQUENCE:0
TRANSP:OPAQUE
END:VEVENT
END:VCALENDAR