BEGIN:VCALENDAR
VERSION:2.0
PRODID:-//jEvents 2.0 for Joomla//EN
CALSCALE:GREGORIAN
METHOD:PUBLISH
BEGIN:VTIMEZONE
TZID:America/Chicago
BEGIN:STANDARD
DTSTART:20221106T010000
RDATE:20230312T030000
TZOFFSETFROM:-0500
TZOFFSETTO:-0600
TZNAME:America/Chicago CST
END:STANDARD
BEGIN:STANDARD
DTSTART:20231105T010000
RDATE:20240310T030000
TZOFFSETFROM:-0500
TZOFFSETTO:-0600
TZNAME:America/Chicago CST
END:STANDARD
BEGIN:STANDARD
DTSTART:20241103T010000
RDATE:20250309T030000
TZOFFSETFROM:-0500
TZOFFSETTO:-0600
TZNAME:America/Chicago CST
END:STANDARD
BEGIN:STANDARD
DTSTART:20251102T010000
RDATE:20260308T030000
TZOFFSETFROM:-0500
TZOFFSETTO:-0600
TZNAME:America/Chicago CST
END:STANDARD
BEGIN:STANDARD
DTSTART:20261101T010000
RDATE:20270314T030000
TZOFFSETFROM:-0500
TZOFFSETTO:-0600
TZNAME:America/Chicago CST
END:STANDARD
BEGIN:STANDARD
DTSTART:20271107T010000
RDATE:20280312T030000
TZOFFSETFROM:-0500
TZOFFSETTO:-0600
TZNAME:America/Chicago CST
END:STANDARD
BEGIN:STANDARD
DTSTART:20281105T010000
RDATE:20290311T030000
TZOFFSETFROM:-0500
TZOFFSETTO:-0600
TZNAME:America/Chicago CST
END:STANDARD
BEGIN:DAYLIGHT
DTSTART:20220818T080000
RDATE:20221106T010000
TZOFFSETFROM:-0600
TZOFFSETTO:-0500
TZNAME:America/Chicago CDT
END:DAYLIGHT
BEGIN:DAYLIGHT
DTSTART:20230312T030000
RDATE:20231105T010000
TZOFFSETFROM:-0600
TZOFFSETTO:-0500
TZNAME:America/Chicago CDT
END:DAYLIGHT
BEGIN:DAYLIGHT
DTSTART:20240310T030000
RDATE:20241103T010000
TZOFFSETFROM:-0600
TZOFFSETTO:-0500
TZNAME:America/Chicago CDT
END:DAYLIGHT
BEGIN:DAYLIGHT
DTSTART:20250309T030000
RDATE:20251102T010000
TZOFFSETFROM:-0600
TZOFFSETTO:-0500
TZNAME:America/Chicago CDT
END:DAYLIGHT
BEGIN:DAYLIGHT
DTSTART:20260308T030000
RDATE:20261101T010000
TZOFFSETFROM:-0600
TZOFFSETTO:-0500
TZNAME:America/Chicago CDT
END:DAYLIGHT
BEGIN:DAYLIGHT
DTSTART:20270314T030000
RDATE:20271107T010000
TZOFFSETFROM:-0600
TZOFFSETTO:-0500
TZNAME:America/Chicago CDT
END:DAYLIGHT
BEGIN:DAYLIGHT
DTSTART:20280312T030000
RDATE:20281105T010000
TZOFFSETFROM:-0600
TZOFFSETTO:-0500
TZNAME:America/Chicago CDT
END:DAYLIGHT
END:VTIMEZONE
BEGIN:VEVENT
UID:28ed3d8d06b5241008caa4c57d05d084
CATEGORIES:Tournaments
CREATED:20230618T165050
SUMMARY:BC 1st Rapid and Blitz!
LOCATION:Country Inn &amp; Suites Brookfield  1250 South Moorland Rd.  Brookfield\, 
 WI 53005 
DESCRIPTION:<h1 style="text-align: center;"><b>1st BC </b><b><i>Rapid </i></b></h1><h1 
 style="text-align: center;"><b>And </b><b><i>Blitz!</i></b></h1><p><b>Site:
  </b><i><span style="font-weight: 400;">Country Inn &amp; Suites Brookfield
  </span></i></p><p><i><span style="font-weight: 400;">1250 South Moorland R
 d. </span></i></p><p><i><span style="font-weight: 400;">Brookfield, WI 5300
 5 </span></i></p><p><i><span style="font-weight: 400;">(262) 782-1400 </spa
 n></i></p><p> </p><p><b>—---------------------------Below information is th
 e Rapid Tournament—----------------------------------</b></p><p><b>When: </
 b><i><span style="font-weight: 400;">Saturday, August 19</span></i><i><span
  style="font-weight: 400;">th</span></i><i><span style="font-weight: 400;">
  2023</span></i></p><p><span style="font-weight: 400;">On-site Registration
  from </span><i><span style="font-weight: 400;">8:30 am – 9:30 am. The Rapi
 d is limited to 106 players!</span></i></p><p><b>Entry Fees: </b><span styl
 e="font-weight: 400;">Open (Rated), K-8 (Rated) and Unrated K-8 is $25 by A
 ugust 10</span><span style="font-weight: 400;">th</span><span style="font-w
 eight: 400;">, $35 by August 17</span><span style="font-weight: 400;">th</s
 pan><span style="font-weight: 400;">, after August 17</span><span style="fo
 nt-weight: 400;">th </span><span style="font-weight: 400;">is $40. The Rate
 d sections will be rapid rated and USCF Membership Required. No Membership 
 needed for the unrated K-8 section. </span><span style="font-weight: 400;">
 <br /></span><b>Time Control: </b><span style="font-weight: 400;">Game in 2
 4 minutes. If using a digital clock, Game in 24 minutes with 5 second  dela
 y.</span></p><p><b>Rounds</b><span style="font-weight: 400;">: 1</span><spa
 n style="font-weight: 400;">st</span><span style="font-weight: 400;"> round
  at 10:00am,  2</span><span style="font-weight: 400;">nd</span><span style=
 "font-weight: 400;"> round at 11:15am</span></p><p><span style="font-weight
 : 400;"> 3</span><span style="font-weight: 400;">rd</span><span style="font
 -weight: 400;"> round at 1pm, Rounds 4 and 5 will be paired asap after all 
 games are done. </span></p><p><span style="font-weight: 400;">Only two Half
  point(s) bye is available in the first 4 rounds.</span></p><p><b>Prizes Ba
 sed on 80 total players : </b><span style="font-weight: 400;">Open section;
  1st $175, 2nd $100, U1800 $70, U1500 $60</span><span style="font-weight: 4
 00;"><br /></span><span style="font-weight: 400;">U1200/unrated $50.</span>
 </p><p><span style="font-weight: 400;">Rated K-8 and Non-Rated K-8; Trophie
 s to top 3 teams, Trophies to top 3 players and medals to 4th through 6th p
 lace. </span></p><p><b>—---------------------------Below information is the
  Blitz Tournament—----------------------------------</b></p><p><b>When: </b
 ><i><span style="font-weight: 400;">Saturday, August 19</span></i><i><span 
 style="font-weight: 400;">th</span></i><i><span style="font-weight: 400;"> 
 2023</span></i></p><p><span style="font-weight: 400;">On-site Registration 
 from </span><i><span style="font-weight: 400;">5 pm – 5:45  pm. The Rapid i
 s limited to 106 players!</span></i><i><span style="font-weight: 400;"><br 
 /></span></i><i><span style="font-weight: 400;">US Chess regular ratings wi
 ll be used for pairing and prize purposes, but the event is not rated, so t
 he US Chess membership is not required.</span></i></p><p><b>Entry Fees: </b
 ><span style="font-weight: 400;">Open and K-8 is </span><span style="font-w
 eight: 400;">$20 by August 10</span><span style="font-weight: 400;">th</spa
 n><span style="font-weight: 400;">, $30 by August 17</span><span style="fon
 t-weight: 400;">th</span><span style="font-weight: 400;">, after August 17<
 /span><span style="font-weight: 400;">th </span><span style="font-weight: 4
 00;">is $35</span><span style="font-weight: 400;"><br /></span><b>Time Cont
 rol: </b><b>3+2 (game in 3 minutes with a two-second increment). Playing bo
 th colors each round.</b><span style="font-weight: 400;">.</span><span styl
 e="font-weight: 400;"><br /></span><span style="font-weight: 400;"><br /></
 span><b>Rounds</b><span style="font-weight: 400;">: </span><span style="fon
 t-weight: 400;">1st round at 6 pm, and pairings are asap after all games ar
 e done. We will play five double rounds (ten games of blitz. two against ea
 ch opponent), and then after the prizes are awarded, players who wish can c
 ontinue playing casual blitz until 10 pm.</span></p><p><b>Prizes Based on 3
 0 total players : </b><span style="font-weight: 400;">Open section; 1st $15
 0 , 2nd $100, U1800 $70, U1500 $60</span><span style="font-weight: 400;"><b
 r /></span><span style="font-weight: 400;">U1200/unrated $50.</span></p><p>
 <span style="font-weight: 400;">The Scholastic K-8 Prizes; Trophies to the 
 top team, Trophies to the top 3 players, and medals to 4th through 6th plac
 e. </span></p><p><br /><b>Tournament Directors:</b><span style="font-weight
 : 400;"> Ryan Murphy &amp; Chris Wainscott</span><span style="font-weight: 
 400;"><br /></span><b>Advance entries: </b><i><span style="font-weight: 400
 ;">Go to </span></i><a href="https://www.kingregistration.com/event/BCrapid
 23"><i><span style="font-weight: 400;">https://www.kingregistration.com/eve
 nt/BCrapid23</span></i></a><i><span style="font-weight: 400;">     Rapid</s
 pan></i><i><span style="font-weight: 400;"><br /></span></i><a href="https:
 //www.kingregistration.com/event/BCBlitz23"><i><span style="font-weight: 40
 0;">https://www.kingregistration.com/event/BCBlitz23</span></i></a><i><span
  style="font-weight: 400;">  Blitz</span></i><i><span style="font-weight: 4
 00;"><br /></span></i><span style="font-weight: 400;">Have questions? Ask B
 en at (262) 506-4203 or send an E-mail to <span id="cloakc7342f947e980bc5f6
 59fa587fef0dd0">This email address is being protected from spambots. You ne
 ed JavaScript enabled to view it.</span><script type='text/javascript'>
			
 	document.getElementById('cloakc7342f947e980bc5f659fa587fef0dd0').innerHTML
  = '';
				var prefix = '&#109;a' + 'i&#108;' + '&#116;o';
				var path = '
 hr' + 'ef' + '=';
				var addyc7342f947e980bc5f659fa587fef0dd0 = 'b&#101;nz
 &#111;ch&#101;ss' + '&#64;';
				addyc7342f947e980bc5f659fa587fef0dd0 = add
 yc7342f947e980bc5f659fa587fef0dd0 + 'gm&#97;&#105;l' + '&#46;' + 'c&#111;m'
 ;
				var addy_textc7342f947e980bc5f659fa587fef0dd0 = 'b&#101;nz&#111;ch&#1
 01;ss' + '&#64;' + 'gm&#97;&#105;l' + '&#46;' + 'c&#111;m';document.getElem
 entById('cloakc7342f947e980bc5f659fa587fef0dd0').innerHTML += '<a ' + path 
 + '\'' + prefix + ':' + addyc7342f947e980bc5f659fa587fef0dd0 + '\'>'+addy_t
 extc7342f947e980bc5f659fa587fef0dd0+'<\/a>';
		</script> For other informat
 ion, check out www.benzochess.com </span></p>
CONTACT:This email address is being protected from spambots. You need JavaScript enabled to view it.
				document.getElementById('cloak28624f1867142e500e21099cef1f6058').innerHTML = '';
				var prefix = '&#109;a' + 'i&#108;' + '&#116;o';
				var path = 'hr' + 'ef' + '=';
				var addy28624f1867142e500e21099cef1f6058 = 'b&#101;nz&#111;ch&#101;ss' + '&#64;';
				addy28624f1867142e500e21099cef1f6058 = addy28624f1867142e500e21099cef1f6058 + 'gm&#97;&#105;l' + '&#46;' + 'c&#111;m';
				var addy_text28624f1867142e500e21099cef1f6058 = 'b&#101;nz&#111;ch&#101;ss' + '&#64;' + 'gm&#97;&#105;l' + '&#46;' + 'c&#111;m';document.getElementById('cloak28624f1867142e500e21099cef1f6058').innerHTML += '<a ' + path + '\'' + prefix + ':' + addy28624f1867142e500e21099cef1f6058 + '\'>'+addy_text28624f1867142e500e21099cef1f6058+'';
		  (262)506-4203
DTSTAMP:20260421T110312
DTSTART;TZID=America/Chicago:20230819T080000
DTEND;TZID=America/Chicago:20230819T220000
SEQUENCE:0
TRANSP:OPAQUE
END:VEVENT
END:VCALENDAR