BEGIN:VCALENDAR
VERSION:2.0
PRODID:-//jEvents 2.0 for Joomla//EN
CALSCALE:GREGORIAN
METHOD:PUBLISH
BEGIN:VTIMEZONE
TZID:America/Chicago
BEGIN:STANDARD
DTSTART:20231105T010000
RDATE:20240310T030000
TZOFFSETFROM:-0500
TZOFFSETTO:-0600
TZNAME:America/Chicago CST
END:STANDARD
BEGIN:STANDARD
DTSTART:20241103T010000
RDATE:20250309T030000
TZOFFSETFROM:-0500
TZOFFSETTO:-0600
TZNAME:America/Chicago CST
END:STANDARD
BEGIN:STANDARD
DTSTART:20251102T010000
RDATE:20260308T030000
TZOFFSETFROM:-0500
TZOFFSETTO:-0600
TZNAME:America/Chicago CST
END:STANDARD
BEGIN:STANDARD
DTSTART:20261101T010000
RDATE:20270314T030000
TZOFFSETFROM:-0500
TZOFFSETTO:-0600
TZNAME:America/Chicago CST
END:STANDARD
BEGIN:STANDARD
DTSTART:20271107T010000
RDATE:20280312T030000
TZOFFSETFROM:-0500
TZOFFSETTO:-0600
TZNAME:America/Chicago CST
END:STANDARD
BEGIN:STANDARD
DTSTART:20281105T010000
RDATE:20290311T030000
TZOFFSETFROM:-0500
TZOFFSETTO:-0600
TZNAME:America/Chicago CST
END:STANDARD
BEGIN:DAYLIGHT
DTSTART:20230706T100000
RDATE:20231105T010000
TZOFFSETFROM:-0600
TZOFFSETTO:-0500
TZNAME:America/Chicago CDT
END:DAYLIGHT
BEGIN:DAYLIGHT
DTSTART:20240310T030000
RDATE:20241103T010000
TZOFFSETFROM:-0600
TZOFFSETTO:-0500
TZNAME:America/Chicago CDT
END:DAYLIGHT
BEGIN:DAYLIGHT
DTSTART:20250309T030000
RDATE:20251102T010000
TZOFFSETFROM:-0600
TZOFFSETTO:-0500
TZNAME:America/Chicago CDT
END:DAYLIGHT
BEGIN:DAYLIGHT
DTSTART:20260308T030000
RDATE:20261101T010000
TZOFFSETFROM:-0600
TZOFFSETTO:-0500
TZNAME:America/Chicago CDT
END:DAYLIGHT
BEGIN:DAYLIGHT
DTSTART:20270314T030000
RDATE:20271107T010000
TZOFFSETFROM:-0600
TZOFFSETTO:-0500
TZNAME:America/Chicago CDT
END:DAYLIGHT
BEGIN:DAYLIGHT
DTSTART:20280312T030000
RDATE:20281105T010000
TZOFFSETFROM:-0600
TZOFFSETTO:-0500
TZNAME:America/Chicago CDT
END:DAYLIGHT
END:VTIMEZONE
BEGIN:VEVENT
UID:3a3e3dbe58aba355c5a8dca404db130a
CATEGORIES:Tour Events
CREATED:20240421T135747
SUMMARY:47th Annual Green Bay Open
LOCATION:Oneida Hotel\, 2040 Airport Drive\, Green Bay\, WI 54313
DESCRIPTION:<p><strong>The 47<sup>th</sup> Annual Green Bay Open Chess Championship wil
 l be run in 2 Sections:  Open Section (open to all) – Reserve Section (Open
  to under 1600 USCF Rated and Unrated players).  USCF Membership required. 
  </strong></p><p><strong>Late registrations will be accepted at the playing
  site from 8:45 - 9:25 am</strong></p><p><strong>Send Advance registrations
  to: </strong></p><p>Luke Ludwig, 2191 Allouez Avenue, Green Bay, WI 54311,
  Phone (920) 465-9859, Email:  <span id="cloakd3e712d047dcf112ad4dc36b67a26
 003">This email address is being protected from spambots. You need JavaScri
 pt enabled to view it.</span><script type='text/javascript'>
				document.g
 etElementById('cloakd3e712d047dcf112ad4dc36b67a26003').innerHTML = '';
				
 var prefix = '&#109;a' + 'i&#108;' + '&#116;o';
				var path = 'hr' + 'ef' 
 + '=';
				var addyd3e712d047dcf112ad4dc36b67a26003 = 'l&#117;k&#101;&#97;l
 &#117;dw&#105;g' + '&#64;';
				addyd3e712d047dcf112ad4dc36b67a26003 = addy
 d3e712d047dcf112ad4dc36b67a26003 + '&#97;&#111;l' + '&#46;' + 'c&#111;m';
	
 			var addy_textd3e712d047dcf112ad4dc36b67a26003 = 'l&#117;k&#101;&#97;l&#1
 17;dw&#105;g' + '&#64;' + '&#97;&#111;l' + '&#46;' + 'c&#111;m';document.ge
 tElementById('cloakd3e712d047dcf112ad4dc36b67a26003').innerHTML += '<a ' + 
 path + '\'' + prefix + ':' + addyd3e712d047dcf112ad4dc36b67a26003 + '\'>'+a
 ddy_textd3e712d047dcf112ad4dc36b67a26003+'<\/a>';
		</script></p><p>Or regi
 ster online at:  <a href="https://www.kingregistration.com/event/GBO47">htt
 ps://www.kingregistration.com/event/GBO47</a></p><p><strong>ENTRY FEES:</st
 rong></p><p><strong>Open Section $65; Reserve Section $50</strong><strong> 
 <u>if received by the TD by July 3.  </u></strong><strong><u>All entries re
 c’d after July 3 are $10 more, including online, phone, email and at site!<
 /u></strong></p><p><strong>PRIZES:</strong></p><p><strong><span style="text
 -decoration: underline;">Open Section Prizes</span> -</strong><strong> </st
 rong><strong>$1875 Cash </strong><strong>Guaranteed Prizes!!</strong></p><p
 ><strong>1st Place - $500 + Trophy; </strong><strong>2nd Place - $275.</str
 ong></p><p><strong>Expert - $230; </strong>1900, 1800 - <strong>$190 each; 
 </strong>1700, 1600 - <strong>$180 each; </strong>1599 &amp; below <strong>
 $130; </strong><strong>Trophy to Top Junior in the Open Section.</strong></
 p><p><strong><span style="text-decoration: underline;">Reserve Section Priz
 es</span> - </strong><strong>$900 Cash</strong><strong> Guaranteed Prizes!!
 </strong></p><p><strong>1st Place - $250; </strong><strong>2nd Place - $150
 ; </strong>1200 – 1399 <strong>$140; </strong>1000 – 1199 <strong>$130; </s
 trong>999 &amp; below <strong>$130; </strong>Unrated <strong>$100.</strong>
 </p><p><strong>Trophies to Top Juniors in the Reserve Section Ages 17-18, 1
 5-16, 13-14, </strong><strong>11-12, 10 &amp; under.</strong></p><p><strong
 >SCHEDULE: </strong>5 Round Swiss - </p><p>Rounds:  10:00 AM, 2:30 PM, 7:30
  PM (Sat)</p><p>10:00 AM &amp; 3:00 PM (Sun)</p><p><strong>TIME CONTROL: </
 strong>Game/90 + 30 second increment</p><p>½ point bye available in rounds 
 1, 2, or 3 if requested w/entry.</p><p>Boards and sets provided, please bri
 ng clocks.</p>
CONTACT:Luke Ludwig - email address: This email address is being protected from spambots. You need JavaScript enabled to view it.
				document.getElementById('cloakea5ee8d457ce0c501ef878b724da41e1').innerHTML = '';
				var prefix = '&#109;a' + 'i&#108;' + '&#116;o';
				var path = 'hr' + 'ef' + '=';
				var addyea5ee8d457ce0c501ef878b724da41e1 = 'l&#117;k&#101;&#97;l&#117;dw&#105;g' + '&#64;';
				addyea5ee8d457ce0c501ef878b724da41e1 = addyea5ee8d457ce0c501ef878b724da41e1 + '&#97;&#111;l' + '&#46;' + 'c&#111;m';
				var addy_textea5ee8d457ce0c501ef878b724da41e1 = 'l&#117;k&#101;&#97;l&#117;dw&#105;g' + '&#64;' + '&#97;&#111;l' + '&#46;' + 'c&#111;m';document.getElementById('cloakea5ee8d457ce0c501ef878b724da41e1').innerHTML += '<a ' + path + '\'' + prefix + ':' + addyea5ee8d457ce0c501ef878b724da41e1 + '\'>'+addy_textea5ee8d457ce0c501ef878b724da41e1+'';
		
X-EXTRAINFO:The Oneida Hotel (formerly the Radisson Hotel and Convention Center) is loc
 ated across from Austin Straubel Airport on Green Bay’s far west side.\nHot
 el Phone: (920) 494-7300\nHotel room rates: $119 single or double.  When re
 gistering, please mention the chess tournament.  Please call early as the r
 oom block will be held only until June 14.  
DTSTAMP:20260420T133714
DTSTART;TZID=America/Chicago:20240706T100000
DTEND;TZID=America/Chicago;VALUE=DATE:20240708
SEQUENCE:0
TRANSP:OPAQUE
END:VEVENT
END:VCALENDAR