BEGIN:VCALENDAR
VERSION:2.0
PRODID:-//jEvents 2.0 for Joomla//EN
CALSCALE:GREGORIAN
METHOD:PUBLISH
BEGIN:VTIMEZONE
TZID:America/Chicago
BEGIN:STANDARD
DTSTART:20240201T000000
RDATE:20240310T030000
TZOFFSETFROM:-0500
TZOFFSETTO:-0600
TZNAME:America/Chicago CST
END:STANDARD
BEGIN:STANDARD
DTSTART:20241103T010000
RDATE:20250309T030000
TZOFFSETFROM:-0500
TZOFFSETTO:-0600
TZNAME:America/Chicago CST
END:STANDARD
BEGIN:STANDARD
DTSTART:20251102T010000
RDATE:20260308T030000
TZOFFSETFROM:-0500
TZOFFSETTO:-0600
TZNAME:America/Chicago CST
END:STANDARD
BEGIN:STANDARD
DTSTART:20261101T010000
RDATE:20270314T030000
TZOFFSETFROM:-0500
TZOFFSETTO:-0600
TZNAME:America/Chicago CST
END:STANDARD
BEGIN:STANDARD
DTSTART:20271107T010000
RDATE:20280312T030000
TZOFFSETFROM:-0500
TZOFFSETTO:-0600
TZNAME:America/Chicago CST
END:STANDARD
BEGIN:STANDARD
DTSTART:20281105T010000
RDATE:20290311T030000
TZOFFSETFROM:-0500
TZOFFSETTO:-0600
TZNAME:America/Chicago CST
END:STANDARD
BEGIN:DAYLIGHT
DTSTART:20240310T030000
RDATE:20241103T010000
TZOFFSETFROM:-0600
TZOFFSETTO:-0500
TZNAME:America/Chicago CDT
END:DAYLIGHT
BEGIN:DAYLIGHT
DTSTART:20250309T030000
RDATE:20251102T010000
TZOFFSETFROM:-0600
TZOFFSETTO:-0500
TZNAME:America/Chicago CDT
END:DAYLIGHT
BEGIN:DAYLIGHT
DTSTART:20260308T030000
RDATE:20261101T010000
TZOFFSETFROM:-0600
TZOFFSETTO:-0500
TZNAME:America/Chicago CDT
END:DAYLIGHT
BEGIN:DAYLIGHT
DTSTART:20270314T030000
RDATE:20271107T010000
TZOFFSETFROM:-0600
TZOFFSETTO:-0500
TZNAME:America/Chicago CDT
END:DAYLIGHT
BEGIN:DAYLIGHT
DTSTART:20280312T030000
RDATE:20281105T010000
TZOFFSETFROM:-0600
TZOFFSETTO:-0500
TZNAME:America/Chicago CDT
END:DAYLIGHT
END:VTIMEZONE
BEGIN:VEVENT
UID:2a321c07e2c57d8a5f05749c3749245b
CATEGORIES:Tour Events
CREATED:20241004T204533
SUMMARY:Michael A. Selig Memorial/58th NorthEastern Open Chess Championship
LOCATION:DoubleTree by Hilton\, 123 E. Wisconsin Ave.\, Neenah\, WI 54956
DESCRIPTION:<p><strong><u>MICHAEL A. SELIG MEMORIAL/58<sup>TH</sup> NORTHEASTERN OPEN</
 u></strong></p><p><strong>Site:</strong> DoubleTree by Hilton, 123 E. Wisco
 nsin Ave., Neenah, WI  54956.</p><p><strong>Hotel Lodging Rates:</strong> $
 129 (includes breakfast).  920-725-8441.  Reserve early!  Rate guaranteed o
 nly until 5 pm January 10 otherwise may be higher.</p><p><strong><u>In 3 Se
 ctions</u></strong></p><p> </p><p><strong><u>1) Open:</u></strong></p><p>Op
 en to all.</p><p><strong>Entry Fee:</strong> $50 in advance by 1/28; $55 at
  site.</p><p><strong>Prizes:</strong> $$b/50:  $300 – $200; 1900 - $160; 18
 00 - $150; 1700 - $140; 1600 - $130; U1600 - $120.  Travelling trophy to to
 p NorthEastern Wisconsin finisher!</p><p><strong>Format:  </strong>5SS.  Ti
 me Control:  Game/120 minutes with a 5 second delay on each move.</p><p><st
 rong>Round Times:</strong>  10:00 – 2:30 – 7:30 Saturday and 10:00 – 3:00 S
 unday</p><p><strong>Special Notes:</strong>  Full point bye to 2100+ in rou
 nd 1 if pre-registered and requested. </p><p>Complimentary entry to 2200+ i
 f pre-registered with the entry subtracted from any winnings.</p><p> </p><p
 ><strong><u>2) Reserve:</u></strong></p><p>Open to all rated under 1500 or 
 unrated.</p><p><strong>Entry Fee:</strong> $35 in advance by 1/28; $40 at s
 ite.</p><p><strong>Prizes:</strong> $$b/20:  $70 - $50; 1200 $40; U1200 - $
 40</p><p><strong>Format:  </strong>5SS.  Time Control:  Game/120 minutes wi
 th a 5 second delay on each move.</p><p><strong>Round Times:</strong>  10:0
 0 – 2:30 – 7:30 Saturday and 10:00 – 3:00 Sunday</p><p> </p><p><strong><u>3
 ) Novice:</u></strong></p><p>Open to all rated under 1000 or unrated.</p><p
 ><strong>Entry Fee:</strong> $25 in advance by 1/28; $30 at site.</p><p><st
 rong>Trophies:</strong> High quality marble trophies to Top 5.</p><p><stron
 g>Format:  </strong>6SS.  Time Control:  Game/60 minutes with a 5 second de
 lay on each move.</p><p><strong>Round Times:</strong>  10:00 – 1:00 – 3:30 
 - 6:30 Saturday and 10:00 – 1:00 Sunday</p><p> </p><p><strong>Onsite Regist
 ration:</strong> 2/1 8:45-9:30 A.M. </p><p><strong>Entries:</strong> Mike N
 ietman, 2 Boca Grande Way, Madison, WI 53719.</p><p><strong>Info:</strong> 
 Mike Nietman, 608-467-8510 (before noon 1/31) <span id="cloak10c3dc3f030b67
 d23cb6580254eefbeb">This email address is being protected from spambots. Yo
 u need JavaScript enabled to view it.</span><script type='text/javascript'>
 
				document.getElementById('cloak10c3dc3f030b67d23cb6580254eefbeb').inner
 HTML = '';
				var prefix = '&#109;a' + 'i&#108;' + '&#116;o';
				var path
  = 'hr' + 'ef' + '=';
				var addy10c3dc3f030b67d23cb6580254eefbeb = 'm&#10
 5;k&#101;.n&#105;&#101;tm&#97;n' + '&#64;';
				addy10c3dc3f030b67d23cb6580
 254eefbeb = addy10c3dc3f030b67d23cb6580254eefbeb + 'ch&#97;rt&#101;r' + '&#
 46;' + 'n&#101;t';
				var addy_text10c3dc3f030b67d23cb6580254eefbeb = 'm&#
 105;k&#101;.n&#105;&#101;tm&#97;n' + '&#64;' + 'ch&#97;rt&#101;r' + '&#46;'
  + 'n&#101;t';document.getElementById('cloak10c3dc3f030b67d23cb6580254eefbe
 b').innerHTML += '<a ' + path + '\'' + prefix + ':' + addy10c3dc3f030b67d23
 cb6580254eefbeb + '\'>'+addy_text10c3dc3f030b67d23cb6580254eefbeb+'<\/a>';

 		</script>.</p><p>Online registration at <a href="http://www.kingregistrat
 ion.com/event/NorthEasternOpen58">www.kingregistration.com/event/NorthEaste
 rnOpen58</a>.  </p><p>NEWCA Procedural Rules in effect.</p><p>A 2025 Wiscon
 sin Chess Tour event!</p>
CONTACT:Mike Nietman, This email address is being protected from spambots. You need JavaScript enabled to view it.
				document.getElementById('cloakba98782fbfdfa431765fec18ad7d421f').innerHTML = '';
				var prefix = '&#109;a' + 'i&#108;' + '&#116;o';
				var path = 'hr' + 'ef' + '=';
				var addyba98782fbfdfa431765fec18ad7d421f = 'm&#105;k&#101;.n&#105;&#101;tm&#97;n' + '&#64;';
				addyba98782fbfdfa431765fec18ad7d421f = addyba98782fbfdfa431765fec18ad7d421f + 'ch&#97;rt&#101;r' + '&#46;' + 'n&#101;t';
				var addy_textba98782fbfdfa431765fec18ad7d421f = 'm&#105;k&#101;.n&#105;&#101;tm&#97;n' + '&#64;' + 'ch&#97;rt&#101;r' + '&#46;' + 'n&#101;t';document.getElementById('cloakba98782fbfdfa431765fec18ad7d421f').innerHTML += '<a ' + path + '\'' + prefix + ':' + addyba98782fbfdfa431765fec18ad7d421f + '\'>'+addy_textba98782fbfdfa431765fec18ad7d421f+'';
		, 608-467-8510 (before 1/31)
DTSTAMP:20260420T092145
DTSTART;TZID=America/Chicago;VALUE=DATE:20250201
DTEND;TZID=America/Chicago;VALUE=DATE:20250203
SEQUENCE:0
TRANSP:OPAQUE
END:VEVENT
END:VCALENDAR