BEGIN:VCALENDAR
VERSION:2.0
PRODID:-//jEvents 2.0 for Joomla//EN
CALSCALE:GREGORIAN
METHOD:PUBLISH
BEGIN:VTIMEZONE
TZID:America/Chicago
BEGIN:STANDARD
DTSTART:20121213T090000
RDATE:20130310T030000
TZOFFSETFROM:-0500
TZOFFSETTO:-0600
TZNAME:America/Chicago CST
END:STANDARD
BEGIN:STANDARD
DTSTART:20131103T010000
RDATE:20140309T030000
TZOFFSETFROM:-0500
TZOFFSETTO:-0600
TZNAME:America/Chicago CST
END:STANDARD
BEGIN:STANDARD
DTSTART:20141102T010000
RDATE:20150308T030000
TZOFFSETFROM:-0500
TZOFFSETTO:-0600
TZNAME:America/Chicago CST
END:STANDARD
BEGIN:STANDARD
DTSTART:20151101T010000
RDATE:20160313T030000
TZOFFSETFROM:-0500
TZOFFSETTO:-0600
TZNAME:America/Chicago CST
END:STANDARD
BEGIN:STANDARD
DTSTART:20161106T010000
RDATE:20170312T030000
TZOFFSETFROM:-0500
TZOFFSETTO:-0600
TZNAME:America/Chicago CST
END:STANDARD
BEGIN:STANDARD
DTSTART:20171105T010000
RDATE:20180311T030000
TZOFFSETFROM:-0500
TZOFFSETTO:-0600
TZNAME:America/Chicago CST
END:STANDARD
BEGIN:STANDARD
DTSTART:20181104T010000
RDATE:20190310T030000
TZOFFSETFROM:-0500
TZOFFSETTO:-0600
TZNAME:America/Chicago CST
END:STANDARD
BEGIN:STANDARD
DTSTART:20191103T010000
RDATE:20200308T030000
TZOFFSETFROM:-0500
TZOFFSETTO:-0600
TZNAME:America/Chicago CST
END:STANDARD
BEGIN:STANDARD
DTSTART:20201101T010000
RDATE:20210314T030000
TZOFFSETFROM:-0500
TZOFFSETTO:-0600
TZNAME:America/Chicago CST
END:STANDARD
BEGIN:STANDARD
DTSTART:20211107T010000
RDATE:20220313T030000
TZOFFSETFROM:-0500
TZOFFSETTO:-0600
TZNAME:America/Chicago CST
END:STANDARD
BEGIN:STANDARD
DTSTART:20221106T010000
RDATE:20230312T030000
TZOFFSETFROM:-0500
TZOFFSETTO:-0600
TZNAME:America/Chicago CST
END:STANDARD
BEGIN:STANDARD
DTSTART:20231105T010000
RDATE:20240310T030000
TZOFFSETFROM:-0500
TZOFFSETTO:-0600
TZNAME:America/Chicago CST
END:STANDARD
BEGIN:STANDARD
DTSTART:20241103T010000
RDATE:20250309T030000
TZOFFSETFROM:-0500
TZOFFSETTO:-0600
TZNAME:America/Chicago CST
END:STANDARD
BEGIN:STANDARD
DTSTART:20251102T010000
RDATE:20260308T030000
TZOFFSETFROM:-0500
TZOFFSETTO:-0600
TZNAME:America/Chicago CST
END:STANDARD
BEGIN:STANDARD
DTSTART:20261101T010000
RDATE:20270314T030000
TZOFFSETFROM:-0500
TZOFFSETTO:-0600
TZNAME:America/Chicago CST
END:STANDARD
BEGIN:STANDARD
DTSTART:20271107T010000
RDATE:20280312T030000
TZOFFSETFROM:-0500
TZOFFSETTO:-0600
TZNAME:America/Chicago CST
END:STANDARD
BEGIN:STANDARD
DTSTART:20281105T010000
RDATE:20290311T030000
TZOFFSETFROM:-0500
TZOFFSETTO:-0600
TZNAME:America/Chicago CST
END:STANDARD
BEGIN:DAYLIGHT
DTSTART:20130310T030000
RDATE:20131103T010000
TZOFFSETFROM:-0600
TZOFFSETTO:-0500
TZNAME:America/Chicago CDT
END:DAYLIGHT
BEGIN:DAYLIGHT
DTSTART:20140309T030000
RDATE:20141102T010000
TZOFFSETFROM:-0600
TZOFFSETTO:-0500
TZNAME:America/Chicago CDT
END:DAYLIGHT
BEGIN:DAYLIGHT
DTSTART:20150308T030000
RDATE:20151101T010000
TZOFFSETFROM:-0600
TZOFFSETTO:-0500
TZNAME:America/Chicago CDT
END:DAYLIGHT
BEGIN:DAYLIGHT
DTSTART:20160313T030000
RDATE:20161106T010000
TZOFFSETFROM:-0600
TZOFFSETTO:-0500
TZNAME:America/Chicago CDT
END:DAYLIGHT
BEGIN:DAYLIGHT
DTSTART:20170312T030000
RDATE:20171105T010000
TZOFFSETFROM:-0600
TZOFFSETTO:-0500
TZNAME:America/Chicago CDT
END:DAYLIGHT
BEGIN:DAYLIGHT
DTSTART:20180311T030000
RDATE:20181104T010000
TZOFFSETFROM:-0600
TZOFFSETTO:-0500
TZNAME:America/Chicago CDT
END:DAYLIGHT
BEGIN:DAYLIGHT
DTSTART:20190310T030000
RDATE:20191103T010000
TZOFFSETFROM:-0600
TZOFFSETTO:-0500
TZNAME:America/Chicago CDT
END:DAYLIGHT
BEGIN:DAYLIGHT
DTSTART:20200308T030000
RDATE:20201101T010000
TZOFFSETFROM:-0600
TZOFFSETTO:-0500
TZNAME:America/Chicago CDT
END:DAYLIGHT
BEGIN:DAYLIGHT
DTSTART:20210314T030000
RDATE:20211107T010000
TZOFFSETFROM:-0600
TZOFFSETTO:-0500
TZNAME:America/Chicago CDT
END:DAYLIGHT
BEGIN:DAYLIGHT
DTSTART:20220313T030000
RDATE:20221106T010000
TZOFFSETFROM:-0600
TZOFFSETTO:-0500
TZNAME:America/Chicago CDT
END:DAYLIGHT
BEGIN:DAYLIGHT
DTSTART:20230312T030000
RDATE:20231105T010000
TZOFFSETFROM:-0600
TZOFFSETTO:-0500
TZNAME:America/Chicago CDT
END:DAYLIGHT
BEGIN:DAYLIGHT
DTSTART:20240310T030000
RDATE:20241103T010000
TZOFFSETFROM:-0600
TZOFFSETTO:-0500
TZNAME:America/Chicago CDT
END:DAYLIGHT
BEGIN:DAYLIGHT
DTSTART:20250309T030000
RDATE:20251102T010000
TZOFFSETFROM:-0600
TZOFFSETTO:-0500
TZNAME:America/Chicago CDT
END:DAYLIGHT
BEGIN:DAYLIGHT
DTSTART:20260308T030000
RDATE:20261101T010000
TZOFFSETFROM:-0600
TZOFFSETTO:-0500
TZNAME:America/Chicago CDT
END:DAYLIGHT
BEGIN:DAYLIGHT
DTSTART:20270314T030000
RDATE:20271107T010000
TZOFFSETFROM:-0600
TZOFFSETTO:-0500
TZNAME:America/Chicago CDT
END:DAYLIGHT
BEGIN:DAYLIGHT
DTSTART:20280312T030000
RDATE:20281105T010000
TZOFFSETFROM:-0600
TZOFFSETTO:-0500
TZNAME:America/Chicago CDT
END:DAYLIGHT
END:VTIMEZONE
BEGIN:VEVENT
UID:54bbf979ad7a3d9a5937d0dfecd002a4
CATEGORIES:Tournaments
CREATED:20121225T113503
SUMMARY:17th Joe Feider Memorial
LOCATION:Lakeview Library\, Random Lake\, WI
DESCRIPTION:<p>Annual free, unrated tournament.  4-round Swiss G/30.  Adult and Scholas
 tic sections.</p><p> </p><p>PRIZES: Trophies awarded to top 2 players in ea
 ch section.</p><p>ONLINE REGISTRATION: Starts November 1, 2013 http://orcac
 hess.org/tournaments</p><p> </p><p>SITE REGISTRATION: 8:30 am - 9:15 am  RO
 UNDS: 9:30 am – 10:45 am – 1 pm – 2:15 pm</p><p> </p><p>SITE: Lakeview Libr
 ary, 112 Butler Street, Random Lake WI 53075</p><p> </p><p>ENTRIES TO: ORCA
  – 822 W Grand Ave, Port Washington WI 53074</p><p> </p><p>QUESTIONS TO: To
 m Hudson – 262-284-1948 or <span id="cloak0e242062869dd792bbfc9ff5c2fc448b"
 >This email address is being protected from spambots. You need JavaScript e
 nabled to view it.</span><script type='text/javascript'>
				document.getEl
 ementById('cloak0e242062869dd792bbfc9ff5c2fc448b').innerHTML = '';
				var 
 prefix = '&#109;a' + 'i&#108;' + '&#116;o';
				var path = 'hr' + 'ef' + '=
 ';
				var addy0e242062869dd792bbfc9ff5c2fc448b = 't&#111;m' + '&#64;';
			
 	addy0e242062869dd792bbfc9ff5c2fc448b = addy0e242062869dd792bbfc9ff5c2fc448
 b + '&#111;rc&#97;ch&#101;ss' + '&#46;' + '&#111;rg';
				var addy_text0e24
 2062869dd792bbfc9ff5c2fc448b = 't&#111;m' + '&#64;' + '&#111;rc&#97;ch&#101
 ;ss' + '&#46;' + '&#111;rg';document.getElementById('cloak0e242062869dd792b
 bfc9ff5c2fc448b').innerHTML += '<a ' + path + '\'' + prefix + ':' + addy0e2
 42062869dd792bbfc9ff5c2fc448b + '\'>'+addy_text0e242062869dd792bbfc9ff5c2fc
 448b+'<\/a>';
		</script></p><p> </p><p>Pairings by WinTD - No Computer Ent
 ries - No Smoking - No Cell Phones</p><p> </p><p>Bring your own clocks if d
 esired - Sets, Clocks and Boards Provided</p>
CONTACT:Tom Hudson, 262-284-1948 or This email address is being protected from spambots. You need JavaScript enabled to view it.
				document.getElementById('cloakec8398ff87229394c7561ab5e2474535').innerHTML = '';
				var prefix = '&#109;a' + 'i&#108;' + '&#116;o';
				var path = 'hr' + 'ef' + '=';
				var addyec8398ff87229394c7561ab5e2474535 = 't&#111;m' + '&#64;';
				addyec8398ff87229394c7561ab5e2474535 = addyec8398ff87229394c7561ab5e2474535 + '&#111;rc&#97;ch&#101;ss' + '&#46;' + '&#111;rg';
				var addy_textec8398ff87229394c7561ab5e2474535 = 't&#111;m' + '&#64;' + '&#111;rc&#97;ch&#101;ss' + '&#46;' + '&#111;rg';document.getElementById('cloakec8398ff87229394c7561ab5e2474535').innerHTML += '<a ' + path + '\'' + prefix + ':' + addyec8398ff87229394c7561ab5e2474535 + '\'>'+addy_textec8398ff87229394c7561ab5e2474535+'';
		
X-EXTRAINFO:http://orcachess.org/tournaments
DTSTAMP:20260423T010600
DTSTART;TZID=America/Chicago:20131214T090000
DTEND;TZID=America/Chicago:20131214T170000
SEQUENCE:0
TRANSP:OPAQUE
END:VEVENT
END:VCALENDAR