BEGIN:VCALENDAR
VERSION:2.0
PRODID:-//jEvents 2.0 for Joomla//EN
CALSCALE:GREGORIAN
METHOD:PUBLISH
BEGIN:VTIMEZONE
TZID:America/Chicago
BEGIN:STANDARD
DTSTART:20241103T010000
RDATE:20250309T030000
TZOFFSETFROM:-0500
TZOFFSETTO:-0600
TZNAME:America/Chicago CST
END:STANDARD
BEGIN:STANDARD
DTSTART:20251102T010000
RDATE:20260308T030000
TZOFFSETFROM:-0500
TZOFFSETTO:-0600
TZNAME:America/Chicago CST
END:STANDARD
BEGIN:STANDARD
DTSTART:20261101T010000
RDATE:20270314T030000
TZOFFSETFROM:-0500
TZOFFSETTO:-0600
TZNAME:America/Chicago CST
END:STANDARD
BEGIN:STANDARD
DTSTART:20271107T010000
RDATE:20280312T030000
TZOFFSETFROM:-0500
TZOFFSETTO:-0600
TZNAME:America/Chicago CST
END:STANDARD
BEGIN:STANDARD
DTSTART:20281105T010000
RDATE:20290311T030000
TZOFFSETFROM:-0500
TZOFFSETTO:-0600
TZNAME:America/Chicago CST
END:STANDARD
BEGIN:DAYLIGHT
DTSTART:20240328T000000
RDATE:20241103T010000
TZOFFSETFROM:-0600
TZOFFSETTO:-0500
TZNAME:America/Chicago CDT
END:DAYLIGHT
BEGIN:DAYLIGHT
DTSTART:20250309T030000
RDATE:20251102T010000
TZOFFSETFROM:-0600
TZOFFSETTO:-0500
TZNAME:America/Chicago CDT
END:DAYLIGHT
BEGIN:DAYLIGHT
DTSTART:20260308T030000
RDATE:20261101T010000
TZOFFSETFROM:-0600
TZOFFSETTO:-0500
TZNAME:America/Chicago CDT
END:DAYLIGHT
BEGIN:DAYLIGHT
DTSTART:20270314T030000
RDATE:20271107T010000
TZOFFSETFROM:-0600
TZOFFSETTO:-0500
TZNAME:America/Chicago CDT
END:DAYLIGHT
BEGIN:DAYLIGHT
DTSTART:20280312T030000
RDATE:20281105T010000
TZOFFSETFROM:-0600
TZOFFSETTO:-0500
TZNAME:America/Chicago CDT
END:DAYLIGHT
END:VTIMEZONE
BEGIN:VEVENT
UID:19ed0dd9ba71c738a0c2ee0b8d093dd3
CATEGORIES:Tour Events
CREATED:20250109T162807
SUMMARY:The Arpad Elo Open
LOCATION:Holiday Inn Madison at The American Center\, 5109 West Terrace Drive\, Madi
 son\, WI  53718
DESCRIPTION:The Arpad Elo Open\n \nMarch 29-30, 2025\n \nSite: Holiday Inn Madison at T
 he American Center, 5109 West Terrace Drive, Madison, WI 53718.\nHotel Lodg
 ing Rates: $109. 608-249-4220.\n \nIn 2 Sections\n \n1) Open:\nOpen to all.
 \nEntry Fee: $35 in advance by 3/25; $40 later or onsite. (Plus credit card
  and online registration fees if registering online)\nPrizes: $$b/50:  $400
  – $250; ‘A’ - $150; U1800/Unrated - $140.  Travelling trophy to winner!\n 
 \n2) Reserve:\nOpen to all rated under 1800 or unrated.\nEntry Fee: $25 in 
 advance by 3/25; $30 later and onsite. (Plus credit card and online registr
 ation fees if registering online)\nPrizes: $$b/20:  $125 - $100; ‘C’ - $85;
  ‘D’ - $75; U1200/Unrated - $75\n \nBoth:\nFormat:  5SS.  Time Control: Gam
 e/90 minutes with a 30 second increment on each move.\nRound Times:  10:00 
 – 2:30 – 7:00 Saturday and 10:00 – 3:00 Sunday\nOnsite Registration: 3/29 8
 :45-9:30 A.M.\nEntries: Mike Nietman, 2 Boca Grande Way, Madison, WI 53719.
 \nInfo: Mike Nietman, 608-467-8510 (before 3/29) This email address is bein
 g protected from spambots. You need JavaScript enabled to view it.
				docu
 ment.getElementById('cloak87c3bf7c7aad2bd75c6142d91f94e747').innerHTML = ''
 ;
				var prefix = '&#109;a' + 'i&#108;' + '&#116;o';
				var path = 'hr' +
  'ef' + '=';
				var addy87c3bf7c7aad2bd75c6142d91f94e747 = 'm&#105;k&#101;
 .n&#105;&#101;tm&#97;n' + '&#64;';
				addy87c3bf7c7aad2bd75c6142d91f94e747
  = addy87c3bf7c7aad2bd75c6142d91f94e747 + 'ch&#97;rt&#101;r' + '&#46;' + 'n
 &#101;t';
				var addy_text87c3bf7c7aad2bd75c6142d91f94e747 = 'm&#105;k&#10
 1;.n&#105;&#101;tm&#97;n' + '&#64;' + 'ch&#97;rt&#101;r' + '&#46;' + 'n&#10
 1;t';document.getElementById('cloak87c3bf7c7aad2bd75c6142d91f94e747').inner
 HTML += '<a ' + path + '\'' + prefix + ':' + addy87c3bf7c7aad2bd75c6142d91f
 94e747 + '\'>'+addy_text87c3bf7c7aad2bd75c6142d91f94e747+'';
		.\nOnline re
 gistration at Arpad Elo Open (https://www.kingregistration.com/event/2025El
 o).\n \nA 2025 Wisconsin Chess Tour event!\n \nWithdrawals:  Please notify 
 the organizer prior to 9:30 am on March 29.  Doing so we will refund your e
 ntry fee (less credit card and KingRegistration fees if registered online).
 \n
X-ALT-DESC;FMTTYPE=text/html:<p><span style="text-decoration: underline;"><strong>The Arpad Elo Open</st
 rong></span></p><p> </p><p><strong>March 29-30, 2025</strong></p><p> </p><p
 ><strong>Site</strong>: Holiday Inn Madison at The American Center, 5109 We
 st Terrace Drive, Madison, WI 53718.</p><p><strong>Hotel Lodging Rates</str
 ong>: $109. 608-249-4220.</p><p> </p><p><strong>In 2 Sections</strong></p><
 p> </p><p><span style="text-decoration: underline;"><strong>1) Open</strong
 ></span>:</p><p>Open to all.</p><p><strong>Entry Fee</strong>: $35 in advan
 ce by 3/25; $40 later or onsite. (Plus credit card and online registration 
 fees if registering online)</p><p><strong>Prizes</strong>: $$b/50:  $400 – 
 $250; ‘A’ - $150; U1800/Unrated - $140.  Travelling trophy to winner!</p><p
 > </p><p><span style="text-decoration: underline;"><strong>2) Reserve</stro
 ng></span>:</p><p>Open to all rated under 1800 or unrated.</p><p><strong>En
 try Fee</strong>: $25 in advance by 3/25; $30 later and onsite. (Plus credi
 t card and online registration fees if registering online)</p><p><strong>Pr
 izes</strong>: $$b/20:  $125 - $100; ‘C’ - $85; ‘D’ - $75; U1200/Unrated - 
 $75</p><p> </p><p><span style="text-decoration: underline;"><strong>Both</s
 trong></span>:</p><p><strong>Format</strong>:  5SS.  Time Control: Game/90 
 minutes with a 30 second increment on each move.</p><p><strong>Round Times<
 /strong>:  10:00 – 2:30 – 7:00 Saturday and 10:00 – 3:00 Sunday</p><p><stro
 ng>Onsite Registration</strong>: 3/29 8:45-9:30 A.M.</p><p><strong>Entries<
 /strong>: Mike Nietman, 2 Boca Grande Way, Madison, WI 53719.</p><p><strong
 >Info</strong>: Mike Nietman, 608-467-8510 (before 3/29) <span id="cloak87c
 3bf7c7aad2bd75c6142d91f94e747">This email address is being protected from s
 pambots. You need JavaScript enabled to view it.</span><script type='text/j
 avascript'>
				document.getElementById('cloak87c3bf7c7aad2bd75c6142d91f94e
 747').innerHTML = '';
				var prefix = '&#109;a' + 'i&#108;' + '&#116;o';
	
 			var path = 'hr' + 'ef' + '=';
				var addy87c3bf7c7aad2bd75c6142d91f94e7
 47 = 'm&#105;k&#101;.n&#105;&#101;tm&#97;n' + '&#64;';
				addy87c3bf7c7aad
 2bd75c6142d91f94e747 = addy87c3bf7c7aad2bd75c6142d91f94e747 + 'ch&#97;rt&#1
 01;r' + '&#46;' + 'n&#101;t';
				var addy_text87c3bf7c7aad2bd75c6142d91f94
 e747 = 'm&#105;k&#101;.n&#105;&#101;tm&#97;n' + '&#64;' + 'ch&#97;rt&#101;r
 ' + '&#46;' + 'n&#101;t';document.getElementById('cloak87c3bf7c7aad2bd75c61
 42d91f94e747').innerHTML += '<a ' + path + '\'' + prefix + ':' + addy87c3bf
 7c7aad2bd75c6142d91f94e747 + '\'>'+addy_text87c3bf7c7aad2bd75c6142d91f94e74
 7+'<\/a>';
		</script>.</p><p><strong>Online registration at</strong> <a hr
 ef="https://www.kingregistration.com/event/2025Elo">Arpad Elo Open</a>.</p>
 <p> </p><p><strong>A 2025 Wisconsin Chess Tour event!</strong></p><p> </p><
 p><strong>Withdrawals</strong>:  Please notify the organizer prior to 9:30 
 am on March 29.  Doing so we will refund your entry fee (less credit card a
 nd KingRegistration fees if registered online).</p>
CONTACT:Mike Nietman, This email address is being protected from spambots. You need JavaScript enabled to view it.
				document.getElementById('cloak1a8841c8f39bdea49512e83eaa57c7f4').innerHTML = '';
				var prefix = '&#109;a' + 'i&#108;' + '&#116;o';
				var path = 'hr' + 'ef' + '=';
				var addy1a8841c8f39bdea49512e83eaa57c7f4 = 'm&#105;k&#101;.n&#105;&#101;tm&#97;n' + '&#64;';
				addy1a8841c8f39bdea49512e83eaa57c7f4 = addy1a8841c8f39bdea49512e83eaa57c7f4 + 'ch&#97;rt&#101;r' + '&#46;' + 'n&#101;t';
				var addy_text1a8841c8f39bdea49512e83eaa57c7f4 = 'm&#105;k&#101;.n&#105;&#101;tm&#97;n' + '&#64;' + 'ch&#97;rt&#101;r' + '&#46;' + 'n&#101;t';document.getElementById('cloak1a8841c8f39bdea49512e83eaa57c7f4').innerHTML += '<a ' + path + '\'' + prefix + ':' + addy1a8841c8f39bdea49512e83eaa57c7f4 + '\'>'+addy_text1a8841c8f39bdea49512e83eaa57c7f4+'';
		, 608-467-8510 (before 3/29)
DTSTAMP:20260421T082026
DTSTART;TZID=America/Chicago;VALUE=DATE:20250329
DTEND;TZID=America/Chicago;VALUE=DATE:20250331
SEQUENCE:0
TRANSP:OPAQUE
END:VEVENT
END:VCALENDAR