BEGIN:VCALENDAR
VERSION:2.0
PRODID:-//jEvents 2.0 for Joomla//EN
CALSCALE:GREGORIAN
METHOD:PUBLISH
BEGIN:VTIMEZONE
TZID:America/Chicago
BEGIN:STANDARD
DTSTART:20241225T000000
RDATE:20250309T030000
TZOFFSETFROM:-0500
TZOFFSETTO:-0600
TZNAME:America/Chicago CST
END:STANDARD
BEGIN:STANDARD
DTSTART:20251102T010000
RDATE:20260308T030000
TZOFFSETFROM:-0500
TZOFFSETTO:-0600
TZNAME:America/Chicago CST
END:STANDARD
BEGIN:STANDARD
DTSTART:20261101T010000
RDATE:20270314T030000
TZOFFSETFROM:-0500
TZOFFSETTO:-0600
TZNAME:America/Chicago CST
END:STANDARD
BEGIN:STANDARD
DTSTART:20271107T010000
RDATE:20280312T030000
TZOFFSETFROM:-0500
TZOFFSETTO:-0600
TZNAME:America/Chicago CST
END:STANDARD
BEGIN:STANDARD
DTSTART:20281105T010000
RDATE:20290311T030000
TZOFFSETFROM:-0500
TZOFFSETTO:-0600
TZNAME:America/Chicago CST
END:STANDARD
BEGIN:DAYLIGHT
DTSTART:20250309T030000
RDATE:20251102T010000
TZOFFSETFROM:-0600
TZOFFSETTO:-0500
TZNAME:America/Chicago CDT
END:DAYLIGHT
BEGIN:DAYLIGHT
DTSTART:20260308T030000
RDATE:20261101T010000
TZOFFSETFROM:-0600
TZOFFSETTO:-0500
TZNAME:America/Chicago CDT
END:DAYLIGHT
BEGIN:DAYLIGHT
DTSTART:20270314T030000
RDATE:20271107T010000
TZOFFSETFROM:-0600
TZOFFSETTO:-0500
TZNAME:America/Chicago CDT
END:DAYLIGHT
BEGIN:DAYLIGHT
DTSTART:20280312T030000
RDATE:20281105T010000
TZOFFSETFROM:-0600
TZOFFSETTO:-0500
TZNAME:America/Chicago CDT
END:DAYLIGHT
END:VTIMEZONE
BEGIN:VEVENT
UID:07cd75cb8c81758c271626614a0d0f51
CATEGORIES:Tour Events
CREATED:20250514T065540
SUMMARY:2025 North Central Open
LOCATION:Madison Marriott West
DESCRIPTION:2025 North Central Open\n*FIDE rated event*\nDecember 26-28 (or 27-28 for 2
 -day schedule)\nMadison Marriott West, Middleton, WI 53562\n1313 John Q Ham
 mons Dr., (608) 831-2000\nChess Rate is $99 if reserved by December 19th: r
 eserve your room now (https://www.marriott.com/event-reservations/reservati
 on-link.mi?id=1740772215792&amp;key=GRP&amp;guestreslink2=true&amp;app=resv
 link). If the link doesn't work, please contact the organizers and we will 
 make sure you get the chess rate. This rate includes free parking, free int
 ernet, and a discounted breakfast buffet.  \n \nENTER: <a href="https://www
 .kingregistration.com/event/2025NCO">https://www.kingregistration.com/event
 /2025NCO</a> \nEQUIPMENT: uniform equipment (boards, sets, clocks) is provi
 ded and should be used\nQUESTIONS: Chris Wainscott: This email address is b
 eing protected from spambots. You need JavaScript enabled to view it.
				d
 ocument.getElementById('cloak943b2d7b72f148eb9a384b588a57bb19').innerHTML =
  '';
				var prefix = '&#109;a' + 'i&#108;' + '&#116;o';
				var path = 'hr
 ' + 'ef' + '=';
				var addy943b2d7b72f148eb9a384b588a57bb19 = 'chr&#105;s.
 w&#97;&#105;nsc&#111;tt13' + '&#64;';
				addy943b2d7b72f148eb9a384b588a57b
 b19 = addy943b2d7b72f148eb9a384b588a57bb19 + '&#111;&#117;tl&#111;&#111;k' 
 + '&#46;' + 'c&#111;m';
				var addy_text943b2d7b72f148eb9a384b588a57bb19 =
  'chr&#105;s.w&#97;&#105;nsc&#111;tt13' + '&#64;' + '&#111;&#117;tl&#111;&#
 111;k' + '&#46;' + 'c&#111;m';document.getElementById('cloak943b2d7b72f148e
 b9a384b588a57bb19').innerHTML += '<a ' + path + '\'' + prefix + ':' + addy9
 43b2d7b72f148eb9a384b588a57bb19 + '\'>'+addy_text943b2d7b72f148eb9a384b588a
 57bb19+'';
		 or  414-839-5232 (text please), Alex Betaneli This email addr
 ess is being protected from spambots. You need JavaScript enabled to view i
 t.
				document.getElementById('cloak4a7fecd222ce85850523cf5b6c725ff4').inn
 erHTML = '';
				var prefix = '&#109;a' + 'i&#108;' + '&#116;o';
				var pa
 th = 'hr' + 'ef' + '=';
				var addy4a7fecd222ce85850523cf5b6c725ff4 = '&#9
 7;b&#101;t&#97;n&#101;l&#105;' + '&#64;';
				addy4a7fecd222ce85850523cf5b6
 c725ff4 = addy4a7fecd222ce85850523cf5b6c725ff4 + 'h&#111;tm&#97;&#105;l' + 
 '&#46;' + 'c&#111;m';
				var addy_text4a7fecd222ce85850523cf5b6c725ff4 = '
 &#97;b&#101;t&#97;n&#101;l&#105;' + '&#64;' + 'h&#111;tm&#97;&#105;l' + '&#
 46;' + 'c&#111;m';document.getElementById('cloak4a7fecd222ce85850523cf5b6c7
 25ff4').innerHTML += '<a ' + path + '\'' + prefix + ':' + addy4a7fecd222ce8
 5850523cf5b6c725ff4 + '\'>'+addy_text4a7fecd222ce85850523cf5b6c725ff4+'';
	
 	\n$3,500 Prize Fund\nThree sections: Premier (FIDE rated), Reserve (Under 
 1901), and Booster (Under 1401)\n \n \nSECTIONS\nPRIZES (b/100)\nPremier (F
 IDE Rated!)\n \n1st Place:        $500+traveling trophy\n2nd Place:       $
 300\n3rd Place:        $200\nUnder 2201:    $200\nUnder 2001:    $200\nRese
 rve Under 1901\n \n1st Place:         $400\n2nd Place:        $300\nUnder 1
 701:     $200\nUnder 1501:     $200\nBooster Under 1401\n \n1st Place:     
     $400\n2nd Place:        $300\nUnder 1201:     $200\nTop Unrated:     $1
 00\n \n \n \nPremier section is FIDE rated (except for Round 1 of the 2-day
  schedule)\nNotation is mandatory for the entire game (except for Round 1 o
 f the 2-day schedule).\nAccelerated pairings might be used.\nOrganizers res
 erve the right to choose the highest of the published ratings (Regular, Rap
 id, Online Regular, Online Rapid, FIDE) for the purpose of section selectio
 n, pairings, and prizes. Only regular ratings are affected by this event.\n
 Unrated players may not play in Premier and may not win over $200 in Booste
 r.\n \n \nENTRY FEESTIME CONTROLS AND PLAYING SCHEDULE\n - $89 online by 12
 /11\n - $99 online by 12/23\n - $109 after 12/23 \n - 3-day entries after 6
 :30pm Friday receive ½-point bye for round 1\n - 2-day entries after 8:30am
  Saturday receive ½-point bye for round 1\n - You may play up one section f
 or $40 extra \n - 1/2 point byes OK all rounds, must commit before round 1 
 (maximum 2); please email organizers \n - Reentry available for $50 3-day\n
 G/90+30 second increment\n\n - Friday 7:00pm\n - Saturday 11:00am, 4:00pm\n
  - Sunday 10:00am, 3:00pm2-day\nRound 1: g/30+5 second increment, then merg
 es with 3-day schedule\n\n\n - Saturday: 9:00am\n - Saturday: 11:00am, 4:00
 pm\n - Sunday: 10:00am, 3:00pm
X-ALT-DESC;FMTTYPE=text/html:<p><strong>2025 North Central Open</strong></p><p><strong>*FIDE rated event
 *</strong></p><p><strong>December 26-28 (or 27-28 for 2-day schedule)</stro
 ng></p><p><strong>Madison Marriott West, Middleton, WI 53562</strong></p><p
 ><strong>1313 John Q Hammons Dr., (608) 831-2000</strong></p><p><strong>Che
 ss Rate is $99</strong> if reserved by December 19th: <strong><a href="http
 s://www.marriott.com/event-reservations/reservation-link.mi?id=174077221579
 2&amp;key=GRP&amp;guestreslink2=true&amp;app=resvlink">reserve your room no
 w</a></strong><strong><span data-olk-copy-source="MessageBody">.</span> </s
 trong>If the link doesn't work, please contact the organizers and we will m
 ake sure you get the chess rate. <strong>This rate includes free parking, f
 ree internet, and a discounted breakfast buffet.  </strong></p><p> </p><p><
 strong>ENTER: </strong><a href="https://www.kingregistration.com/event/2025
 NCO">https://www.kingregistration.com/event/2025NCO</a> </p><p><strong>EQUI
 PMENT: </strong>uniform equipment (boards, sets, clocks) is provided and sh
 ould be used</p><p><strong>QUESTIONS</strong>: Chris Wainscott: <span id="c
 loak943b2d7b72f148eb9a384b588a57bb19">This email address is being protected
  from spambots. You need JavaScript enabled to view it.</span><script type=
 'text/javascript'>
				document.getElementById('cloak943b2d7b72f148eb9a384b
 588a57bb19').innerHTML = '';
				var prefix = '&#109;a' + 'i&#108;' + '&#11
 6;o';
				var path = 'hr' + 'ef' + '=';
				var addy943b2d7b72f148eb9a384b5
 88a57bb19 = 'chr&#105;s.w&#97;&#105;nsc&#111;tt13' + '&#64;';
				addy943b2
 d7b72f148eb9a384b588a57bb19 = addy943b2d7b72f148eb9a384b588a57bb19 + '&#111
 ;&#117;tl&#111;&#111;k' + '&#46;' + 'c&#111;m';
				var addy_text943b2d7b72
 f148eb9a384b588a57bb19 = 'chr&#105;s.w&#97;&#105;nsc&#111;tt13' + '&#64;' +
  '&#111;&#117;tl&#111;&#111;k' + '&#46;' + 'c&#111;m';document.getElementBy
 Id('cloak943b2d7b72f148eb9a384b588a57bb19').innerHTML += '<a ' + path + '\'
 ' + prefix + ':' + addy943b2d7b72f148eb9a384b588a57bb19 + '\'>'+addy_text94
 3b2d7b72f148eb9a384b588a57bb19+'<\/a>';
		</script> or  414-839-5232 (text 
 please), Alex Betaneli <span id="cloak4a7fecd222ce85850523cf5b6c725ff4">Thi
 s email address is being protected from spambots. You need JavaScript enabl
 ed to view it.</span><script type='text/javascript'>
				document.getElemen
 tById('cloak4a7fecd222ce85850523cf5b6c725ff4').innerHTML = '';
				var pref
 ix = '&#109;a' + 'i&#108;' + '&#116;o';
				var path = 'hr' + 'ef' + '=';
	
 			var addy4a7fecd222ce85850523cf5b6c725ff4 = '&#97;b&#101;t&#97;n&#101;l&#
 105;' + '&#64;';
				addy4a7fecd222ce85850523cf5b6c725ff4 = addy4a7fecd222c
 e85850523cf5b6c725ff4 + 'h&#111;tm&#97;&#105;l' + '&#46;' + 'c&#111;m';
			
 	var addy_text4a7fecd222ce85850523cf5b6c725ff4 = '&#97;b&#101;t&#97;n&#101;
 l&#105;' + '&#64;' + 'h&#111;tm&#97;&#105;l' + '&#46;' + 'c&#111;m';documen
 t.getElementById('cloak4a7fecd222ce85850523cf5b6c725ff4').innerHTML += '<a 
 ' + path + '\'' + prefix + ':' + addy4a7fecd222ce85850523cf5b6c725ff4 + '\'
 >'+addy_text4a7fecd222ce85850523cf5b6c725ff4+'<\/a>';
		</script></p><p><st
 rong>$3,500 Prize Fund</strong></p><p><strong>Three sections: Premier (FIDE
  rated), Reserve (Under 1901), and Booster (Under 1401)</strong></p><p> </p
 ><p> </p><table width="637" cellspacing="0" cellpadding="0"><thead><tr><th>
 <p><strong>SECTIONS</strong></p></th><th><p><strong>PRIZES (b/100)</strong>
 </p></th></tr></thead><tbody><tr><td><p>Premier (FIDE Rated!)</p></td><td><
 p> </p><p>1st Place:        <strong>$500+traveling trophy</strong></p><p>2n
 d Place:<strong>       $300</strong></p><p>3rd Place:<strong>        $200</
 strong></p><p>Under 2201:    <strong>$200</strong></p><p>Under 2001:    <st
 rong>$200</strong></p></td></tr><tr><td><p>Reserve Under 1901</p></td><td><
 p> </p><p>1st Place:         <strong>$400</strong></p><p>2nd Place:        
 <strong>$300</strong></p><p>Under 1701:     <strong>$200</strong></p><p>Und
 er 1501:     <strong>$200</strong></p></td></tr><tr><td><p>Booster Under 14
 01</p></td><td><p> </p><p>1st Place:         <strong>$400</strong></p><p>2n
 d Place:        <strong>$300</strong></p><p>Under 1201:     <strong>$200</s
 trong></p><p>Top Unrated:<strong>     $100</strong></p><p> </p></td></tr><t
 r><td><p> </p></td><td><p> </p></td></tr><tr><td><p>Premier section is FIDE
  rated (except for Round 1 of the 2-day schedule)</p></td><td><p>Notation i
 s mandatory for the entire game (except for Round 1 of the 2-day schedule).
 </p></td></tr><tr><td><p>Accelerated pairings might be used.</p></td><td><p
 >Organizers reserve the right to choose the highest of the published rating
 s (Regular, Rapid, Online Regular, Online Rapid, FIDE) for the purpose of s
 ection selection, pairings, and prizes. Only regular ratings are affected b
 y this event.</p></td></tr><tr><td colspan="2"><p>Unrated players may not p
 lay in Premier and may not win over $200 in Booster.</p></td></tr></tbody><
 /table><p> </p><p> </p><table width="807" cellspacing="0" cellpadding="0"><
 thead><tr><th><strong>ENTRY FEES</strong></th><th><strong>TIME CONTROLS AND
  PLAYING SCHEDULE</strong></th></tr></thead><tbody><tr><td><ul><li>$89 onli
 ne by 12/11</li><li>$99 online by 12/23</li><li>$109 after 12/23 </li><li>3
 -day entries after 6:30pm Friday receive ½-point bye for round 1</li><li>2-
 day entries after 8:30am Saturday receive ½-point bye for round 1</li><li>Y
 ou may play up one section for $40 extra </li><li>1/2 point byes OK all rou
 nds, must commit before round 1 (maximum 2); please email organizers </li><
 li>Reentry available for $50 </li></ul></td><td><p><strong>3-day<br /></str
 ong><strong>G/90+30 second increment</strong></p><ul><li>Friday 7:00pm</li>
 <li>Saturday 11:00am, 4:00pm</li><li>Sunday 10:00am, 3:00pm</li></ul><p><st
 rong>2-day<br /></strong><strong>Round 1: g/30+5 second increment, then mer
 ges with 3-day schedule<br /></strong></p><ul><li>Saturday: 9:00am</li><li>
 Saturday: 11:00am, 4:00pm</li><li>Sunday: 10:00am, 3:00pm</li></ul></td></t
 r></tbody></table>
CONTACT:Chris Wainscott - This email address is being protected from spambots. You need JavaScript enabled to view it.
				document.getElementById('cloakc1b80689dda5242b44f13b3884dbd0d3').innerHTML = '';
				var prefix = '&#109;a' + 'i&#108;' + '&#116;o';
				var path = 'hr' + 'ef' + '=';
				var addyc1b80689dda5242b44f13b3884dbd0d3 = 'td' + '&#64;';
				addyc1b80689dda5242b44f13b3884dbd0d3 = addyc1b80689dda5242b44f13b3884dbd0d3 + '&#105;&#97;-ch&#101;ss' + '&#46;' + 'c&#111;m';
				var addy_textc1b80689dda5242b44f13b3884dbd0d3 = 'td' + '&#64;' + '&#105;&#97;-ch&#101;ss' + '&#46;' + 'c&#111;m';document.getElementById('cloakc1b80689dda5242b44f13b3884dbd0d3').innerHTML += '<a ' + path + '\'' + prefix + ':' + addyc1b80689dda5242b44f13b3884dbd0d3 + '\'>'+addy_textc1b80689dda5242b44f13b3884dbd0d3+'';
		
DTSTAMP:20260422T110305
DTSTART;TZID=America/Chicago;VALUE=DATE:20251226
DTEND;TZID=America/Chicago;VALUE=DATE:20251229
SEQUENCE:0
TRANSP:OPAQUE
END:VEVENT
END:VCALENDAR