BEGIN:VCALENDAR
VERSION:2.0
PRODID:-//jEvents 2.0 for Joomla//EN
CALSCALE:GREGORIAN
METHOD:PUBLISH
BEGIN:VTIMEZONE
TZID:America/Chicago
BEGIN:STANDARD
DTSTART:20241103T010000
RDATE:20250309T030000
TZOFFSETFROM:-0500
TZOFFSETTO:-0600
TZNAME:America/Chicago CST
END:STANDARD
BEGIN:STANDARD
DTSTART:20251102T010000
RDATE:20260308T030000
TZOFFSETFROM:-0500
TZOFFSETTO:-0600
TZNAME:America/Chicago CST
END:STANDARD
BEGIN:STANDARD
DTSTART:20261101T010000
RDATE:20270314T030000
TZOFFSETFROM:-0500
TZOFFSETTO:-0600
TZNAME:America/Chicago CST
END:STANDARD
BEGIN:STANDARD
DTSTART:20271107T010000
RDATE:20280312T030000
TZOFFSETFROM:-0500
TZOFFSETTO:-0600
TZNAME:America/Chicago CST
END:STANDARD
BEGIN:STANDARD
DTSTART:20281105T010000
RDATE:20290311T030000
TZOFFSETFROM:-0500
TZOFFSETTO:-0600
TZNAME:America/Chicago CST
END:STANDARD
BEGIN:DAYLIGHT
DTSTART:20240912T000000
RDATE:20241103T010000
TZOFFSETFROM:-0600
TZOFFSETTO:-0500
TZNAME:America/Chicago CDT
END:DAYLIGHT
BEGIN:DAYLIGHT
DTSTART:20250309T030000
RDATE:20251102T010000
TZOFFSETFROM:-0600
TZOFFSETTO:-0500
TZNAME:America/Chicago CDT
END:DAYLIGHT
BEGIN:DAYLIGHT
DTSTART:20260308T030000
RDATE:20261101T010000
TZOFFSETFROM:-0600
TZOFFSETTO:-0500
TZNAME:America/Chicago CDT
END:DAYLIGHT
BEGIN:DAYLIGHT
DTSTART:20270314T030000
RDATE:20271107T010000
TZOFFSETFROM:-0600
TZOFFSETTO:-0500
TZNAME:America/Chicago CDT
END:DAYLIGHT
BEGIN:DAYLIGHT
DTSTART:20280312T030000
RDATE:20281105T010000
TZOFFSETFROM:-0600
TZOFFSETTO:-0500
TZNAME:America/Chicago CDT
END:DAYLIGHT
END:VTIMEZONE
BEGIN:VEVENT
UID:ea4dfe0f76d48c9218b67a263b2c6450
CATEGORIES:Tour Events
CREATED:20250824T102527
SUMMARY:Wisconsin State G/60 Championship
LOCATION:UWM
DESCRIPTION:2025 WI State G/60 Championship\nPresented in Conjunction Between the IAC a
 nd the UWM Chess Club\nDate: September 13, 2025\nLocation: UWM Student Unio
 n, 2200 E Kenwood Bvld, Milwaukee, WI 53211. Playing all is the Union Ballr
 oom (W195)\nFormat: Four Round G/60d5 Swiss Tournament\nRound Times: 10 AM,
  1 PM, 3:30 PM, 6 PM | 1 Half Point Bye Allowed, Unlimited 0 Point Byes All
 owed\nSections: Open, U1500 Reserve, U1000 Novice\nEntry Fees: Premier (150
 0+): $50 regular, $60 after 9/06, $65 on-site, Reserve (1000-1501): $40 reg
 ular, $50 after 9/06, $55 on-site Novice (U/1001): $35 regular, $45 after 9
 /06, $50 on-site. Premier/Reserve $10 play-up fee is assessed for lower-rat
 ed players entering stronger sections. UWM Students: Email This email addre
 ss is being protected from spambots. You need JavaScript enabled to view it
 .
				document.getElementById('cloak61e0ec3d2472c4939e6055fc40c910ea').inne
 rHTML = '';
				var prefix = '&#109;a' + 'i&#108;' + '&#116;o';
				var pat
 h = 'hr' + 'ef' + '=';
				var addy61e0ec3d2472c4939e6055fc40c910ea = 'td' 
 + '&#64;';
				addy61e0ec3d2472c4939e6055fc40c910ea = addy61e0ec3d2472c4939
 e6055fc40c910ea + '&#105;&#97;-ch&#101;ss' + '&#46;' + 'c&#111;m';
				var 
 addy_text61e0ec3d2472c4939e6055fc40c910ea = 'td' + '&#64;' + '&#105;&#97;-c
 h&#101;ss' + '&#46;' + 'c&#111;m';document.getElementById('cloak61e0ec3d247
 2c4939e6055fc40c910ea').innerHTML += '<a ' + path + '\'' + prefix + ':' + a
 ddy61e0ec3d2472c4939e6055fc40c910ea + '\'>'+addy_text61e0ec3d2472c4939e6055
 fc40c910ea+'';
		 for a discounted entry fee.\nEnter: 2025 Wisconsin State 
 G/60 Championship (https://www.kingregistration.com/event/2025WIG60Chmp)\nP
 airings by WinTD. Accelerated pairings may be used.\nPrizes: $1000 Prize Fu
 nd based on 100 entries (ties will mean prizes are split under USCF rules)\
 n\n - $250 to Open 1st Place\n - $125 to Open 2nd Place\n - $75 to Open 3rd
  Place\n - $60 to Top U1800/Unrated in Open\n - $125 to U1500 1st Place\n -
  $75 to U1500 2nd Place\n - $50 to U1500 3rd Place\n - $40 to Top U1200/Unr
 ated in U1500 Reserve\n - $100 to U1000 1st Place\n - $50 to U1000 2nd Plac
 e\n - $30 to U1000 3rd Place\n - $20 to Top U600/Unrated in U1000 NovicePle
 ase note that PayPal will be the preferred method of cash prize distributio
 n, but we are able to write a check on-site as well if needed!\nRefunds: Co
 ntact tournament organizer at least one day before the event. Entry fees le
 ss KingRegistration processing fees will be guaranteed refunded\nAll minors
  attending must be accompanied by a supervising adult: a parent, a guardian
 , or a coach authorized by the minor’s school to supervise the minor. The s
 upervising adult must remain with the minor at all times during the event, 
 per UWM policy on Minor Protection &amp; Adult Leadership.\nUWM Union resta
 urants may be open on Saturday 9/13. Restaurants are located within walking
  distance on Oakland Avenue!\nThis is a Wisconsin Tour event!\nTop board in
  the Open will be livestreamed with the Chess Club at UWM's DGT board!\n
X-ALT-DESC;FMTTYPE=text/html:<p><strong>2025 WI State G/60 Championship</strong></p><p>Presented in Conj
 unction Between the IAC and the UWM Chess Club</p><p><strong>Date: </strong
 >September 13, 2025</p><p><strong>Location: </strong>UWM Student Union, 220
 0 E Kenwood Bvld, Milwaukee, WI 53211. Playing all is the Union Ballroom (W
 195)</p><p><strong>Format: </strong>Four Round G/60d5 Swiss Tournament</p><
 p><strong>Round Times: </strong>10 AM, 1 PM, 3:30 PM, 6 PM | 1 Half Point B
 ye Allowed, Unlimited 0 Point Byes Allowed</p><p><strong>Sections: </strong
 >Open, U1500 Reserve, U1000 Novice</p><p><strong>Entry Fees: Premier (1500+
 ): </strong>$50 regular, $60 after 9/06, $65 on-site, <strong>Reserve (1000
 -1501): </strong>$40 regular, $50 after 9/06, $55 on-site <strong>Novice (U
 /1001):</strong> $35 regular, $45 after 9/06, $50 on-site. <strong>Premier/
 Reserve</strong> $10 play-up fee is assessed for lower-rated players enteri
 ng stronger sections. <strong>UWM Students</strong>: Email <span id="cloak6
 1e0ec3d2472c4939e6055fc40c910ea">This email address is being protected from
  spambots. You need JavaScript enabled to view it.</span><script type='text
 /javascript'>
				document.getElementById('cloak61e0ec3d2472c4939e6055fc40c
 910ea').innerHTML = '';
				var prefix = '&#109;a' + 'i&#108;' + '&#116;o';
 
				var path = 'hr' + 'ef' + '=';
				var addy61e0ec3d2472c4939e6055fc40c9
 10ea = 'td' + '&#64;';
				addy61e0ec3d2472c4939e6055fc40c910ea = addy61e0e
 c3d2472c4939e6055fc40c910ea + '&#105;&#97;-ch&#101;ss' + '&#46;' + 'c&#111;
 m';
				var addy_text61e0ec3d2472c4939e6055fc40c910ea = 'td' + '&#64;' + '&
 #105;&#97;-ch&#101;ss' + '&#46;' + 'c&#111;m';document.getElementById('cloa
 k61e0ec3d2472c4939e6055fc40c910ea').innerHTML += '<a ' + path + '\'' + pref
 ix + ':' + addy61e0ec3d2472c4939e6055fc40c910ea + '\'>'+addy_text61e0ec3d24
 72c4939e6055fc40c910ea+'<\/a>';
		</script> for a discounted entry fee.</p>
 <p><strong>Enter</strong>: <a href="https://www.kingregistration.com/event/
 2025WIG60Chmp">2025 Wisconsin State G/60 Championship</a></p><p>Pairings by
  WinTD. Accelerated pairings may be used.</p><p><strong>Prizes: </strong>$1
 000 Prize Fund based on 100 entries (ties will mean prizes are split under 
 USCF rules)</p><ul><li><strong>$250 to Open 1<sup>st</sup> Place</strong></
 li><li><strong>$125 to Open 2<sup>nd</sup> Place</strong></li><li><strong>$
 75 to Open 3<sup>rd</sup> Place</strong></li><li><strong>$60 to Top U1800/U
 nrated in Open</strong></li><li><strong>$125 to U1500 1<sup>st</sup> Place<
 /strong></li><li><strong>$75 to U1500 2<sup>nd</sup> Place</strong></li><li
 ><strong>$50 to U1500 3<sup>rd</sup> Place</strong></li><li><strong>$40 to 
 Top U1200/Unrated in U1500 Reserve</strong></li><li><strong>$100 to U1000 1
 <sup>st</sup> Place</strong></li><li><strong>$50 to U1000 2<sup>nd</sup> Pl
 ace</strong></li><li><strong>$30 to U1000 3<sup>rd</sup> Place</strong></li
 ><li><strong>$20 to Top U600/Unrated in U1000 Novice</strong></li></ul><p>P
 lease note that PayPal will be the preferred method of cash prize distribut
 ion, but we are able to write a check on-site as well if needed!</p><p><str
 ong>Refunds: </strong>Contact tournament organizer at least one day before 
 the event. Entry fees less KingRegistration processing fees will be guarant
 eed refunded</p><p>All minors attending must be accompanied by a supervisin
 g adult: a parent, a guardian, or a coach authorized by the minor’s school 
 to supervise the minor. The supervising adult must remain with the minor at
  all times during the event, per UWM policy on Minor Protection &amp; Adult
  Leadership.</p><p>UWM Union restaurants may be open on Saturday 9/13. Rest
 aurants are located within walking distance on Oakland Avenue!</p><p><stron
 g>This is a Wisconsin Tour event!</strong></p><p><strong>Top board in the O
 pen will be livestreamed with the Chess Club at UWM's DGT board!</strong></
 p>
CONTACT:Chris Wainscott - This email address is being protected from spambots. You need JavaScript enabled to view it.
				document.getElementById('cloakb7ecfb5914706b63a5f064ba2cb818db').innerHTML = '';
				var prefix = '&#109;a' + 'i&#108;' + '&#116;o';
				var path = 'hr' + 'ef' + '=';
				var addyb7ecfb5914706b63a5f064ba2cb818db = 'td' + '&#64;';
				addyb7ecfb5914706b63a5f064ba2cb818db = addyb7ecfb5914706b63a5f064ba2cb818db + '&#105;&#97;-ch&#101;ss' + '&#46;' + 'c&#111;m';
				var addy_textb7ecfb5914706b63a5f064ba2cb818db = 'td' + '&#64;' + '&#105;&#97;-ch&#101;ss' + '&#46;' + 'c&#111;m';document.getElementById('cloakb7ecfb5914706b63a5f064ba2cb818db').innerHTML += '<a ' + path + '\'' + prefix + ':' + addyb7ecfb5914706b63a5f064ba2cb818db + '\'>'+addy_textb7ecfb5914706b63a5f064ba2cb818db+'';
		
DTSTAMP:20260420T120902
DTSTART;TZID=America/Chicago;VALUE=DATE:20250913
DTEND;TZID=America/Chicago;VALUE=DATE:20250914
SEQUENCE:0
TRANSP:OPAQUE
END:VEVENT
END:VCALENDAR