BEGIN:VCALENDAR
VERSION:2.0
PRODID:-//jEvents 2.0 for Joomla//EN
CALSCALE:GREGORIAN
METHOD:PUBLISH
BEGIN:VTIMEZONE
TZID:America/Chicago
BEGIN:STANDARD
DTSTART:20121104T010000
RDATE:20130310T030000
TZOFFSETFROM:-0500
TZOFFSETTO:-0600
TZNAME:America/Chicago CST
END:STANDARD
BEGIN:STANDARD
DTSTART:20131103T010000
RDATE:20140309T030000
TZOFFSETFROM:-0500
TZOFFSETTO:-0600
TZNAME:America/Chicago CST
END:STANDARD
BEGIN:STANDARD
DTSTART:20141102T010000
RDATE:20150308T030000
TZOFFSETFROM:-0500
TZOFFSETTO:-0600
TZNAME:America/Chicago CST
END:STANDARD
BEGIN:STANDARD
DTSTART:20151101T010000
RDATE:20160313T030000
TZOFFSETFROM:-0500
TZOFFSETTO:-0600
TZNAME:America/Chicago CST
END:STANDARD
BEGIN:STANDARD
DTSTART:20161106T010000
RDATE:20170312T030000
TZOFFSETFROM:-0500
TZOFFSETTO:-0600
TZNAME:America/Chicago CST
END:STANDARD
BEGIN:STANDARD
DTSTART:20171105T010000
RDATE:20180311T030000
TZOFFSETFROM:-0500
TZOFFSETTO:-0600
TZNAME:America/Chicago CST
END:STANDARD
BEGIN:STANDARD
DTSTART:20181104T010000
RDATE:20190310T030000
TZOFFSETFROM:-0500
TZOFFSETTO:-0600
TZNAME:America/Chicago CST
END:STANDARD
BEGIN:STANDARD
DTSTART:20191103T010000
RDATE:20200308T030000
TZOFFSETFROM:-0500
TZOFFSETTO:-0600
TZNAME:America/Chicago CST
END:STANDARD
BEGIN:STANDARD
DTSTART:20201101T010000
RDATE:20210314T030000
TZOFFSETFROM:-0500
TZOFFSETTO:-0600
TZNAME:America/Chicago CST
END:STANDARD
BEGIN:STANDARD
DTSTART:20211107T010000
RDATE:20220313T030000
TZOFFSETFROM:-0500
TZOFFSETTO:-0600
TZNAME:America/Chicago CST
END:STANDARD
BEGIN:STANDARD
DTSTART:20221106T010000
RDATE:20230312T030000
TZOFFSETFROM:-0500
TZOFFSETTO:-0600
TZNAME:America/Chicago CST
END:STANDARD
BEGIN:STANDARD
DTSTART:20231105T010000
RDATE:20240310T030000
TZOFFSETFROM:-0500
TZOFFSETTO:-0600
TZNAME:America/Chicago CST
END:STANDARD
BEGIN:STANDARD
DTSTART:20241103T010000
RDATE:20250309T030000
TZOFFSETFROM:-0500
TZOFFSETTO:-0600
TZNAME:America/Chicago CST
END:STANDARD
BEGIN:STANDARD
DTSTART:20251102T010000
RDATE:20260308T030000
TZOFFSETFROM:-0500
TZOFFSETTO:-0600
TZNAME:America/Chicago CST
END:STANDARD
BEGIN:STANDARD
DTSTART:20261101T010000
RDATE:20270314T030000
TZOFFSETFROM:-0500
TZOFFSETTO:-0600
TZNAME:America/Chicago CST
END:STANDARD
BEGIN:STANDARD
DTSTART:20271107T010000
RDATE:20280312T030000
TZOFFSETFROM:-0500
TZOFFSETTO:-0600
TZNAME:America/Chicago CST
END:STANDARD
BEGIN:STANDARD
DTSTART:20281105T010000
RDATE:20290311T030000
TZOFFSETFROM:-0500
TZOFFSETTO:-0600
TZNAME:America/Chicago CST
END:STANDARD
BEGIN:DAYLIGHT
DTSTART:20120329T080000
RDATE:20121104T010000
TZOFFSETFROM:-0600
TZOFFSETTO:-0500
TZNAME:America/Chicago CDT
END:DAYLIGHT
BEGIN:DAYLIGHT
DTSTART:20130310T030000
RDATE:20131103T010000
TZOFFSETFROM:-0600
TZOFFSETTO:-0500
TZNAME:America/Chicago CDT
END:DAYLIGHT
BEGIN:DAYLIGHT
DTSTART:20140309T030000
RDATE:20141102T010000
TZOFFSETFROM:-0600
TZOFFSETTO:-0500
TZNAME:America/Chicago CDT
END:DAYLIGHT
BEGIN:DAYLIGHT
DTSTART:20150308T030000
RDATE:20151101T010000
TZOFFSETFROM:-0600
TZOFFSETTO:-0500
TZNAME:America/Chicago CDT
END:DAYLIGHT
BEGIN:DAYLIGHT
DTSTART:20160313T030000
RDATE:20161106T010000
TZOFFSETFROM:-0600
TZOFFSETTO:-0500
TZNAME:America/Chicago CDT
END:DAYLIGHT
BEGIN:DAYLIGHT
DTSTART:20170312T030000
RDATE:20171105T010000
TZOFFSETFROM:-0600
TZOFFSETTO:-0500
TZNAME:America/Chicago CDT
END:DAYLIGHT
BEGIN:DAYLIGHT
DTSTART:20180311T030000
RDATE:20181104T010000
TZOFFSETFROM:-0600
TZOFFSETTO:-0500
TZNAME:America/Chicago CDT
END:DAYLIGHT
BEGIN:DAYLIGHT
DTSTART:20190310T030000
RDATE:20191103T010000
TZOFFSETFROM:-0600
TZOFFSETTO:-0500
TZNAME:America/Chicago CDT
END:DAYLIGHT
BEGIN:DAYLIGHT
DTSTART:20200308T030000
RDATE:20201101T010000
TZOFFSETFROM:-0600
TZOFFSETTO:-0500
TZNAME:America/Chicago CDT
END:DAYLIGHT
BEGIN:DAYLIGHT
DTSTART:20210314T030000
RDATE:20211107T010000
TZOFFSETFROM:-0600
TZOFFSETTO:-0500
TZNAME:America/Chicago CDT
END:DAYLIGHT
BEGIN:DAYLIGHT
DTSTART:20220313T030000
RDATE:20221106T010000
TZOFFSETFROM:-0600
TZOFFSETTO:-0500
TZNAME:America/Chicago CDT
END:DAYLIGHT
BEGIN:DAYLIGHT
DTSTART:20230312T030000
RDATE:20231105T010000
TZOFFSETFROM:-0600
TZOFFSETTO:-0500
TZNAME:America/Chicago CDT
END:DAYLIGHT
BEGIN:DAYLIGHT
DTSTART:20240310T030000
RDATE:20241103T010000
TZOFFSETFROM:-0600
TZOFFSETTO:-0500
TZNAME:America/Chicago CDT
END:DAYLIGHT
BEGIN:DAYLIGHT
DTSTART:20250309T030000
RDATE:20251102T010000
TZOFFSETFROM:-0600
TZOFFSETTO:-0500
TZNAME:America/Chicago CDT
END:DAYLIGHT
BEGIN:DAYLIGHT
DTSTART:20260308T030000
RDATE:20261101T010000
TZOFFSETFROM:-0600
TZOFFSETTO:-0500
TZNAME:America/Chicago CDT
END:DAYLIGHT
BEGIN:DAYLIGHT
DTSTART:20270314T030000
RDATE:20271107T010000
TZOFFSETFROM:-0600
TZOFFSETTO:-0500
TZNAME:America/Chicago CDT
END:DAYLIGHT
BEGIN:DAYLIGHT
DTSTART:20280312T030000
RDATE:20281105T010000
TZOFFSETFROM:-0600
TZOFFSETTO:-0500
TZNAME:America/Chicago CDT
END:DAYLIGHT
END:VTIMEZONE
BEGIN:VEVENT
UID:9dc9328277785dc65be10646a41df423
CATEGORIES:Tour Events
CREATED:20130114T212308
SUMMARY:32nd Annual Waukesha Memorial
LOCATION:Country Spring Hotel\, Exit 291\, I-94 and Hwy. G\, Waukesha\, WI 53187
DESCRIPTION:<p> </p><p class="MsoNormal" style="margin: 0in 0in 0pt; line-height: norma
 l; mso-layout-grid-align: none;"><span style="mso-bidi-font-family: Arial;"
 ><span style="font-family: Arial;"><span style="font-size: medium;"><span s
 tyle="color: #000000;">A Heritage Event! <span style="mso-spacerun: yes;"> 
 </span>A Wisconsin Tour Event!</span></span></span></span></p><p><span styl
 e="mso-bidi-font-family: Arial;"><span style="font-family: Arial;"><span st
 yle="font-size: medium;"><span style="color: #000000;">Waukesha Memorial (3
 2nd Annual) 4SS. G/60. Dual rated. </span></span></span></span></p><p><span
  style="mso-bidi-font-family: Arial;"><span style="font-family: Arial;"><sp
 an style="font-size: medium;"><span style="color: #000000;">Country Springs
  Hotel, (262.547.0201); Exit 291, I-94 and Hwy G, Waukesha, WI 53187. <span
  style="mso-spacerun: yes;"> </span></span></span></span></span></p><p><spa
 n style="mso-bidi-font-family: Arial;"><span style="font-family: Arial;"><s
 pan style="font-size: medium;"><span style="color: #000000;">$$Non-monetary
 , traveling trophy to First, books for class winners. Open to all. </span><
 /span></span></span></p><p><span style="mso-bidi-font-family: Arial;"><span
  style="font-family: Arial;"><span style="font-size: medium;"><span style="
 color: #000000;">EF: $15 ($10 by 3/29). <span style="mso-spacerun: yes;"> <
 /span></span></span></span></span></p><p><span style="mso-bidi-font-family:
  Arial;"><span style="font-family: Arial;"><span style="font-size: medium;"
 ><span style="color: #000000;"><span style="mso-spacerun: yes;">Reg</span>.
 : 8:00-9:30, Rds.: 10:00; 1:00; 3:30; 6:00. </span></span></span></span></p
 ><p><span style="mso-bidi-font-family: Arial;"><span style="font-family: Ar
 ial;"><span style="font-size: medium;"><span style="color: #000000;">No sta
 te memb. req'd. OSA. <span style="mso-spacerun: yes;"> </span></span></span
 ></span></span></p><p><span style="mso-bidi-font-family: Arial;"><span styl
 e="font-family: Arial;"><span style="font-size: medium;"><span style="color
 : #000000;">Mail entries to Waukesha CC. 1911 Stardust DR, Waukesha, WI 531
 86. </span></span></span></span></p><p><span style="mso-bidi-font-family: A
 rial;"><span style="color: #000000;"><span style="font-size: medium;"><span
  style="font-family: Arial;">Phone Info:Jim Nickell (262) 544-6266. </span>
 </span></span></span></p><p> </p><p><span style="mso-bidi-font-family: Aria
 l;"><span style="font-size: medium;"><span style="color: #000000;"><span st
 yle="font-family: Arial;">Rated Beginners Open (RBO)</span></span></span></
 span></p><p><span style="mso-bidi-font-family: Arial;"><span style="font-fa
 mily: Arial;"><span style="font-size: medium;"><span style="color: #000000;
 ">4SS, G/60. Dual rated. <span style="mso-spacerun: yes;"> </span></span></
 span></span></span></p><p><span style="mso-bidi-font-family: Arial;"><span 
 style="font-family: Arial;"><span style="font-size: medium;"><span style="c
 olor: #000000;">Country Springs Hotel, (262.547.0201); </span></span></span
 ></span></p><p><span style="mso-bidi-font-family: Arial;"><span style="font
 -family: Arial;"><span style="font-size: medium;"><span style="color: #0000
 00;">Exit 291, I-94 <span style="mso-spacerun: yes;"> </span>and Hwy G, Wau
 kesha, WI 53187. </span></span></span></span></p><p><span style="mso-bidi-f
 ont-family: Arial;"><span style="font-family: Arial;"><span style="font-siz
 e: medium;"><span style="color: #000000;">Open to players rated under 1200 
 or unrated. </span></span></span></span></p><p><span style="mso-bidi-font-f
 amily: Arial;"><span style="font-family: Arial;"><span style="font-size: me
 dium;"><span style="color: #000000;">Prizes: Trophies to top 3, book prizes
  for class winners. </span></span></span></span></p><p><span style="mso-bid
 i-font-family: Arial;"><span style="font-family: Arial;"><span style="font-
 size: medium;"><span style="color: #000000;">EF: $15 ($10 by 3/29). </span>
 </span></span></span></p><p><span style="mso-bidi-font-family: Arial;"><spa
 n style="font-family: Arial;"><span style="font-size: medium;"><span style=
 "color: #000000;">Reg.: 8:00-9:30, Rds.: 10:00; 1:00; 3:30; 6:00. </span></
 span></span></span></p><p><span style="mso-bidi-font-family: Arial;"><span 
 style="font-family: Arial;"><span style="font-size: medium;"><span style="c
 olor: #000000;">Mail entries to Waukesha CC, </span></span></span></span><s
 pan style="mso-bidi-font-family: Arial;"><span style="color: #000000;"><spa
 n style="font-size: medium;"><span style="font-family: Arial;">1911 Stardus
 t DR, Waukesha, WI 53186.<span style="mso-spacerun: yes;">  </span></span><
 /span></span></span></p><p><span style="mso-bidi-font-family: Arial;"><span
  style="color: #000000;"><span style="font-size: medium;"><span style="font
 -family: Arial;">Phone Info:<span style="mso-spacerun: yes;">  </span>Jim N
 ickell (262) 544-6266. </span></span></span></span></p><p> </p>
CONTACT:This email address is being protected from spambots. You need JavaScript enabled to view it.
				document.getElementById('cloak537ffdff05746a8c0901341190825d42').innerHTML = '';
				var prefix = '&#109;a' + 'i&#108;' + '&#116;o';
				var path = 'hr' + 'ef' + '=';
				var addy537ffdff05746a8c0901341190825d42 = 'jn&#105;ck&#101;ll' + '&#64;';
				addy537ffdff05746a8c0901341190825d42 = addy537ffdff05746a8c0901341190825d42 + 'w&#105;' + '&#46;' + 'rr' + '&#46;' + 'c&#111;m';
				var addy_text537ffdff05746a8c0901341190825d42 = 'jn&#105;ck&#101;ll' + '&#64;' + 'w&#105;' + '&#46;' + 'rr' + '&#46;' + 'c&#111;m';document.getElementById('cloak537ffdff05746a8c0901341190825d42').innerHTML += '<a ' + path + '\'' + prefix + ':' + addy537ffdff05746a8c0901341190825d42 + '\'>'+addy_text537ffdff05746a8c0901341190825d42+'';
		
DTSTAMP:20260423T010713
DTSTART;TZID=America/Chicago:20130330T080000
DTEND;TZID=America/Chicago:20130330T170000
SEQUENCE:0
TRANSP:OPAQUE
END:VEVENT
END:VCALENDAR