BEGIN:VCALENDAR
VERSION:2.0
PRODID:-//jEvents 2.0 for Joomla//EN
CALSCALE:GREGORIAN
METHOD:PUBLISH
BEGIN:VTIMEZONE
TZID:America/Chicago
BEGIN:STANDARD
DTSTART:20121104T010000
RDATE:20130310T030000
TZOFFSETFROM:-0500
TZOFFSETTO:-0600
TZNAME:America/Chicago CST
END:STANDARD
BEGIN:STANDARD
DTSTART:20131103T010000
RDATE:20140309T030000
TZOFFSETFROM:-0500
TZOFFSETTO:-0600
TZNAME:America/Chicago CST
END:STANDARD
BEGIN:STANDARD
DTSTART:20141102T010000
RDATE:20150308T030000
TZOFFSETFROM:-0500
TZOFFSETTO:-0600
TZNAME:America/Chicago CST
END:STANDARD
BEGIN:STANDARD
DTSTART:20151101T010000
RDATE:20160313T030000
TZOFFSETFROM:-0500
TZOFFSETTO:-0600
TZNAME:America/Chicago CST
END:STANDARD
BEGIN:STANDARD
DTSTART:20161106T010000
RDATE:20170312T030000
TZOFFSETFROM:-0500
TZOFFSETTO:-0600
TZNAME:America/Chicago CST
END:STANDARD
BEGIN:STANDARD
DTSTART:20171105T010000
RDATE:20180311T030000
TZOFFSETFROM:-0500
TZOFFSETTO:-0600
TZNAME:America/Chicago CST
END:STANDARD
BEGIN:STANDARD
DTSTART:20181104T010000
RDATE:20190310T030000
TZOFFSETFROM:-0500
TZOFFSETTO:-0600
TZNAME:America/Chicago CST
END:STANDARD
BEGIN:STANDARD
DTSTART:20191103T010000
RDATE:20200308T030000
TZOFFSETFROM:-0500
TZOFFSETTO:-0600
TZNAME:America/Chicago CST
END:STANDARD
BEGIN:STANDARD
DTSTART:20201101T010000
RDATE:20210314T030000
TZOFFSETFROM:-0500
TZOFFSETTO:-0600
TZNAME:America/Chicago CST
END:STANDARD
BEGIN:STANDARD
DTSTART:20211107T010000
RDATE:20220313T030000
TZOFFSETFROM:-0500
TZOFFSETTO:-0600
TZNAME:America/Chicago CST
END:STANDARD
BEGIN:STANDARD
DTSTART:20221106T010000
RDATE:20230312T030000
TZOFFSETFROM:-0500
TZOFFSETTO:-0600
TZNAME:America/Chicago CST
END:STANDARD
BEGIN:STANDARD
DTSTART:20231105T010000
RDATE:20240310T030000
TZOFFSETFROM:-0500
TZOFFSETTO:-0600
TZNAME:America/Chicago CST
END:STANDARD
BEGIN:STANDARD
DTSTART:20241103T010000
RDATE:20250309T030000
TZOFFSETFROM:-0500
TZOFFSETTO:-0600
TZNAME:America/Chicago CST
END:STANDARD
BEGIN:STANDARD
DTSTART:20251102T010000
RDATE:20260308T030000
TZOFFSETFROM:-0500
TZOFFSETTO:-0600
TZNAME:America/Chicago CST
END:STANDARD
BEGIN:STANDARD
DTSTART:20261101T010000
RDATE:20270314T030000
TZOFFSETFROM:-0500
TZOFFSETTO:-0600
TZNAME:America/Chicago CST
END:STANDARD
BEGIN:STANDARD
DTSTART:20271107T010000
RDATE:20280312T030000
TZOFFSETFROM:-0500
TZOFFSETTO:-0600
TZNAME:America/Chicago CST
END:STANDARD
BEGIN:STANDARD
DTSTART:20281105T010000
RDATE:20290311T030000
TZOFFSETFROM:-0500
TZOFFSETTO:-0600
TZNAME:America/Chicago CST
END:STANDARD
BEGIN:DAYLIGHT
DTSTART:20120412T090000
RDATE:20121104T010000
TZOFFSETFROM:-0600
TZOFFSETTO:-0500
TZNAME:America/Chicago CDT
END:DAYLIGHT
BEGIN:DAYLIGHT
DTSTART:20130310T030000
RDATE:20131103T010000
TZOFFSETFROM:-0600
TZOFFSETTO:-0500
TZNAME:America/Chicago CDT
END:DAYLIGHT
BEGIN:DAYLIGHT
DTSTART:20140309T030000
RDATE:20141102T010000
TZOFFSETFROM:-0600
TZOFFSETTO:-0500
TZNAME:America/Chicago CDT
END:DAYLIGHT
BEGIN:DAYLIGHT
DTSTART:20150308T030000
RDATE:20151101T010000
TZOFFSETFROM:-0600
TZOFFSETTO:-0500
TZNAME:America/Chicago CDT
END:DAYLIGHT
BEGIN:DAYLIGHT
DTSTART:20160313T030000
RDATE:20161106T010000
TZOFFSETFROM:-0600
TZOFFSETTO:-0500
TZNAME:America/Chicago CDT
END:DAYLIGHT
BEGIN:DAYLIGHT
DTSTART:20170312T030000
RDATE:20171105T010000
TZOFFSETFROM:-0600
TZOFFSETTO:-0500
TZNAME:America/Chicago CDT
END:DAYLIGHT
BEGIN:DAYLIGHT
DTSTART:20180311T030000
RDATE:20181104T010000
TZOFFSETFROM:-0600
TZOFFSETTO:-0500
TZNAME:America/Chicago CDT
END:DAYLIGHT
BEGIN:DAYLIGHT
DTSTART:20190310T030000
RDATE:20191103T010000
TZOFFSETFROM:-0600
TZOFFSETTO:-0500
TZNAME:America/Chicago CDT
END:DAYLIGHT
BEGIN:DAYLIGHT
DTSTART:20200308T030000
RDATE:20201101T010000
TZOFFSETFROM:-0600
TZOFFSETTO:-0500
TZNAME:America/Chicago CDT
END:DAYLIGHT
BEGIN:DAYLIGHT
DTSTART:20210314T030000
RDATE:20211107T010000
TZOFFSETFROM:-0600
TZOFFSETTO:-0500
TZNAME:America/Chicago CDT
END:DAYLIGHT
BEGIN:DAYLIGHT
DTSTART:20220313T030000
RDATE:20221106T010000
TZOFFSETFROM:-0600
TZOFFSETTO:-0500
TZNAME:America/Chicago CDT
END:DAYLIGHT
BEGIN:DAYLIGHT
DTSTART:20230312T030000
RDATE:20231105T010000
TZOFFSETFROM:-0600
TZOFFSETTO:-0500
TZNAME:America/Chicago CDT
END:DAYLIGHT
BEGIN:DAYLIGHT
DTSTART:20240310T030000
RDATE:20241103T010000
TZOFFSETFROM:-0600
TZOFFSETTO:-0500
TZNAME:America/Chicago CDT
END:DAYLIGHT
BEGIN:DAYLIGHT
DTSTART:20250309T030000
RDATE:20251102T010000
TZOFFSETFROM:-0600
TZOFFSETTO:-0500
TZNAME:America/Chicago CDT
END:DAYLIGHT
BEGIN:DAYLIGHT
DTSTART:20260308T030000
RDATE:20261101T010000
TZOFFSETFROM:-0600
TZOFFSETTO:-0500
TZNAME:America/Chicago CDT
END:DAYLIGHT
BEGIN:DAYLIGHT
DTSTART:20270314T030000
RDATE:20271107T010000
TZOFFSETFROM:-0600
TZOFFSETTO:-0500
TZNAME:America/Chicago CDT
END:DAYLIGHT
BEGIN:DAYLIGHT
DTSTART:20280312T030000
RDATE:20281105T010000
TZOFFSETFROM:-0600
TZOFFSETTO:-0500
TZNAME:America/Chicago CDT
END:DAYLIGHT
END:VTIMEZONE
BEGIN:VEVENT
UID:3a15bd01db67b75f1a14e7b59d8e306a
CATEGORIES:Tour Events
CREATED:20130117T092652
SUMMARY:Hales Corners Challenge XVII
LOCATION:Comfort Suites Milwaukee Aiport Hotel
DESCRIPTION:Flyer:  http://www.southwestchessclub.com/HC%20Challenge%20XVII.pdf\n\n10 U
 SCF Grand Prix Points.  4SS, G/60;d5. 2 Sections: Open &amp; Reserve (under
  1600). \nComfort Suites Milwaukee Airport Hotel-6362 S 13th St-Oak Creek-4
 14-570-1111 (mention Southwest Chess Club for $89 room rate). \nEF: $40-Ope
 n, $30-Reserve, both $5 more after 4/10. Comp EF for USCF 2200+. \n$$ GTD: 
 Open=1st-$325, 2nd-$175, A-$100, B &amp; Below-$75;  Reserve =1st-$100, 2nd
 -$75, D-$50, E &amp; Below-$40. \nGoddesschess Prizes for Females in Additi
 on to Above Prizes Open: $40 per win/$20 per draw; Reserve: $20 per win/$10
  per draw.  Reg: 8:30-9:30, Rds: 10-1-3:30-6. \nEntries to Allen Becker, N1
 12 W17033 Vista Court, Apt. D, Germantown, WI 53022;\nThis email address is
  being protected from spambots. You need JavaScript enabled to view it.
			
 	document.getElementById('cloakc70200af37773bbd28e257f7ad5b76e0').innerHTML
  = '';
				var prefix = 'ma' + 'il' + 'to';
				var path = 'hr' + 'ef' + '=
 ';
				var addyc70200af37773bbd28e257f7ad5b76e0 = 'allenbecker' + '@';
				
 addyc70200af37773bbd28e257f7ad5b76e0 = addyc70200af37773bbd28e257f7ad5b76e0
  + 'wi' + '.' + 'rr' + '.' + 'com';
				var addy_textc70200af37773bbd28e257
 f7ad5b76e0 = 'allenbecker' + '@' + 'wi' + '.' + 'rr' + '.' + 'com';document
 .getElementById('cloakc70200af37773bbd28e257f7ad5b76e0').innerHTML += '<a '
  + path + '\'' + prefix + ':' + addyc70200af37773bbd28e257f7ad5b76e0 + '\'>
 '+addy_textc70200af37773bbd28e257f7ad5b76e0+'';
		. \nQuestions to TD: Robi
 n Grochowski, (414) 861-2745.\nLife Master Sheldon Gelbart will be on hand 
 throughout the tournament to analyze games for tournament participants.\n
X-ALT-DESC;FMTTYPE=text/html:<p class="MsoNormal"><span style="font-size: 11.0pt; color: blue; language:
  en-US;" lang="en-US">Flyer:  http://www.southwestchessclub.com/HC%20Challe
 nge%20XVII.pdf<br /></span></p><p class="MsoNormal"><span style="font-size:
  11.0pt; color: blue; language: en-US;" lang="en-US"><strong>10 USCF Grand 
 Prix Points.</strong>  4SS, G/60;d5. 2 Sections: Open & Reserve (under 1600
 ). </span></p><p class="MsoNormal"><span style="font-size: 11.0pt; color: b
 lue; language: en-US;" lang="en-US"><strong>Comfort Suites Milwaukee Airpor
 t Hotel-6362 S 13th St-Oak Creek-414-570-1111 (mention Southwest Chess Club
  for $89 room rate)</strong>. </span></p><p class="MsoNormal"><span style="
 font-size: 11.0pt; color: blue; language: en-US;" lang="en-US">EF: $40-Open
 , $30-Reserve, both $5 more after 4/10. Comp EF for USCF 2200+. </span></p>
 <p class="MsoNormal"><span style="font-size: 11.0pt; color: blue; language:
  en-US;" lang="en-US">$$ GTD: Open=1st-$325, 2nd-$175, A-$100, B & Below-$7
 5;  Reserve =1st-$100, 2nd-$75, D-$50, E & Below-$40. </span></p><p class="
 MsoNormal"><span style="font-size: 11.0pt; color: blue; language: en-US;" l
 ang="en-US">Goddesschess Prizes for Females in Addition to Above Prizes Ope
 n: $40 per win/$20 per draw; Reserve: $20 per win/$10 per draw.  Reg: 8:30-
 9:30, Rds: 10-1-3:30-6. </span></p><p class="MsoNormal"><span style="font-s
 ize: 11.0pt; color: blue; language: en-US;" lang="en-US">Entries to Allen B
 ecker, N112 W17033 Vista Court, Apt. D, Germantown, WI 53022;</span></p><p 
 class="MsoNormal"><span id="cloakc70200af37773bbd28e257f7ad5b76e0">This ema
 il address is being protected from spambots. You need JavaScript enabled to
  view it.</span><script type='text/javascript'>
				document.getElementById
 ('cloakc70200af37773bbd28e257f7ad5b76e0').innerHTML = '';
				var prefix = 
 'ma' + 'il' + 'to';
				var path = 'hr' + 'ef' + '=';
				var addyc70200af3
 7773bbd28e257f7ad5b76e0 = 'allenbecker' + '@';
				addyc70200af37773bbd28e2
 57f7ad5b76e0 = addyc70200af37773bbd28e257f7ad5b76e0 + 'wi' + '.' + 'rr' + '
 .' + 'com';
				var addy_textc70200af37773bbd28e257f7ad5b76e0 = '<span styl
 e="font-size: 11.0pt; color: blue; text-decoration: underline; language: en
 -US;" lang="en-US">allenbecker' + '@' + 'wi' + '.' + 'rr' + '.' + 'com</spa
 n>';document.getElementById('cloakc70200af37773bbd28e257f7ad5b76e0').innerH
 TML += '<a ' + path + '\'' + prefix + ':' + addyc70200af37773bbd28e257f7ad5
 b76e0 + '\'>'+addy_textc70200af37773bbd28e257f7ad5b76e0+'<\/a>';
		</script
 ><span style="font-size: 11.0pt; color: blue; language: en-US;" lang="en-US
 ">. </span></p><p class="MsoNormal"><span style="font-size: 11.0pt; color: 
 blue; language: en-US;" lang="en-US">Questions to TD: Robin Grochowski, (41
 4) 861-2745.</span></p><p class="MsoNormal"><span style="font-family: Arial
 ; color: maroon; font-weight: bold; language: en-US;" lang="en-US">Life Mas
 ter Sheldon Gelbart</span><span style="font-family: Arial; color: maroon; l
 anguage: en-US;" lang="en-US"> will be on hand throughout the tournament to
  analyze games for tournament participants.</span></p>
CONTACT:Robin Grochowski (414)-861-2745
X-EXTRAINFO:http://www.southwestchessclub.com/MSC.pdf 
DTSTAMP:20260423T010452
DTSTART;TZID=America/Chicago:20130413T090000
DTEND;TZID=America/Chicago:20130413T200000
SEQUENCE:0
TRANSP:OPAQUE
END:VEVENT
END:VCALENDAR