BEGIN:VCALENDAR
VERSION:2.0
PRODID:-//jEvents 2.0 for Joomla//EN
CALSCALE:GREGORIAN
METHOD:PUBLISH
BEGIN:VTIMEZONE
TZID:America/Chicago
BEGIN:STANDARD
DTSTART:20111106T010000
RDATE:20120311T030000
TZOFFSETFROM:-0500
TZOFFSETTO:-0600
TZNAME:America/Chicago CST
END:STANDARD
BEGIN:STANDARD
DTSTART:20121104T010000
RDATE:20130310T030000
TZOFFSETFROM:-0500
TZOFFSETTO:-0600
TZNAME:America/Chicago CST
END:STANDARD
BEGIN:STANDARD
DTSTART:20131103T010000
RDATE:20140309T030000
TZOFFSETFROM:-0500
TZOFFSETTO:-0600
TZNAME:America/Chicago CST
END:STANDARD
BEGIN:STANDARD
DTSTART:20141102T010000
RDATE:20150308T030000
TZOFFSETFROM:-0500
TZOFFSETTO:-0600
TZNAME:America/Chicago CST
END:STANDARD
BEGIN:STANDARD
DTSTART:20151101T010000
RDATE:20160313T030000
TZOFFSETFROM:-0500
TZOFFSETTO:-0600
TZNAME:America/Chicago CST
END:STANDARD
BEGIN:STANDARD
DTSTART:20161106T010000
RDATE:20170312T030000
TZOFFSETFROM:-0500
TZOFFSETTO:-0600
TZNAME:America/Chicago CST
END:STANDARD
BEGIN:STANDARD
DTSTART:20171105T010000
RDATE:20180311T030000
TZOFFSETFROM:-0500
TZOFFSETTO:-0600
TZNAME:America/Chicago CST
END:STANDARD
BEGIN:STANDARD
DTSTART:20181104T010000
RDATE:20190310T030000
TZOFFSETFROM:-0500
TZOFFSETTO:-0600
TZNAME:America/Chicago CST
END:STANDARD
BEGIN:STANDARD
DTSTART:20191103T010000
RDATE:20200308T030000
TZOFFSETFROM:-0500
TZOFFSETTO:-0600
TZNAME:America/Chicago CST
END:STANDARD
BEGIN:STANDARD
DTSTART:20201101T010000
RDATE:20210314T030000
TZOFFSETFROM:-0500
TZOFFSETTO:-0600
TZNAME:America/Chicago CST
END:STANDARD
BEGIN:STANDARD
DTSTART:20211107T010000
RDATE:20220313T030000
TZOFFSETFROM:-0500
TZOFFSETTO:-0600
TZNAME:America/Chicago CST
END:STANDARD
BEGIN:STANDARD
DTSTART:20221106T010000
RDATE:20230312T030000
TZOFFSETFROM:-0500
TZOFFSETTO:-0600
TZNAME:America/Chicago CST
END:STANDARD
BEGIN:STANDARD
DTSTART:20231105T010000
RDATE:20240310T030000
TZOFFSETFROM:-0500
TZOFFSETTO:-0600
TZNAME:America/Chicago CST
END:STANDARD
BEGIN:STANDARD
DTSTART:20241103T010000
RDATE:20250309T030000
TZOFFSETFROM:-0500
TZOFFSETTO:-0600
TZNAME:America/Chicago CST
END:STANDARD
BEGIN:STANDARD
DTSTART:20251102T010000
RDATE:20260308T030000
TZOFFSETFROM:-0500
TZOFFSETTO:-0600
TZNAME:America/Chicago CST
END:STANDARD
BEGIN:STANDARD
DTSTART:20261101T010000
RDATE:20270314T030000
TZOFFSETFROM:-0500
TZOFFSETTO:-0600
TZNAME:America/Chicago CST
END:STANDARD
BEGIN:STANDARD
DTSTART:20271107T010000
RDATE:20280312T030000
TZOFFSETFROM:-0500
TZOFFSETTO:-0600
TZNAME:America/Chicago CST
END:STANDARD
BEGIN:STANDARD
DTSTART:20281105T010000
RDATE:20290311T030000
TZOFFSETFROM:-0500
TZOFFSETTO:-0600
TZNAME:America/Chicago CST
END:STANDARD
BEGIN:DAYLIGHT
DTSTART:20110714T000000
RDATE:20111106T010000
TZOFFSETFROM:-0600
TZOFFSETTO:-0500
TZNAME:America/Chicago CDT
END:DAYLIGHT
BEGIN:DAYLIGHT
DTSTART:20120311T030000
RDATE:20121104T010000
TZOFFSETFROM:-0600
TZOFFSETTO:-0500
TZNAME:America/Chicago CDT
END:DAYLIGHT
BEGIN:DAYLIGHT
DTSTART:20130310T030000
RDATE:20131103T010000
TZOFFSETFROM:-0600
TZOFFSETTO:-0500
TZNAME:America/Chicago CDT
END:DAYLIGHT
BEGIN:DAYLIGHT
DTSTART:20140309T030000
RDATE:20141102T010000
TZOFFSETFROM:-0600
TZOFFSETTO:-0500
TZNAME:America/Chicago CDT
END:DAYLIGHT
BEGIN:DAYLIGHT
DTSTART:20150308T030000
RDATE:20151101T010000
TZOFFSETFROM:-0600
TZOFFSETTO:-0500
TZNAME:America/Chicago CDT
END:DAYLIGHT
BEGIN:DAYLIGHT
DTSTART:20160313T030000
RDATE:20161106T010000
TZOFFSETFROM:-0600
TZOFFSETTO:-0500
TZNAME:America/Chicago CDT
END:DAYLIGHT
BEGIN:DAYLIGHT
DTSTART:20170312T030000
RDATE:20171105T010000
TZOFFSETFROM:-0600
TZOFFSETTO:-0500
TZNAME:America/Chicago CDT
END:DAYLIGHT
BEGIN:DAYLIGHT
DTSTART:20180311T030000
RDATE:20181104T010000
TZOFFSETFROM:-0600
TZOFFSETTO:-0500
TZNAME:America/Chicago CDT
END:DAYLIGHT
BEGIN:DAYLIGHT
DTSTART:20190310T030000
RDATE:20191103T010000
TZOFFSETFROM:-0600
TZOFFSETTO:-0500
TZNAME:America/Chicago CDT
END:DAYLIGHT
BEGIN:DAYLIGHT
DTSTART:20200308T030000
RDATE:20201101T010000
TZOFFSETFROM:-0600
TZOFFSETTO:-0500
TZNAME:America/Chicago CDT
END:DAYLIGHT
BEGIN:DAYLIGHT
DTSTART:20210314T030000
RDATE:20211107T010000
TZOFFSETFROM:-0600
TZOFFSETTO:-0500
TZNAME:America/Chicago CDT
END:DAYLIGHT
BEGIN:DAYLIGHT
DTSTART:20220313T030000
RDATE:20221106T010000
TZOFFSETFROM:-0600
TZOFFSETTO:-0500
TZNAME:America/Chicago CDT
END:DAYLIGHT
BEGIN:DAYLIGHT
DTSTART:20230312T030000
RDATE:20231105T010000
TZOFFSETFROM:-0600
TZOFFSETTO:-0500
TZNAME:America/Chicago CDT
END:DAYLIGHT
BEGIN:DAYLIGHT
DTSTART:20240310T030000
RDATE:20241103T010000
TZOFFSETFROM:-0600
TZOFFSETTO:-0500
TZNAME:America/Chicago CDT
END:DAYLIGHT
BEGIN:DAYLIGHT
DTSTART:20250309T030000
RDATE:20251102T010000
TZOFFSETFROM:-0600
TZOFFSETTO:-0500
TZNAME:America/Chicago CDT
END:DAYLIGHT
BEGIN:DAYLIGHT
DTSTART:20260308T030000
RDATE:20261101T010000
TZOFFSETFROM:-0600
TZOFFSETTO:-0500
TZNAME:America/Chicago CDT
END:DAYLIGHT
BEGIN:DAYLIGHT
DTSTART:20270314T030000
RDATE:20271107T010000
TZOFFSETFROM:-0600
TZOFFSETTO:-0500
TZNAME:America/Chicago CDT
END:DAYLIGHT
BEGIN:DAYLIGHT
DTSTART:20280312T030000
RDATE:20281105T010000
TZOFFSETFROM:-0600
TZOFFSETTO:-0500
TZNAME:America/Chicago CDT
END:DAYLIGHT
END:VTIMEZONE
BEGIN:VEVENT
UID:dd53b4f3759f43cc120a2388ec91e954
CATEGORIES:Tournaments
CREATED:20120622T142121
SUMMARY:Milwaukee Summer Challenge
LOCATION:Wyndham Milwaukee Airport Hotel\, 4747 S. Howell Avenue\, Milwaukee\, (414)
 481-8000 
DESCRIPTION:Milwaukee Summer Challenge \nJuly 14-15, 2012.\n5SS, G/120. 4 Sections: Mas
 ter/Expert (closed), U2000, U1500, U1000.\nWyndham Milwaukee Airport Hotel—
 4747 S. Howell Avenue—Milwaukee—414-481-8000 (mention Southwest Chess Club 
 for $79 room rate). EF: $40 All Sections (except U1000), U1000 Entry Fee: $
 25, all $5 more after 7/11. Prizes based on 40 total entries, $$ Master/Exp
 ert (closed section)=1st-$300, 2nd-$200,3rd-$100.  U2000=1st-$150, U1500=1s
 t-$80, U1000=1st-$50.  Reg: 8:30-9:30, Rds: Saturday, July 14: 10:00am-2:30
 pm-7:00pm, Sunday July 15: 10:00am-2:30pm. ENT: Allen Becker, N112 W17033 V
 ista Court, Apt. D, Germantown, WI 53022;  Questions:  TD Tom Fogec, 414-40
 5-4207 (cell)\n \nGoddess Chess Prizes (females) and Best Games Prizes to b
 e Awarded\n \nhttp://home.roadrunner.com/~swcc/MSC.pdf\n  (http://home.road
 runner.com/~swcc/MSC.pdf)\n \n \n
X-ALT-DESC;FMTTYPE=text/html:<p>Milwaukee Summer Challenge <br />July 14-15, 2012.</p><p style="margin: 
 0in; margin-bottom: .0001pt; border: none; mso-border-alt: solid windowtext
  .5pt; padding: 0in; mso-padding-alt: 1.0pt 4.0pt 1.0pt 4.0pt;"><span style
 ="font-size: 8.0pt;">5SS, G/120. 4 Sections: Master/Expert (closed), U2000,
  U1500, U1000.</span></p><p style="margin: 0in; margin-bottom: .0001pt; bor
 der: none; mso-border-alt: solid windowtext .5pt; padding: 0in; mso-padding
 -alt: 1.0pt 4.0pt 1.0pt 4.0pt;"><span style="font-size: 8.0pt;">Wyndham Mil
 waukee Airport Hotel—4747 S. Howell Avenue—Milwaukee—414-481-8000 (mention 
 Southwest Chess Club for $79 room rate)<span style="color: black;">. EF: $4
 0 All Sections (except U1000), U1000 Entry Fee: $25, all $5 more after 7/11
 . Prizes based on 40 total entries, $$ Master/Expert (closed section)=1st-$
 300, 2nd-$200,3rd-$100.  U2000=1st-$150, U1500=1st-$80, U1000=1st-$50.  Reg
 : 8:30-9:30, Rds: Saturday, July 14: 10:00am-2:30pm-</span></span><span sty
 le="font-size: 8.0pt;">7:00pm, Sunday July 15: 10:00am-2:30pm. ENT: Allen B
 ecker, N112 W17033 Vista Court, Apt. D, Germantown, WI 53022;  Questions:  
 TD Tom Fogec, 414-405-4207 (cell)</span></p><p style="margin: 0in 0in 0.000
 1pt; padding: 0in;"> </p><p style="margin: 0in 0in 0.0001pt; padding: 0in;"
 >Goddess Chess Prizes (females) and Best Games Prizes to be Awarded</p><p s
 tyle="margin: 0in 0in 0.0001pt; padding: 0in;"> </p><p style="margin: 0in 0
 in 0.0001pt; padding: 0in;"><a href="http://home.roadrunner.com/~swcc/MSC.p
 df">http://home.roadrunner.com/~swcc/MSC.pdf<br /> </a></p><p style="margin
 : 0in 0in 0.0001pt; padding: 0in;"> </p><p> </p>
CONTACT:This email address is being protected from spambots. You need JavaScript enabled to view it.
				document.getElementById('cloakb1f8c8107682707f96d49c5d45704dbc').innerHTML = '';
				var prefix = '&#109;a' + 'i&#108;' + '&#116;o';
				var path = 'hr' + 'ef' + '=';
				var addyb1f8c8107682707f96d49c5d45704dbc = 'tf&#111;g&#101;c' + '&#64;';
				addyb1f8c8107682707f96d49c5d45704dbc = addyb1f8c8107682707f96d49c5d45704dbc + 'w&#105;' + '&#46;' + 'rr' + '&#46;' + 'c&#111;m';
				var addy_textb1f8c8107682707f96d49c5d45704dbc = 'tf&#111;g&#101;c' + '&#64;' + 'w&#105;' + '&#46;' + 'rr' + '&#46;' + 'c&#111;m';document.getElementById('cloakb1f8c8107682707f96d49c5d45704dbc').innerHTML += '<a ' + path + '\'' + prefix + ':' + addyb1f8c8107682707f96d49c5d45704dbc + '\'>'+addy_textb1f8c8107682707f96d49c5d45704dbc+'';
		
X-EXTRAINFO:TD Tom Fogec, 414-405-4207 (cell)
DTSTAMP:20260423T104554
DTSTART;TZID=America/Chicago;VALUE=DATE:20120714
DTEND;TZID=America/Chicago;VALUE=DATE:20120716
SEQUENCE:0
TRANSP:OPAQUE
END:VEVENT
END:VCALENDAR