BEGIN:VCALENDAR
VERSION:2.0
PRODID:-//jEvents 2.0 for Joomla//EN
CALSCALE:GREGORIAN
METHOD:PUBLISH
BEGIN:VTIMEZONE
TZID:America/Chicago
BEGIN:STANDARD
DTSTART:20120301T080000
RDATE:20120311T030000
TZOFFSETFROM:-0500
TZOFFSETTO:-0600
TZNAME:America/Chicago CST
END:STANDARD
BEGIN:STANDARD
DTSTART:20121104T010000
RDATE:20130310T030000
TZOFFSETFROM:-0500
TZOFFSETTO:-0600
TZNAME:America/Chicago CST
END:STANDARD
BEGIN:STANDARD
DTSTART:20131103T010000
RDATE:20140309T030000
TZOFFSETFROM:-0500
TZOFFSETTO:-0600
TZNAME:America/Chicago CST
END:STANDARD
BEGIN:STANDARD
DTSTART:20141102T010000
RDATE:20150308T030000
TZOFFSETFROM:-0500
TZOFFSETTO:-0600
TZNAME:America/Chicago CST
END:STANDARD
BEGIN:STANDARD
DTSTART:20151101T010000
RDATE:20160313T030000
TZOFFSETFROM:-0500
TZOFFSETTO:-0600
TZNAME:America/Chicago CST
END:STANDARD
BEGIN:STANDARD
DTSTART:20161106T010000
RDATE:20170312T030000
TZOFFSETFROM:-0500
TZOFFSETTO:-0600
TZNAME:America/Chicago CST
END:STANDARD
BEGIN:STANDARD
DTSTART:20171105T010000
RDATE:20180311T030000
TZOFFSETFROM:-0500
TZOFFSETTO:-0600
TZNAME:America/Chicago CST
END:STANDARD
BEGIN:STANDARD
DTSTART:20181104T010000
RDATE:20190310T030000
TZOFFSETFROM:-0500
TZOFFSETTO:-0600
TZNAME:America/Chicago CST
END:STANDARD
BEGIN:STANDARD
DTSTART:20191103T010000
RDATE:20200308T030000
TZOFFSETFROM:-0500
TZOFFSETTO:-0600
TZNAME:America/Chicago CST
END:STANDARD
BEGIN:STANDARD
DTSTART:20201101T010000
RDATE:20210314T030000
TZOFFSETFROM:-0500
TZOFFSETTO:-0600
TZNAME:America/Chicago CST
END:STANDARD
BEGIN:STANDARD
DTSTART:20211107T010000
RDATE:20220313T030000
TZOFFSETFROM:-0500
TZOFFSETTO:-0600
TZNAME:America/Chicago CST
END:STANDARD
BEGIN:STANDARD
DTSTART:20221106T010000
RDATE:20230312T030000
TZOFFSETFROM:-0500
TZOFFSETTO:-0600
TZNAME:America/Chicago CST
END:STANDARD
BEGIN:STANDARD
DTSTART:20231105T010000
RDATE:20240310T030000
TZOFFSETFROM:-0500
TZOFFSETTO:-0600
TZNAME:America/Chicago CST
END:STANDARD
BEGIN:STANDARD
DTSTART:20241103T010000
RDATE:20250309T030000
TZOFFSETFROM:-0500
TZOFFSETTO:-0600
TZNAME:America/Chicago CST
END:STANDARD
BEGIN:STANDARD
DTSTART:20251102T010000
RDATE:20260308T030000
TZOFFSETFROM:-0500
TZOFFSETTO:-0600
TZNAME:America/Chicago CST
END:STANDARD
BEGIN:STANDARD
DTSTART:20261101T010000
RDATE:20270314T030000
TZOFFSETFROM:-0500
TZOFFSETTO:-0600
TZNAME:America/Chicago CST
END:STANDARD
BEGIN:STANDARD
DTSTART:20271107T010000
RDATE:20280312T030000
TZOFFSETFROM:-0500
TZOFFSETTO:-0600
TZNAME:America/Chicago CST
END:STANDARD
BEGIN:STANDARD
DTSTART:20281105T010000
RDATE:20290311T030000
TZOFFSETFROM:-0500
TZOFFSETTO:-0600
TZNAME:America/Chicago CST
END:STANDARD
BEGIN:DAYLIGHT
DTSTART:20120311T030000
RDATE:20121104T010000
TZOFFSETFROM:-0600
TZOFFSETTO:-0500
TZNAME:America/Chicago CDT
END:DAYLIGHT
BEGIN:DAYLIGHT
DTSTART:20130310T030000
RDATE:20131103T010000
TZOFFSETFROM:-0600
TZOFFSETTO:-0500
TZNAME:America/Chicago CDT
END:DAYLIGHT
BEGIN:DAYLIGHT
DTSTART:20140309T030000
RDATE:20141102T010000
TZOFFSETFROM:-0600
TZOFFSETTO:-0500
TZNAME:America/Chicago CDT
END:DAYLIGHT
BEGIN:DAYLIGHT
DTSTART:20150308T030000
RDATE:20151101T010000
TZOFFSETFROM:-0600
TZOFFSETTO:-0500
TZNAME:America/Chicago CDT
END:DAYLIGHT
BEGIN:DAYLIGHT
DTSTART:20160313T030000
RDATE:20161106T010000
TZOFFSETFROM:-0600
TZOFFSETTO:-0500
TZNAME:America/Chicago CDT
END:DAYLIGHT
BEGIN:DAYLIGHT
DTSTART:20170312T030000
RDATE:20171105T010000
TZOFFSETFROM:-0600
TZOFFSETTO:-0500
TZNAME:America/Chicago CDT
END:DAYLIGHT
BEGIN:DAYLIGHT
DTSTART:20180311T030000
RDATE:20181104T010000
TZOFFSETFROM:-0600
TZOFFSETTO:-0500
TZNAME:America/Chicago CDT
END:DAYLIGHT
BEGIN:DAYLIGHT
DTSTART:20190310T030000
RDATE:20191103T010000
TZOFFSETFROM:-0600
TZOFFSETTO:-0500
TZNAME:America/Chicago CDT
END:DAYLIGHT
BEGIN:DAYLIGHT
DTSTART:20200308T030000
RDATE:20201101T010000
TZOFFSETFROM:-0600
TZOFFSETTO:-0500
TZNAME:America/Chicago CDT
END:DAYLIGHT
BEGIN:DAYLIGHT
DTSTART:20210314T030000
RDATE:20211107T010000
TZOFFSETFROM:-0600
TZOFFSETTO:-0500
TZNAME:America/Chicago CDT
END:DAYLIGHT
BEGIN:DAYLIGHT
DTSTART:20220313T030000
RDATE:20221106T010000
TZOFFSETFROM:-0600
TZOFFSETTO:-0500
TZNAME:America/Chicago CDT
END:DAYLIGHT
BEGIN:DAYLIGHT
DTSTART:20230312T030000
RDATE:20231105T010000
TZOFFSETFROM:-0600
TZOFFSETTO:-0500
TZNAME:America/Chicago CDT
END:DAYLIGHT
BEGIN:DAYLIGHT
DTSTART:20240310T030000
RDATE:20241103T010000
TZOFFSETFROM:-0600
TZOFFSETTO:-0500
TZNAME:America/Chicago CDT
END:DAYLIGHT
BEGIN:DAYLIGHT
DTSTART:20250309T030000
RDATE:20251102T010000
TZOFFSETFROM:-0600
TZOFFSETTO:-0500
TZNAME:America/Chicago CDT
END:DAYLIGHT
BEGIN:DAYLIGHT
DTSTART:20260308T030000
RDATE:20261101T010000
TZOFFSETFROM:-0600
TZOFFSETTO:-0500
TZNAME:America/Chicago CDT
END:DAYLIGHT
BEGIN:DAYLIGHT
DTSTART:20270314T030000
RDATE:20271107T010000
TZOFFSETFROM:-0600
TZOFFSETTO:-0500
TZNAME:America/Chicago CDT
END:DAYLIGHT
BEGIN:DAYLIGHT
DTSTART:20280312T030000
RDATE:20281105T010000
TZOFFSETFROM:-0600
TZOFFSETTO:-0500
TZNAME:America/Chicago CDT
END:DAYLIGHT
END:VTIMEZONE
BEGIN:VEVENT
UID:bc72c9b879e66e3c57440f3fcc675d09
CATEGORIES:Tournaments
CREATED:20130119T101502
SUMMARY:2013 March Madness!!
LOCATION:Olympia Resort 1350 Royale Mile Road Oconomowoc\, WI 53066
DESCRIPTION:<p><span id="yui_3_7_2_1_1358611751697_2978" style="font-family: 'Times New
  Roman', serif; font-size: 16px; line-height: 19px; color: black;">In 4 Sec
 tions (Open, K-12, K-6 & K-3). USCF rated! Four rd swiss, G/60 d/5. Rds: 10
 -1-4-7. Reg.: <span id="lw_1358612003_5" class="yshortcuts">3/2 8:30-9:30 A
 M</span>. EF: $15 by 2/28, after 2/28 $18; new members $3 less. <em>Prizes,
  Open: </em>Donated Books. K-12, K-6, & K-3: Trophies to Top 3 players and 
 Overall best team. All others in K-12, K-6 & K-3 will receive participant m
 edals<em>.</em>. .</span><span style="font-size: 16px; line-height: 19px; f
 ont-family: Arial, sans-serif; color: black;"> </span><span id="yui_3_7_2_1
 _1358611751697_2982" style="font-family: 'Times New Roman', serif; font-siz
 e: 16px; line-height: 19px; color: black;">ENT: Ben Corcoran, <span id="lw_
 1358612003_6" class="yshortcuts">2711 N. University Dr. #64, Waukesha, WI 5
 3188</span>. Questions: <span id="cloak767ff9078b80dc8d1bd34cc19712d88b">Th
 is email address is being protected from spambots. You need JavaScript enab
 led to view it.</span><script type='text/javascript'>
				document.getEleme
 ntById('cloak767ff9078b80dc8d1bd34cc19712d88b').innerHTML = '';
				var pre
 fix = 'ma' + 'il' + 'to';
				var path = 'hr' + 'ef' + '=';
				var addy767
 ff9078b80dc8d1bd34cc19712d88b = 'benzochess' + '@';
				addy767ff9078b80dc8
 d1bd34cc19712d88b = addy767ff9078b80dc8d1bd34cc19712d88b + 'chess' + '.' + 
 'com';
				var addy_text767ff9078b80dc8d1bd34cc19712d88b = '<span id="lw_13
 58612003_7" class="yshortcuts">benzochess' + '@' + 'chess' + '.' + 'com</sp
 an>';document.getElementById('cloak767ff9078b80dc8d1bd34cc19712d88b').inner
 HTML += '<a ' + path + '\'' + prefix + ':' + addy767ff9078b80dc8d1bd34cc197
 12d88b + '\' target="_blank" rel="nofollow" style="text-decoration: underli
 ne; color: purple; outline: 0px;">'+addy_text767ff9078b80dc8d1bd34cc19712d8
 8b+'<\/a>';
		</script> or <span class="skype_pnh_container" style="backgro
 und-attachment: scroll !important; background-color: transparent !important
 ; background-image: none !important; border: 0px none #000000 !important; b
 order-collapse: separate !important; bottom: auto !important; clear: none !
 important; clip: auto !important; cursor: pointer !important; direction: lt
 r !important; display: inline !important; float: none !important; left: aut
 o !important; letter-spacing: 0px !important; list-style: disc outside none
  !important; overflow: hidden !important; padding: 0px !important; page-bre
 ak-after: auto !important; page-break-before: auto !important; page-break-i
 nside: auto !important; position: static !important; right: auto !important
 ; table-layout: auto !important; top: auto !important; white-space: nowrap 
 !important; word-spacing: normal !important; z-index: 0 !important; color: 
 #49535a !important; font-family: Tahoma, Arial, Helvetica, sans-serif !impo
 rtant; font-size: 11px !important; font-weight: bold !important; height: 14
 px !important; line-height: 14px !important; margin: 0px !important; vertic
 al-align: baseline !important; width: auto !important; background-position:
  0px 0px !important; background-repeat: no-repeat no-repeat !important;" di
 r="ltr"> <span class="skype_pnh_highlighting_inactive_common" style="backgr
 ound-attachment: scroll !important; background-color: transparent !importan
 t; background-image: none !important; border: 0px none #000000 !important; 
 border-collapse: separate !important; bottom: auto !important; clear: none 
 !important; clip: auto !important; cursor: pointer !important; direction: l
 tr !important; display: inline !important; float: none !important; left: au
 to !important; letter-spacing: 0px !important; list-style: disc outside non
 e !important; overflow: hidden !important; padding: 0px !important; page-br
 eak-after: auto !important; page-break-before: auto !important; page-break-
 inside: auto !important; position: static !important; right: auto !importan
 t; table-layout: auto !important; top: auto !important; word-spacing: norma
 l !important; z-index: 0 !important; height: 14px !important; margin: 0px !
 important; vertical-align: baseline !important; width: auto !important; bac
 kground-position: 0px 0px !important; background-repeat: no-repeat no-repea
 t !important;" title="Call this phone number in United States of America wi
 th Skype: +12625064203" dir="ltr"><span class="skype_pnh_left_span" style="
 background-attachment: scroll !important; background-color: transparent !im
 portant; background-image: url('chrome-extension://lifbcibllhkdhoafpjfnlhfp
 fgnpldfl/numbers_common_inactive_icon_set.gif') !important; border: 0px non
 e #000000 !important; border-collapse: separate !important; bottom: auto !i
 mportant; clear: none !important; clip: auto !important; cursor: pointer !i
 mportant; direction: ltr !important; display: inline !important; float: non
 e !important; left: auto !important; letter-spacing: 0px !important; list-s
 tyle: disc outside none !important; overflow: hidden !important; padding: 0
 px !important; page-break-after: auto !important; page-break-before: auto !
 important; page-break-inside: auto !important; position: static !important;
  right: auto !important; table-layout: auto !important; top: auto !importan
 t; word-spacing: normal !important; z-index: 0 !important; height: 14px !im
 portant; margin: 0px !important; vertical-align: baseline !important; width
 : 6px !important; background-position: 0px 0px !important; background-repea
 t: no-repeat no-repeat !important;" title="Skype actions">  </span><span cl
 ass="skype_pnh_dropart_span" style="background-attachment: scroll !importan
 t; background-color: transparent !important; background-image: url('chrome-
 extension://lifbcibllhkdhoafpjfnlhfpfgnpldfl/numbers_common_inactive_icon_s
 et.gif') !important; border: 0px none #000000 !important; border-collapse: 
 separate !important; bottom: auto !important; clear: none !important; clip:
  auto !important; cursor: pointer !important; direction: ltr !important; di
 splay: inline !important; float: none !important; left: auto !important; le
 tter-spacing: 0px !important; list-style: disc outside none !important; ove
 rflow: hidden !important; padding: 0px !important; page-break-after: auto !
 important; page-break-before: auto !important; page-break-inside: auto !imp
 ortant; position: static !important; right: auto !important; table-layout: 
 auto !important; top: auto !important; word-spacing: normal !important; z-i
 ndex: 0 !important; height: 14px !important; margin: 0px !important; vertic
 al-align: baseline !important; width: 27px !important; background-position:
  -11px 0px !important; background-repeat: no-repeat no-repeat !important;" 
 title="Skype actions"><span class="skype_pnh_dropart_flag_span" style="back
 ground-attachment: scroll !important; background-color: transparent !import
 ant; background-image: url('chrome-extension://lifbcibllhkdhoafpjfnlhfpfgnp
 ldfl/flags.gif') !important; border: 0px none #000000 !important; border-co
 llapse: separate !important; bottom: auto !important; clear: none !importan
 t; clip: auto !important; cursor: pointer !important; direction: ltr !impor
 tant; display: inline !important; float: none !important; left: auto !impor
 tant; letter-spacing: 0px !important; list-style: disc outside none !import
 ant; overflow: hidden !important; padding: 0px !important; page-break-after
 : auto !important; page-break-before: auto !important; page-break-inside: a
 uto !important; position: static !important; right: auto !important; table-
 layout: auto !important; top: auto !important; word-spacing: normal !import
 ant; z-index: 0 !important; height: 14px !important; margin: 0px !important
 ; vertical-align: baseline !important; width: 18px !important; background-p
 osition: 1px 1px !important; background-repeat: no-repeat no-repeat !import
 ant;">      </span>   </span><span class="skype_pnh_textarea_span" style="b
 ackground-attachment: scroll !important; background-color: transparent !imp
 ortant; background-image: url('chrome-extension://lifbcibllhkdhoafpjfnlhfpf
 gnpldfl/numbers_common_inactive_icon_set.gif') !important; border: 0px none
  #000000 !important; border-collapse: separate !important; bottom: auto !im
 portant; clear: none !important; clip: auto !important; cursor: pointer !im
 portant; direction: ltr !important; display: inline !important; float: none
  !important; left: auto !important; letter-spacing: 0px !important; list-st
 yle: disc outside none !important; overflow: hidden !important; padding: 0p
 x !important; page-break-after: auto !important; page-break-before: auto !i
 mportant; page-break-inside: auto !important; position: static !important; 
 right: auto !important; table-layout: auto !important; top: auto !important
 ; word-spacing: normal !important; z-index: 0 !important; height: 14px !imp
 ortant; margin: 0px !important; vertical-align: baseline !important; width:
  auto !important; background-position: -125px 0px !important; background-re
 peat: no-repeat no-repeat !important;"><span class="skype_pnh_text_span" st
 yle="background-attachment: scroll !important; background-color: transparen
 t !important; background-image: url('chrome-extension://lifbcibllhkdhoafpjf
 nlhfpfgnpldfl/numbers_common_inactive_icon_set.gif') !important; border: 0p
 x none #000000 !important; border-collapse: separate !important; bottom: au
 to !important; clear: none !important; clip: auto !important; cursor: point
 er !important; direction: ltr !important; display: inline !important; float
 : none !important; left: auto !important; letter-spacing: 0px !important; l
 ist-style: disc outside none !important; overflow: hidden !important; paddi
 ng: 0px 0px 0px 5px !important; page-break-after: auto !important; page-bre
 ak-before: auto !important; page-break-inside: auto !important; position: s
 tatic !important; right: auto !important; table-layout: auto !important; to
 p: auto !important; word-spacing: normal !important; z-index: 0 !important;
  height: 14px !important; margin: 0px !important; vertical-align: baseline 
 !important; width: auto !important; background-position: -125px 0px !import
 ant; background-repeat: no-repeat no-repeat !important;">262-506-4203</span
 ></span><span class="skype_pnh_right_span" style="background-attachment: sc
 roll !important; background-color: transparent !important; background-image
 : url('chrome-extension://lifbcibllhkdhoafpjfnlhfpfgnpldfl/numbers_common_i
 nactive_icon_set.gif') !important; border: 0px none #000000 !important; bor
 der-collapse: separate !important; bottom: auto !important; clear: none !im
 portant; clip: auto !important; cursor: pointer !important; direction: ltr 
 !important; display: inline !important; float: none !important; left: auto 
 !important; letter-spacing: 0px !important; list-style: disc outside none !
 important; overflow: hidden !important; padding: 0px !important; page-break
 -after: auto !important; page-break-before: auto !important; page-break-ins
 ide: auto !important; position: static !important; right: auto !important; 
 table-layout: auto !important; top: auto !important; word-spacing: normal !
 important; z-index: 0 !important; height: 14px !important; margin: 0px !imp
 ortant; vertical-align: baseline !important; width: 15px !important; backgr
 ound-position: -62px 0px !important; background-repeat: no-repeat no-repeat
  !important;">     </span></span> </span>.  INFO:<a id="yui_3_7_2_1_1358611
 751697_2983" href="http://www.benzochess.com/" target="_blank" rel="nofollo
 w" style="text-decoration: underline; color: purple; outline: 0px;"><span i
 d="lw_1358612003_8" class="yshortcuts">www.benzochess.com</span></a></span>
 </p>
DTSTAMP:20260423T010600
DTSTART;TZID=America/Chicago:20130302T080000
SEQUENCE:0
TRANSP:OPAQUE
END:VEVENT
END:VCALENDAR