BEGIN:VCALENDAR
VERSION:2.0
PRODID:-//jEvents 2.0 for Joomla//EN
CALSCALE:GREGORIAN
METHOD:PUBLISH
BEGIN:VTIMEZONE
TZID:America/Chicago
BEGIN:STANDARD
DTSTART:20121104T010000
RDATE:20130310T030000
TZOFFSETFROM:-0500
TZOFFSETTO:-0600
TZNAME:America/Chicago CST
END:STANDARD
BEGIN:STANDARD
DTSTART:20131103T010000
RDATE:20140309T030000
TZOFFSETFROM:-0500
TZOFFSETTO:-0600
TZNAME:America/Chicago CST
END:STANDARD
BEGIN:STANDARD
DTSTART:20141102T010000
RDATE:20150308T030000
TZOFFSETFROM:-0500
TZOFFSETTO:-0600
TZNAME:America/Chicago CST
END:STANDARD
BEGIN:STANDARD
DTSTART:20151101T010000
RDATE:20160313T030000
TZOFFSETFROM:-0500
TZOFFSETTO:-0600
TZNAME:America/Chicago CST
END:STANDARD
BEGIN:STANDARD
DTSTART:20161106T010000
RDATE:20170312T030000
TZOFFSETFROM:-0500
TZOFFSETTO:-0600
TZNAME:America/Chicago CST
END:STANDARD
BEGIN:STANDARD
DTSTART:20171105T010000
RDATE:20180311T030000
TZOFFSETFROM:-0500
TZOFFSETTO:-0600
TZNAME:America/Chicago CST
END:STANDARD
BEGIN:STANDARD
DTSTART:20181104T010000
RDATE:20190310T030000
TZOFFSETFROM:-0500
TZOFFSETTO:-0600
TZNAME:America/Chicago CST
END:STANDARD
BEGIN:STANDARD
DTSTART:20191103T010000
RDATE:20200308T030000
TZOFFSETFROM:-0500
TZOFFSETTO:-0600
TZNAME:America/Chicago CST
END:STANDARD
BEGIN:STANDARD
DTSTART:20201101T010000
RDATE:20210314T030000
TZOFFSETFROM:-0500
TZOFFSETTO:-0600
TZNAME:America/Chicago CST
END:STANDARD
BEGIN:STANDARD
DTSTART:20211107T010000
RDATE:20220313T030000
TZOFFSETFROM:-0500
TZOFFSETTO:-0600
TZNAME:America/Chicago CST
END:STANDARD
BEGIN:STANDARD
DTSTART:20221106T010000
RDATE:20230312T030000
TZOFFSETFROM:-0500
TZOFFSETTO:-0600
TZNAME:America/Chicago CST
END:STANDARD
BEGIN:STANDARD
DTSTART:20231105T010000
RDATE:20240310T030000
TZOFFSETFROM:-0500
TZOFFSETTO:-0600
TZNAME:America/Chicago CST
END:STANDARD
BEGIN:STANDARD
DTSTART:20241103T010000
RDATE:20250309T030000
TZOFFSETFROM:-0500
TZOFFSETTO:-0600
TZNAME:America/Chicago CST
END:STANDARD
BEGIN:STANDARD
DTSTART:20251102T010000
RDATE:20260308T030000
TZOFFSETFROM:-0500
TZOFFSETTO:-0600
TZNAME:America/Chicago CST
END:STANDARD
BEGIN:STANDARD
DTSTART:20261101T010000
RDATE:20270314T030000
TZOFFSETFROM:-0500
TZOFFSETTO:-0600
TZNAME:America/Chicago CST
END:STANDARD
BEGIN:STANDARD
DTSTART:20271107T010000
RDATE:20280312T030000
TZOFFSETFROM:-0500
TZOFFSETTO:-0600
TZNAME:America/Chicago CST
END:STANDARD
BEGIN:STANDARD
DTSTART:20281105T010000
RDATE:20290311T030000
TZOFFSETFROM:-0500
TZOFFSETTO:-0600
TZNAME:America/Chicago CST
END:STANDARD
BEGIN:DAYLIGHT
DTSTART:20120531T100000
RDATE:20121104T010000
TZOFFSETFROM:-0600
TZOFFSETTO:-0500
TZNAME:America/Chicago CDT
END:DAYLIGHT
BEGIN:DAYLIGHT
DTSTART:20130310T030000
RDATE:20131103T010000
TZOFFSETFROM:-0600
TZOFFSETTO:-0500
TZNAME:America/Chicago CDT
END:DAYLIGHT
BEGIN:DAYLIGHT
DTSTART:20140309T030000
RDATE:20141102T010000
TZOFFSETFROM:-0600
TZOFFSETTO:-0500
TZNAME:America/Chicago CDT
END:DAYLIGHT
BEGIN:DAYLIGHT
DTSTART:20150308T030000
RDATE:20151101T010000
TZOFFSETFROM:-0600
TZOFFSETTO:-0500
TZNAME:America/Chicago CDT
END:DAYLIGHT
BEGIN:DAYLIGHT
DTSTART:20160313T030000
RDATE:20161106T010000
TZOFFSETFROM:-0600
TZOFFSETTO:-0500
TZNAME:America/Chicago CDT
END:DAYLIGHT
BEGIN:DAYLIGHT
DTSTART:20170312T030000
RDATE:20171105T010000
TZOFFSETFROM:-0600
TZOFFSETTO:-0500
TZNAME:America/Chicago CDT
END:DAYLIGHT
BEGIN:DAYLIGHT
DTSTART:20180311T030000
RDATE:20181104T010000
TZOFFSETFROM:-0600
TZOFFSETTO:-0500
TZNAME:America/Chicago CDT
END:DAYLIGHT
BEGIN:DAYLIGHT
DTSTART:20190310T030000
RDATE:20191103T010000
TZOFFSETFROM:-0600
TZOFFSETTO:-0500
TZNAME:America/Chicago CDT
END:DAYLIGHT
BEGIN:DAYLIGHT
DTSTART:20200308T030000
RDATE:20201101T010000
TZOFFSETFROM:-0600
TZOFFSETTO:-0500
TZNAME:America/Chicago CDT
END:DAYLIGHT
BEGIN:DAYLIGHT
DTSTART:20210314T030000
RDATE:20211107T010000
TZOFFSETFROM:-0600
TZOFFSETTO:-0500
TZNAME:America/Chicago CDT
END:DAYLIGHT
BEGIN:DAYLIGHT
DTSTART:20220313T030000
RDATE:20221106T010000
TZOFFSETFROM:-0600
TZOFFSETTO:-0500
TZNAME:America/Chicago CDT
END:DAYLIGHT
BEGIN:DAYLIGHT
DTSTART:20230312T030000
RDATE:20231105T010000
TZOFFSETFROM:-0600
TZOFFSETTO:-0500
TZNAME:America/Chicago CDT
END:DAYLIGHT
BEGIN:DAYLIGHT
DTSTART:20240310T030000
RDATE:20241103T010000
TZOFFSETFROM:-0600
TZOFFSETTO:-0500
TZNAME:America/Chicago CDT
END:DAYLIGHT
BEGIN:DAYLIGHT
DTSTART:20250309T030000
RDATE:20251102T010000
TZOFFSETFROM:-0600
TZOFFSETTO:-0500
TZNAME:America/Chicago CDT
END:DAYLIGHT
BEGIN:DAYLIGHT
DTSTART:20260308T030000
RDATE:20261101T010000
TZOFFSETFROM:-0600
TZOFFSETTO:-0500
TZNAME:America/Chicago CDT
END:DAYLIGHT
BEGIN:DAYLIGHT
DTSTART:20270314T030000
RDATE:20271107T010000
TZOFFSETFROM:-0600
TZOFFSETTO:-0500
TZNAME:America/Chicago CDT
END:DAYLIGHT
BEGIN:DAYLIGHT
DTSTART:20280312T030000
RDATE:20281105T010000
TZOFFSETFROM:-0600
TZOFFSETTO:-0500
TZNAME:America/Chicago CDT
END:DAYLIGHT
END:VTIMEZONE
BEGIN:VEVENT
UID:cabea5b1e28c485f18e1ff8b2aa8da1e
CATEGORIES:Tour Events
CREATED:20130213T154441
SUMMARY:2013 Madison Spring Open
LOCATION:Radisson Hotel (Madison)
DESCRIPTION:June 1 or June 1-2 \n2013 Madison Spring Championship\nThree Sections: Open
 , u1400 (Sat only), Scholastic Unrated (Sat only). \nOpen Section, June 1-2
 : 5SS, g/90+inc/30 (1st round: g/90+5 sec delay)\nU1400 (Madison RBO) and S
 cholastic Unrated (Madison RBO) sections, June 1: 4SS, g/30+5 sec delay. Ra
 disson Hotel: 517 Grand Canyon Drive, Madison WI 53719, 608-833-0100. Free 
 parking. Free hot buffet breakfast, Free internet, Free shuttle from the ai
 rport (24 hour notice) to hotel guests. Dozens of restaurants and coffee sh
 ops and a movie theater next to the playing site. Prizes: Open ($2,000 b/80
 ): $500-$300-$200-$150, X-$150, A-$150, B-$150, C-$150, D/below-$150, UNR-$
 100. U1400: $90-$50, trophies based on rating and age. Scholastic Unrated: 
 trophies based on rating and age. EF: Open: $50 if paid by May 14th, $60 if
  paid between May 14th and May 29th, $70 after May 29th. EF: U1400 and Scho
 lastic Unrated: $20 if paid by May 29th, $25 after May 29th. Online entry: 
 www.onlineregistration.cc (http://www.onlineregistration.cc/)\nOpen Schedul
 e: registration ends Sat at 9:30am. Rounds: Sat 10am-2:00pm-7pm, Sun 10am-3
 :00pm U1400 and Scholastic Unrated Schedule: registration ends Sat at 9:45a
 m. Rounds: Sat 10:15am-11:30am-1:30pm-3pm. Hotel Rates: $109 single or doub
 le, ask for Chess tournament rate, 608-833-0100 reserve early or rate may i
 ncrease. Mailed EF (do not mail after May 25th): Wisconsin Chess Academy, 1
 090 Links Court #1, Brookfield WI 53005. Questions: This email address is b
 eing protected from spambots. You need JavaScript enabled to view it.
				d
 ocument.getElementById('cloakcccccfb407f99ad2b9e2f06412a9e35f').innerHTML =
  '';
				var prefix = 'ma' + 'il' + 'to';
				var path = 'hr' + 'ef' + '=';
 
				var addycccccfb407f99ad2b9e2f06412a9e35f = 'abetaneli' + '@';
				addy
 cccccfb407f99ad2b9e2f06412a9e35f = addycccccfb407f99ad2b9e2f06412a9e35f + '
 wichessacademy' + '.' + 'com';
				var addy_textcccccfb407f99ad2b9e2f06412a
 9e35f = 'abetaneli' + '@' + 'wichessacademy' + '.' + 'com';document.getElem
 entById('cloakcccccfb407f99ad2b9e2f06412a9e35f').innerHTML += '<a ' + path 
 + '\'' + prefix + ':' + addycccccfb407f99ad2b9e2f06412a9e35f + '\'>'+addy_t
 extcccccfb407f99ad2b9e2f06412a9e35f+'';
		 or 608-334-2574. Bring clocks if
  possible, boards and sets provided.\n
X-ALT-DESC;FMTTYPE=text/html:<p class="MsoNormal"><span style="font-size: 18.0pt; line-height: 115%; fon
 t-family: 'Times New Roman','serif';">June 1 or June 1-2 </span></p><p clas
 s="MsoNormal"><strong><span style="font-size: 18.0pt; line-height: 115%; fo
 nt-family: 'Times New Roman','serif';">2013 Madison Spring Championship</sp
 an></strong></p><p class="MsoNormal"><strong><span style="font-size: 16.0pt
 ; line-height: 115%; font-family: 'Times New Roman','serif';">Three Section
 s: </span></strong><span style="font-size: 16.0pt; line-height: 115%; font-
 family: 'Times New Roman','serif';">Open, u1400 (Sat only), Scholastic Unra
 ted (Sat only). </span></p><p class="MsoNormal"><strong><span style="font-s
 ize: 16.0pt; line-height: 115%; font-family: 'Times New Roman','serif';">Op
 en Section, June 1-2: </span></strong><span style="font-size: 16.0pt; line-
 height: 115%; font-family: 'Times New Roman','serif';">5SS, g/90+inc/30 (1<
 sup>st</sup> round: g/90+5 sec delay)</span></p><p class="MsoNormal"><stron
 g><span style="font-size: 16.0pt; line-height: 115%; font-family: 'Times Ne
 w Roman','serif';">U1400 (Madison RBO) and Scholastic Unrated (Madison RBO)
  sections, June 1</span></strong><span style="font-size: 16.0pt; line-heigh
 t: 115%; font-family: 'Times New Roman','serif';">: 4SS, g/30+5 sec delay. 
 <strong>Radisson Hotel:</strong> 517 Grand Canyon Drive, Madison WI 53719, 
 608-833-0100. <strong>Free</strong> parking. <strong>Free</strong> hot buff
 et breakfast, <strong>Free</strong> internet, <strong>Free</strong> shuttle
  from the airport (24 hour notice) to hotel guests. Dozens of restaurants a
 nd coffee shops and a movie theater next to the playing site. <strong>Prize
 s:</strong> <strong>Open ($2,000 b/80): </strong>$500-$300-$200-$150, X-$15
 0, A-$150, B-$150, C-$150, D/below-$150, UNR-$100. <strong>U1400: </strong>
 $90-$50, trophies based on rating and age. <strong>Scholastic Unrated:</str
 ong> trophies based on rating and age. <strong>EF: Open:</strong> $50 if pa
 id by May 14<sup>th</sup>, $60 if paid between May 14<sup>th</sup> and May 
 29<sup>th</sup>, $70 after May 29<sup>th</sup>. <strong>EF:</strong> <stron
 g>U1400 and Scholastic Unrated:</strong> $20 if paid by May 29<sup>th</sup>
 , $25 after May 29<sup>th</sup>. <strong>Online entry:</strong> </span><a h
 ref="http://www.onlineregistration.cc/"><span style="font-size: 16.0pt; lin
 e-height: 115%; font-family: 'Times New Roman','serif';">www.onlineregistra
 tion.cc</span></a></p><p class="MsoNormal"><strong><span style="font-size: 
 16.0pt; line-height: 115%; font-family: 'Times New Roman','serif';">Open Sc
 hedule: </span></strong><span style="font-size: 16.0pt; line-height: 115%; 
 font-family: 'Times New Roman','serif';">registration ends Sat at 9:30am. R
 ounds: Sat 10am-2:00pm-7pm, Sun 10am-3:00pm <strong>U1400 and Scholastic Un
 rated Schedule: </strong>registration ends Sat at 9:45am. Rounds: Sat 10:15
 am-11:30am-1:30pm-3pm. <strong>Hotel Rates:</strong> $109 single or double,
  ask for Chess tournament rate, 608-833-0100 reserve early or rate may incr
 ease. <strong>Mailed EF (do not mail after May 25<sup>th</sup>): </strong>W
 isconsin Chess Academy, 1090 Links Court #1, Brookfield WI 53005. <strong>Q
 uestions:</strong> </span><span id="cloakcccccfb407f99ad2b9e2f06412a9e35f">
 This email address is being protected from spambots. You need JavaScript en
 abled to view it.</span><script type='text/javascript'>
				document.getEle
 mentById('cloakcccccfb407f99ad2b9e2f06412a9e35f').innerHTML = '';
				var p
 refix = 'ma' + 'il' + 'to';
				var path = 'hr' + 'ef' + '=';
				var addyc
 ccccfb407f99ad2b9e2f06412a9e35f = 'abetaneli' + '@';
				addycccccfb407f99a
 d2b9e2f06412a9e35f = addycccccfb407f99ad2b9e2f06412a9e35f + 'wichessacademy
 ' + '.' + 'com';
				var addy_textcccccfb407f99ad2b9e2f06412a9e35f = '<span
  style="font-size: 16.0pt; line-height: 115%; font-family: 'Times New Roman
 ','serif';">abetaneli' + '@' + 'wichessacademy' + '.' + 'com</span>';docume
 nt.getElementById('cloakcccccfb407f99ad2b9e2f06412a9e35f').innerHTML += '<a
  ' + path + '\'' + prefix + ':' + addycccccfb407f99ad2b9e2f06412a9e35f + '\
 '>'+addy_textcccccfb407f99ad2b9e2f06412a9e35f+'<\/a>';
		</script><span sty
 le="font-size: 16.0pt; line-height: 115%; font-family: 'Times New Roman','s
 erif';"> or 608-334-2574. Bring clocks if possible, boards and sets provide
 d.</span></p>
CONTACT:Alex Betaneli 608-334-2574, This email address is being protected from spambots. You need JavaScript enabled to view it.
				document.getElementById('cloak48e7850dec861af0ca045d18709fa391').innerHTML = '';
				var prefix = '&#109;a' + 'i&#108;' + '&#116;o';
				var path = 'hr' + 'ef' + '=';
				var addy48e7850dec861af0ca045d18709fa391 = '&#97;b&#101;t&#97;n&#101;l&#105;' + '&#64;';
				addy48e7850dec861af0ca045d18709fa391 = addy48e7850dec861af0ca045d18709fa391 + 'w&#105;ch&#101;ss&#97;c&#97;d&#101;my' + '&#46;' + 'c&#111;m';
				var addy_text48e7850dec861af0ca045d18709fa391 = '&#97;b&#101;t&#97;n&#101;l&#105;' + '&#64;' + 'w&#105;ch&#101;ss&#97;c&#97;d&#101;my' + '&#46;' + 'c&#111;m';document.getElementById('cloak48e7850dec861af0ca045d18709fa391').innerHTML += '<a ' + path + '\'' + prefix + ':' + addy48e7850dec861af0ca045d18709fa391 + '\'>'+addy_text48e7850dec861af0ca045d18709fa391+'';
		 
DTSTAMP:20260423T022502
DTSTART;TZID=America/Chicago:20130601T100000
DTEND;TZID=America/Chicago;VALUE=DATE:20130603
SEQUENCE:0
TRANSP:OPAQUE
END:VEVENT
END:VCALENDAR