BEGIN:VCALENDAR
VERSION:2.0
PRODID:-//jEvents 2.0 for Joomla//EN
CALSCALE:GREGORIAN
METHOD:PUBLISH
BEGIN:VTIMEZONE
TZID:America/Chicago
BEGIN:STANDARD
DTSTART:20121104T010000
RDATE:20130310T030000
TZOFFSETFROM:-0500
TZOFFSETTO:-0600
TZNAME:America/Chicago CST
END:STANDARD
BEGIN:STANDARD
DTSTART:20131103T010000
RDATE:20140309T030000
TZOFFSETFROM:-0500
TZOFFSETTO:-0600
TZNAME:America/Chicago CST
END:STANDARD
BEGIN:STANDARD
DTSTART:20141102T010000
RDATE:20150308T030000
TZOFFSETFROM:-0500
TZOFFSETTO:-0600
TZNAME:America/Chicago CST
END:STANDARD
BEGIN:STANDARD
DTSTART:20151101T010000
RDATE:20160313T030000
TZOFFSETFROM:-0500
TZOFFSETTO:-0600
TZNAME:America/Chicago CST
END:STANDARD
BEGIN:STANDARD
DTSTART:20161106T010000
RDATE:20170312T030000
TZOFFSETFROM:-0500
TZOFFSETTO:-0600
TZNAME:America/Chicago CST
END:STANDARD
BEGIN:STANDARD
DTSTART:20171105T010000
RDATE:20180311T030000
TZOFFSETFROM:-0500
TZOFFSETTO:-0600
TZNAME:America/Chicago CST
END:STANDARD
BEGIN:STANDARD
DTSTART:20181104T010000
RDATE:20190310T030000
TZOFFSETFROM:-0500
TZOFFSETTO:-0600
TZNAME:America/Chicago CST
END:STANDARD
BEGIN:STANDARD
DTSTART:20191103T010000
RDATE:20200308T030000
TZOFFSETFROM:-0500
TZOFFSETTO:-0600
TZNAME:America/Chicago CST
END:STANDARD
BEGIN:STANDARD
DTSTART:20201101T010000
RDATE:20210314T030000
TZOFFSETFROM:-0500
TZOFFSETTO:-0600
TZNAME:America/Chicago CST
END:STANDARD
BEGIN:STANDARD
DTSTART:20211107T010000
RDATE:20220313T030000
TZOFFSETFROM:-0500
TZOFFSETTO:-0600
TZNAME:America/Chicago CST
END:STANDARD
BEGIN:STANDARD
DTSTART:20221106T010000
RDATE:20230312T030000
TZOFFSETFROM:-0500
TZOFFSETTO:-0600
TZNAME:America/Chicago CST
END:STANDARD
BEGIN:STANDARD
DTSTART:20231105T010000
RDATE:20240310T030000
TZOFFSETFROM:-0500
TZOFFSETTO:-0600
TZNAME:America/Chicago CST
END:STANDARD
BEGIN:STANDARD
DTSTART:20241103T010000
RDATE:20250309T030000
TZOFFSETFROM:-0500
TZOFFSETTO:-0600
TZNAME:America/Chicago CST
END:STANDARD
BEGIN:STANDARD
DTSTART:20251102T010000
RDATE:20260308T030000
TZOFFSETFROM:-0500
TZOFFSETTO:-0600
TZNAME:America/Chicago CST
END:STANDARD
BEGIN:STANDARD
DTSTART:20261101T010000
RDATE:20270314T030000
TZOFFSETFROM:-0500
TZOFFSETTO:-0600
TZNAME:America/Chicago CST
END:STANDARD
BEGIN:STANDARD
DTSTART:20271107T010000
RDATE:20280312T030000
TZOFFSETFROM:-0500
TZOFFSETTO:-0600
TZNAME:America/Chicago CST
END:STANDARD
BEGIN:STANDARD
DTSTART:20281105T010000
RDATE:20290311T030000
TZOFFSETFROM:-0500
TZOFFSETTO:-0600
TZNAME:America/Chicago CST
END:STANDARD
BEGIN:DAYLIGHT
DTSTART:20120322T100000
RDATE:20121104T010000
TZOFFSETFROM:-0600
TZOFFSETTO:-0500
TZNAME:America/Chicago CDT
END:DAYLIGHT
BEGIN:DAYLIGHT
DTSTART:20130310T030000
RDATE:20131103T010000
TZOFFSETFROM:-0600
TZOFFSETTO:-0500
TZNAME:America/Chicago CDT
END:DAYLIGHT
BEGIN:DAYLIGHT
DTSTART:20140309T030000
RDATE:20141102T010000
TZOFFSETFROM:-0600
TZOFFSETTO:-0500
TZNAME:America/Chicago CDT
END:DAYLIGHT
BEGIN:DAYLIGHT
DTSTART:20150308T030000
RDATE:20151101T010000
TZOFFSETFROM:-0600
TZOFFSETTO:-0500
TZNAME:America/Chicago CDT
END:DAYLIGHT
BEGIN:DAYLIGHT
DTSTART:20160313T030000
RDATE:20161106T010000
TZOFFSETFROM:-0600
TZOFFSETTO:-0500
TZNAME:America/Chicago CDT
END:DAYLIGHT
BEGIN:DAYLIGHT
DTSTART:20170312T030000
RDATE:20171105T010000
TZOFFSETFROM:-0600
TZOFFSETTO:-0500
TZNAME:America/Chicago CDT
END:DAYLIGHT
BEGIN:DAYLIGHT
DTSTART:20180311T030000
RDATE:20181104T010000
TZOFFSETFROM:-0600
TZOFFSETTO:-0500
TZNAME:America/Chicago CDT
END:DAYLIGHT
BEGIN:DAYLIGHT
DTSTART:20190310T030000
RDATE:20191103T010000
TZOFFSETFROM:-0600
TZOFFSETTO:-0500
TZNAME:America/Chicago CDT
END:DAYLIGHT
BEGIN:DAYLIGHT
DTSTART:20200308T030000
RDATE:20201101T010000
TZOFFSETFROM:-0600
TZOFFSETTO:-0500
TZNAME:America/Chicago CDT
END:DAYLIGHT
BEGIN:DAYLIGHT
DTSTART:20210314T030000
RDATE:20211107T010000
TZOFFSETFROM:-0600
TZOFFSETTO:-0500
TZNAME:America/Chicago CDT
END:DAYLIGHT
BEGIN:DAYLIGHT
DTSTART:20220313T030000
RDATE:20221106T010000
TZOFFSETFROM:-0600
TZOFFSETTO:-0500
TZNAME:America/Chicago CDT
END:DAYLIGHT
BEGIN:DAYLIGHT
DTSTART:20230312T030000
RDATE:20231105T010000
TZOFFSETFROM:-0600
TZOFFSETTO:-0500
TZNAME:America/Chicago CDT
END:DAYLIGHT
BEGIN:DAYLIGHT
DTSTART:20240310T030000
RDATE:20241103T010000
TZOFFSETFROM:-0600
TZOFFSETTO:-0500
TZNAME:America/Chicago CDT
END:DAYLIGHT
BEGIN:DAYLIGHT
DTSTART:20250309T030000
RDATE:20251102T010000
TZOFFSETFROM:-0600
TZOFFSETTO:-0500
TZNAME:America/Chicago CDT
END:DAYLIGHT
BEGIN:DAYLIGHT
DTSTART:20260308T030000
RDATE:20261101T010000
TZOFFSETFROM:-0600
TZOFFSETTO:-0500
TZNAME:America/Chicago CDT
END:DAYLIGHT
BEGIN:DAYLIGHT
DTSTART:20270314T030000
RDATE:20271107T010000
TZOFFSETFROM:-0600
TZOFFSETTO:-0500
TZNAME:America/Chicago CDT
END:DAYLIGHT
BEGIN:DAYLIGHT
DTSTART:20280312T030000
RDATE:20281105T010000
TZOFFSETFROM:-0600
TZOFFSETTO:-0500
TZNAME:America/Chicago CDT
END:DAYLIGHT
END:VTIMEZONE
BEGIN:VEVENT
UID:33fc1c7a56a0aa7f89b438931df7b145
CATEGORIES:Tournaments
CREATED:20130214T091028
SUMMARY:2013 WI State Action Chess Championship
LOCATION:Fitchburg Recreation Department
DESCRIPTION:2013 Wisconsin State Action Chess Championship\n(&amp; Madison RBO) \n***St
 ate Championship Event***\n***Winners are Official State Champions***\n***3
 0 individual trophies and $640 in cash prizes***\n*****SECTIONS*****OPEN***
 **u1400*****SCHOLASTIC*****\nSaturday, March 23rd\nFitchburg Recreation Dep
 artment\n5520 Lacy Road, Fitchburg WI\nSCHOLASTIC SECTION: open to players 
 K-12. Prizes: individual and team trophies.\nOPEN SECTION: open to players 
 of all ages. USCF membership is required (available at site). Prizes (b/40)
 : $500 in cash prizes.\nUNDER 1400 SECTION: open to players of all ages wit
 h rating 1399 and lower. USCF membership is required (available at site). P
 rizes: $90-$50 and trophies based on rating and age.\nEntry Fee: $20 if rec
 eived by March 21st or $30 afterwards. Please do not mail after March 19th.
  \nTime Control: 30 minutes (+5 sec delay) per player per game\nLate Regist
 ration: 9-9:30am\nRounds: 10am, 11:15am, 12:45pm, 2:15pm\nAwards: 3:15pm\nM
 ake checks payable and send to (please include your grade and school name i
 f K-12 student):\nFitchburg Recreation Department\nAttention: Chad Sigl\n55
 20 Lacy Road\nFitchburg, WI 53711\nOnline Entry (small convenience fee appl
 ies): https://activenet002.active.com/fitchburg/\nQuestions: This email add
 ress is being protected from spambots. You need JavaScript enabled to view 
 it.
				document.getElementById('cloak311f102227299a1b77b3c92939ef4eee').in
 nerHTML = '';
				var prefix = '&#109;a' + 'i&#108;' + '&#116;o';
				var p
 ath = 'hr' + 'ef' + '=';
				var addy311f102227299a1b77b3c92939ef4eee = 'f&
 #105;tchb&#117;rgch&#101;ss' + '&#64;';
				addy311f102227299a1b77b3c92939e
 f4eee = addy311f102227299a1b77b3c92939ef4eee + 'gm&#97;&#105;l' + '&#46;' +
  'c&#111;m';
				var addy_text311f102227299a1b77b3c92939ef4eee = 'f&#105;tc
 hb&#117;rgch&#101;ss' + '&#64;' + 'gm&#97;&#105;l' + '&#46;' + 'c&#111;m';d
 ocument.getElementById('cloak311f102227299a1b77b3c92939ef4eee').innerHTML +
 = '<a ' + path + '\'' + prefix + ':' + addy311f102227299a1b77b3c92939ef4eee
  + '\'>'+addy_text311f102227299a1b77b3c92939ef4eee+'';
		 608-270-4285 (Cha
 d Sigl)\n
X-ALT-DESC;FMTTYPE=text/html:<p class="MsoNormal" style="text-align: center;" align="center"><strong><sp
 an style="font-size: 22.0pt; line-height: 115%;">2013 Wisconsin State Actio
 n Chess Championship</span></strong></p><p class="MsoNormal" style="text-al
 ign: center;" align="center"><strong><span style="font-size: 18.0pt; line-h
 eight: 115%;">(& Madison RBO) </span></strong></p><p class="MsoNormal" styl
 e="text-align: center;" align="center"><span style="font-size: 14.0pt; line
 -height: 115%;">***State Championship Event***</span></p><p class="MsoNorma
 l" style="text-align: center;" align="center"><span style="font-size: 14.0p
 t; line-height: 115%;">***Winners are Official State Champions***</span></p
 ><p class="MsoNormal" style="text-align: center;" align="center"><span styl
 e="font-size: 14.0pt; line-height: 115%;">***30 individual trophies and $64
 0 in cash prizes***</span></p><p class="MsoNormal" style="text-align: cente
 r;" align="center"><span style="font-size: 14.0pt; line-height: 115%;">****
 *SECTIONS*****OPEN*****u1400*****SCHOLASTIC*****</span></p><p class="MsoNor
 mal"><span style="font-size: 14.0pt; line-height: 115%;">Saturday, March 23
 <sup>rd</sup></span></p><p class="MsoNormal"><span style="font-size: 14.0pt
 ; line-height: 115%;">Fitchburg Recreation Department</span></p><p class="M
 soNormal"><span style="font-size: 14.0pt; line-height: 115%;">5520 Lacy Roa
 d, Fitchburg WI</span></p><p class="MsoNormal"><strong><span style="font-si
 ze: 14.0pt; line-height: 115%;">SCHOLASTIC SECTION: </span></strong><span s
 tyle="font-size: 14.0pt; line-height: 115%;">open to players K-12. <strong>
 Prizes:</strong> <strong>individual and team trophies.</strong></span></p><
 p class="MsoNormal"><strong><span style="font-size: 14.0pt; line-height: 11
 5%;">OPEN SECTION: </span></strong><span style="font-size: 14.0pt; line-hei
 ght: 115%;">open to players of all ages. USCF membership is required (avail
 able at site). <strong>Prizes (b/40): $500 in cash prizes.</strong></span><
 /p><p class="MsoNormal"><strong><span style="font-size: 14.0pt; line-height
 : 115%;">UNDER 1400 SECTION: </span></strong><span style="font-size: 14.0pt
 ; line-height: 115%;">open to players of all ages with rating 1399 and lowe
 r. USCF membership is required (available at site). <strong>Prizes: $90-$50
  and trophies based on rating and age.</strong></span></p><p class="MsoNorm
 al"><strong><span style="font-size: 14.0pt; line-height: 115%;">Entry Fee: 
 </span></strong><span style="font-size: 14.0pt; line-height: 115%;">$20 if 
 received by March 21<sup>st</sup> or $30 afterwards. Please do not mail aft
 er March 19<sup>th</sup>. </span></p><p class="MsoNormal"><strong><span sty
 le="font-size: 14.0pt; line-height: 115%;">Time Control: </span></strong><s
 pan style="font-size: 14.0pt; line-height: 115%;">30 minutes (+5 sec delay)
  per player per game</span></p><p class="MsoNormal"><strong><span style="fo
 nt-size: 14.0pt; line-height: 115%;">Late Registration:</span></strong><spa
 n style="font-size: 14.0pt; line-height: 115%;"> 9-9:30am</span></p><p clas
 s="MsoNormal"><strong><span style="font-size: 14.0pt; line-height: 115%;">R
 ounds:</span></strong><span style="font-size: 14.0pt; line-height: 115%;"> 
 10am, 11:15am, 12:45pm, 2:15pm</span></p><p class="MsoNormal"><strong><span
  style="font-size: 14.0pt; line-height: 115%;">Awards:</span></strong><span
  style="font-size: 14.0pt; line-height: 115%;"> 3:15pm</span></p><p class="
 MsoNormal"><strong><span style="font-size: 14.0pt; line-height: 115%;">Make
  checks payable and send to</span></strong><span style="font-size: 14.0pt; 
 line-height: 115%;"> (please include your grade and school name if K-12 stu
 dent):</span></p><p class="MsoNormal"><span style="font-size: 14.0pt; line-
 height: 115%;">Fitchburg Recreation Department</span></p><p class="MsoNorma
 l"><span style="font-size: 14.0pt; line-height: 115%;">Attention: Chad Sigl
 </span></p><p class="MsoNormal"><span style="font-size: 14.0pt; line-height
 : 115%;">5520 Lacy Road</span></p><p class="MsoNormal"><span style="font-si
 ze: 14.0pt; line-height: 115%;">Fitchburg, WI 53711</span></p><p class="Mso
 Normal"><strong><span style="font-size: 14.0pt; line-height: 115%;">Online 
 Entry</span></strong><span style="font-size: 14.0pt; line-height: 115%;"> (
 small convenience fee applies): <a href="https://activenet002.active.com/fi
 tchburg/">https://activenet002.active.com/fitchburg/</a></span></p><p class
 ="MsoNormal"><strong><span style="font-size: 14.0pt; line-height: 115%;">Qu
 estions:</span></strong><span style="font-size: 14.0pt; line-height: 115%;"
 > <span id="cloak311f102227299a1b77b3c92939ef4eee">This email address is be
 ing protected from spambots. You need JavaScript enabled to view it.</span>
 <script type='text/javascript'>
				document.getElementById('cloak311f10222
 7299a1b77b3c92939ef4eee').innerHTML = '';
				var prefix = '&#109;a' + 'i&#
 108;' + '&#116;o';
				var path = 'hr' + 'ef' + '=';
				var addy311f102227
 299a1b77b3c92939ef4eee = 'f&#105;tchb&#117;rgch&#101;ss' + '&#64;';
				add
 y311f102227299a1b77b3c92939ef4eee = addy311f102227299a1b77b3c92939ef4eee + 
 'gm&#97;&#105;l' + '&#46;' + 'c&#111;m';
				var addy_text311f102227299a1b7
 7b3c92939ef4eee = 'f&#105;tchb&#117;rgch&#101;ss' + '&#64;' + 'gm&#97;&#105
 ;l' + '&#46;' + 'c&#111;m';document.getElementById('cloak311f102227299a1b77
 b3c92939ef4eee').innerHTML += '<a ' + path + '\'' + prefix + ':' + addy311f
 102227299a1b77b3c92939ef4eee + '\'>'+addy_text311f102227299a1b77b3c92939ef4
 eee+'<\/a>';
		</script> 608-270-4285 (Chad Sigl)</span></p>
CONTACT:Alex Betaneli 608-334-2574, This email address is being protected from spambots. You need JavaScript enabled to view it.
				document.getElementById('cloak13740d796e8107e036eb63df8949bcd7').innerHTML = '';
				var prefix = '&#109;a' + 'i&#108;' + '&#116;o';
				var path = 'hr' + 'ef' + '=';
				var addy13740d796e8107e036eb63df8949bcd7 = '&#97;b&#101;t&#97;n&#101;l&#105;' + '&#64;';
				addy13740d796e8107e036eb63df8949bcd7 = addy13740d796e8107e036eb63df8949bcd7 + 'w&#105;ch&#101;ss&#97;c&#97;d&#101;my' + '&#46;' + 'c&#111;m';
				var addy_text13740d796e8107e036eb63df8949bcd7 = '&#97;b&#101;t&#97;n&#101;l&#105;' + '&#64;' + 'w&#105;ch&#101;ss&#97;c&#97;d&#101;my' + '&#46;' + 'c&#111;m';document.getElementById('cloak13740d796e8107e036eb63df8949bcd7').innerHTML += '<a ' + path + '\'' + prefix + ':' + addy13740d796e8107e036eb63df8949bcd7 + '\'>'+addy_text13740d796e8107e036eb63df8949bcd7+'';
		 
DTSTAMP:20260423T010452
DTSTART;TZID=America/Chicago:20130323T100000
SEQUENCE:0
TRANSP:OPAQUE
END:VEVENT
END:VCALENDAR