BEGIN:VCALENDAR
VERSION:2.0
PRODID:-//jEvents 2.0 for Joomla//EN
CALSCALE:GREGORIAN
METHOD:PUBLISH
BEGIN:VTIMEZONE
TZID:America/Chicago
BEGIN:STANDARD
DTSTART:20121104T010000
RDATE:20130310T030000
TZOFFSETFROM:-0500
TZOFFSETTO:-0600
TZNAME:America/Chicago CST
END:STANDARD
BEGIN:STANDARD
DTSTART:20131103T010000
RDATE:20140309T030000
TZOFFSETFROM:-0500
TZOFFSETTO:-0600
TZNAME:America/Chicago CST
END:STANDARD
BEGIN:STANDARD
DTSTART:20141102T010000
RDATE:20150308T030000
TZOFFSETFROM:-0500
TZOFFSETTO:-0600
TZNAME:America/Chicago CST
END:STANDARD
BEGIN:STANDARD
DTSTART:20151101T010000
RDATE:20160313T030000
TZOFFSETFROM:-0500
TZOFFSETTO:-0600
TZNAME:America/Chicago CST
END:STANDARD
BEGIN:STANDARD
DTSTART:20161106T010000
RDATE:20170312T030000
TZOFFSETFROM:-0500
TZOFFSETTO:-0600
TZNAME:America/Chicago CST
END:STANDARD
BEGIN:STANDARD
DTSTART:20171105T010000
RDATE:20180311T030000
TZOFFSETFROM:-0500
TZOFFSETTO:-0600
TZNAME:America/Chicago CST
END:STANDARD
BEGIN:STANDARD
DTSTART:20181104T010000
RDATE:20190310T030000
TZOFFSETFROM:-0500
TZOFFSETTO:-0600
TZNAME:America/Chicago CST
END:STANDARD
BEGIN:STANDARD
DTSTART:20191103T010000
RDATE:20200308T030000
TZOFFSETFROM:-0500
TZOFFSETTO:-0600
TZNAME:America/Chicago CST
END:STANDARD
BEGIN:STANDARD
DTSTART:20201101T010000
RDATE:20210314T030000
TZOFFSETFROM:-0500
TZOFFSETTO:-0600
TZNAME:America/Chicago CST
END:STANDARD
BEGIN:STANDARD
DTSTART:20211107T010000
RDATE:20220313T030000
TZOFFSETFROM:-0500
TZOFFSETTO:-0600
TZNAME:America/Chicago CST
END:STANDARD
BEGIN:STANDARD
DTSTART:20221106T010000
RDATE:20230312T030000
TZOFFSETFROM:-0500
TZOFFSETTO:-0600
TZNAME:America/Chicago CST
END:STANDARD
BEGIN:STANDARD
DTSTART:20231105T010000
RDATE:20240310T030000
TZOFFSETFROM:-0500
TZOFFSETTO:-0600
TZNAME:America/Chicago CST
END:STANDARD
BEGIN:STANDARD
DTSTART:20241103T010000
RDATE:20250309T030000
TZOFFSETFROM:-0500
TZOFFSETTO:-0600
TZNAME:America/Chicago CST
END:STANDARD
BEGIN:STANDARD
DTSTART:20251102T010000
RDATE:20260308T030000
TZOFFSETFROM:-0500
TZOFFSETTO:-0600
TZNAME:America/Chicago CST
END:STANDARD
BEGIN:STANDARD
DTSTART:20261101T010000
RDATE:20270314T030000
TZOFFSETFROM:-0500
TZOFFSETTO:-0600
TZNAME:America/Chicago CST
END:STANDARD
BEGIN:STANDARD
DTSTART:20271107T010000
RDATE:20280312T030000
TZOFFSETFROM:-0500
TZOFFSETTO:-0600
TZNAME:America/Chicago CST
END:STANDARD
BEGIN:STANDARD
DTSTART:20281105T010000
RDATE:20290311T030000
TZOFFSETFROM:-0500
TZOFFSETTO:-0600
TZNAME:America/Chicago CST
END:STANDARD
BEGIN:DAYLIGHT
DTSTART:20120705T000000
RDATE:20121104T010000
TZOFFSETFROM:-0600
TZOFFSETTO:-0500
TZNAME:America/Chicago CDT
END:DAYLIGHT
BEGIN:DAYLIGHT
DTSTART:20130310T030000
RDATE:20131103T010000
TZOFFSETFROM:-0600
TZOFFSETTO:-0500
TZNAME:America/Chicago CDT
END:DAYLIGHT
BEGIN:DAYLIGHT
DTSTART:20140309T030000
RDATE:20141102T010000
TZOFFSETFROM:-0600
TZOFFSETTO:-0500
TZNAME:America/Chicago CDT
END:DAYLIGHT
BEGIN:DAYLIGHT
DTSTART:20150308T030000
RDATE:20151101T010000
TZOFFSETFROM:-0600
TZOFFSETTO:-0500
TZNAME:America/Chicago CDT
END:DAYLIGHT
BEGIN:DAYLIGHT
DTSTART:20160313T030000
RDATE:20161106T010000
TZOFFSETFROM:-0600
TZOFFSETTO:-0500
TZNAME:America/Chicago CDT
END:DAYLIGHT
BEGIN:DAYLIGHT
DTSTART:20170312T030000
RDATE:20171105T010000
TZOFFSETFROM:-0600
TZOFFSETTO:-0500
TZNAME:America/Chicago CDT
END:DAYLIGHT
BEGIN:DAYLIGHT
DTSTART:20180311T030000
RDATE:20181104T010000
TZOFFSETFROM:-0600
TZOFFSETTO:-0500
TZNAME:America/Chicago CDT
END:DAYLIGHT
BEGIN:DAYLIGHT
DTSTART:20190310T030000
RDATE:20191103T010000
TZOFFSETFROM:-0600
TZOFFSETTO:-0500
TZNAME:America/Chicago CDT
END:DAYLIGHT
BEGIN:DAYLIGHT
DTSTART:20200308T030000
RDATE:20201101T010000
TZOFFSETFROM:-0600
TZOFFSETTO:-0500
TZNAME:America/Chicago CDT
END:DAYLIGHT
BEGIN:DAYLIGHT
DTSTART:20210314T030000
RDATE:20211107T010000
TZOFFSETFROM:-0600
TZOFFSETTO:-0500
TZNAME:America/Chicago CDT
END:DAYLIGHT
BEGIN:DAYLIGHT
DTSTART:20220313T030000
RDATE:20221106T010000
TZOFFSETFROM:-0600
TZOFFSETTO:-0500
TZNAME:America/Chicago CDT
END:DAYLIGHT
BEGIN:DAYLIGHT
DTSTART:20230312T030000
RDATE:20231105T010000
TZOFFSETFROM:-0600
TZOFFSETTO:-0500
TZNAME:America/Chicago CDT
END:DAYLIGHT
BEGIN:DAYLIGHT
DTSTART:20240310T030000
RDATE:20241103T010000
TZOFFSETFROM:-0600
TZOFFSETTO:-0500
TZNAME:America/Chicago CDT
END:DAYLIGHT
BEGIN:DAYLIGHT
DTSTART:20250309T030000
RDATE:20251102T010000
TZOFFSETFROM:-0600
TZOFFSETTO:-0500
TZNAME:America/Chicago CDT
END:DAYLIGHT
BEGIN:DAYLIGHT
DTSTART:20260308T030000
RDATE:20261101T010000
TZOFFSETFROM:-0600
TZOFFSETTO:-0500
TZNAME:America/Chicago CDT
END:DAYLIGHT
BEGIN:DAYLIGHT
DTSTART:20270314T030000
RDATE:20271107T010000
TZOFFSETFROM:-0600
TZOFFSETTO:-0500
TZNAME:America/Chicago CDT
END:DAYLIGHT
BEGIN:DAYLIGHT
DTSTART:20280312T030000
RDATE:20281105T010000
TZOFFSETFROM:-0600
TZOFFSETTO:-0500
TZNAME:America/Chicago CDT
END:DAYLIGHT
END:VTIMEZONE
BEGIN:VEVENT
UID:cbcb034c7b007e4e74218da158356a25
CATEGORIES:Tour Events
CREATED:20130612T200607
SUMMARY:37th Annual Green Bay Open
LOCATION:Radisson Hotel\, 2040 Airport Dr.\, Green Bay
DESCRIPTION:<p class="MsoNormal" style="margin: 0in 0in 0pt;"><span style="font-family:
  Times New Roman; color: #000000; font-size: medium;">Radisson Hotel, 2040 
 Airport Dr. Green Bay, WI 54313.<span style="mso-spacerun: yes;">  </span>5
 SS 40/100, 30/1, SD/30 <strong style="mso-bidi-font-weight: normal;">EF: </
 strong>$44, Juniors under 19 $39, if rec’d by 7/3, entries paid after 7/3 i
 ncluding phone & email are $11 more!<span style="mso-spacerun: yes;">  </sp
 an><strong style="mso-bidi-font-weight: normal;">$$ (Top 2 Gtd. 5 per class
 ) </strong>$1690 Cash + 6 trophies! <span style="mso-spacerun: yes;"> </spa
 n>1<sup>st</sup> $400 + trophy; 2<sup>nd</sup> $220, X $115; 1900’s & 1800’
 s $115 each; 1700’s & 1600’s $110 each; 1500’s & 1400’s $105 each; 1300’s &
  1200’s $100 each; Under 1200/Unrated $95.<span style="mso-spacerun: yes;">
   </span>Trophies to top Juniors ages 17-18, 15-16, 13-14, 11-12, 10 & unde
 r.<span style="mso-spacerun: yes;">  </span><strong style="mso-bidi-font-we
 ight: normal;">Reg:</strong> 8:45-9:25am <strong style="mso-bidi-font-weigh
 t: normal;">Rds: </strong>10-2:30-7:30; 10-3:30. <strong style="mso-bidi-fo
 nt-weight: normal;">HR: </strong>$79/$79/$89/$99 call 920-494-7300 mention 
 chess tournament. Room block held to 6/19. <strong style="mso-bidi-font-wei
 ght: normal;">Other Info: </strong>½ bye avail. rds 1, 2 or 3 if req’d w/en
 try. WCA Tour Event. NS NC W. <strong style="mso-bidi-font-weight: normal;"
 >Entries & Inquiries to: </strong>Luke Ludwig, 2191 Allouez Ave. Green Bay,
  WI 54311. 920-465-9859, email: </span><a href="mailto:lukealudwig@aol.com"
 ><span style="text-decoration: underline;"><span style="font-family: Times 
 New Roman; color: #0000ff; font-size: medium;"><span id="cloake651775aff809
 d13d34c5159595c3bf3">This email address is being protected from spambots. Y
 ou need JavaScript enabled to view it.</span><script type='text/javascript'
 >
				document.getElementById('cloake651775aff809d13d34c5159595c3bf3').inne
 rHTML = '';
				var prefix = '&#109;a' + 'i&#108;' + '&#116;o';
				var pat
 h = 'hr' + 'ef' + '=';
				var addye651775aff809d13d34c5159595c3bf3 = 'l&#1
 17;k&#101;&#97;l&#117;dw&#105;g' + '&#64;';
				addye651775aff809d13d34c515
 9595c3bf3 = addye651775aff809d13d34c5159595c3bf3 + '&#97;&#111;l' + '&#46;'
  + 'c&#111;m';
				var addy_texte651775aff809d13d34c5159595c3bf3 = 'l&#117;
 k&#101;&#97;l&#117;dw&#105;g' + '&#64;' + '&#97;&#111;l' + '&#46;' + 'c&#11
 1;m';document.getElementById('cloake651775aff809d13d34c5159595c3bf3').inner
 HTML += '<a ' + path + '\'' + prefix + ':' + addye651775aff809d13d34c515959
 5c3bf3 + '\'>'+addy_texte651775aff809d13d34c5159595c3bf3+'<\/a>';
		</scrip
 t></span></span></a><span style="font-size: medium;"><span style="color: #0
 00000;"><span style="font-family: Times New Roman;"> <strong style="mso-bid
 i-font-weight: normal;"><span style="mso-spacerun: yes;"> </span>JGP.</stro
 ng></span></span></span></p>
CONTACT:Luke Ludwig 920-465-9859  This email address is being protected from spambots. You need JavaScript enabled to view it.
				document.getElementById('cloake66e93c02441b2f446a222c0118a97d5').innerHTML = '';
				var prefix = '&#109;a' + 'i&#108;' + '&#116;o';
				var path = 'hr' + 'ef' + '=';
				var addye66e93c02441b2f446a222c0118a97d5 = 'l&#117;k&#101;&#97;l&#117;dw&#105;g' + '&#64;';
				addye66e93c02441b2f446a222c0118a97d5 = addye66e93c02441b2f446a222c0118a97d5 + '&#97;&#111;l' + '&#46;' + 'c&#111;m';
				var addy_texte66e93c02441b2f446a222c0118a97d5 = 'l&#117;k&#101;&#97;l&#117;dw&#105;g' + '&#64;' + '&#97;&#111;l' + '&#46;' + 'c&#111;m';document.getElementById('cloake66e93c02441b2f446a222c0118a97d5').innerHTML += '<a ' + path + '\'' + prefix + ':' + addye66e93c02441b2f446a222c0118a97d5 + '\'>'+addy_texte66e93c02441b2f446a222c0118a97d5+'';
		
DTSTAMP:20260423T021938
DTSTART;TZID=America/Chicago;VALUE=DATE:20130706
DTEND;TZID=America/Chicago;VALUE=DATE:20130708
SEQUENCE:0
TRANSP:OPAQUE
END:VEVENT
END:VCALENDAR