BEGIN:VCALENDAR
VERSION:2.0
PRODID:-//jEvents 2.0 for Joomla//EN
CALSCALE:GREGORIAN
METHOD:PUBLISH
BEGIN:VTIMEZONE
TZID:America/Chicago
BEGIN:STANDARD
DTSTART:20121104T010000
RDATE:20130310T030000
TZOFFSETFROM:-0500
TZOFFSETTO:-0600
TZNAME:America/Chicago CST
END:STANDARD
BEGIN:STANDARD
DTSTART:20131103T010000
RDATE:20140309T030000
TZOFFSETFROM:-0500
TZOFFSETTO:-0600
TZNAME:America/Chicago CST
END:STANDARD
BEGIN:STANDARD
DTSTART:20141102T010000
RDATE:20150308T030000
TZOFFSETFROM:-0500
TZOFFSETTO:-0600
TZNAME:America/Chicago CST
END:STANDARD
BEGIN:STANDARD
DTSTART:20151101T010000
RDATE:20160313T030000
TZOFFSETFROM:-0500
TZOFFSETTO:-0600
TZNAME:America/Chicago CST
END:STANDARD
BEGIN:STANDARD
DTSTART:20161106T010000
RDATE:20170312T030000
TZOFFSETFROM:-0500
TZOFFSETTO:-0600
TZNAME:America/Chicago CST
END:STANDARD
BEGIN:STANDARD
DTSTART:20171105T010000
RDATE:20180311T030000
TZOFFSETFROM:-0500
TZOFFSETTO:-0600
TZNAME:America/Chicago CST
END:STANDARD
BEGIN:STANDARD
DTSTART:20181104T010000
RDATE:20190310T030000
TZOFFSETFROM:-0500
TZOFFSETTO:-0600
TZNAME:America/Chicago CST
END:STANDARD
BEGIN:STANDARD
DTSTART:20191103T010000
RDATE:20200308T030000
TZOFFSETFROM:-0500
TZOFFSETTO:-0600
TZNAME:America/Chicago CST
END:STANDARD
BEGIN:STANDARD
DTSTART:20201101T010000
RDATE:20210314T030000
TZOFFSETFROM:-0500
TZOFFSETTO:-0600
TZNAME:America/Chicago CST
END:STANDARD
BEGIN:STANDARD
DTSTART:20211107T010000
RDATE:20220313T030000
TZOFFSETFROM:-0500
TZOFFSETTO:-0600
TZNAME:America/Chicago CST
END:STANDARD
BEGIN:STANDARD
DTSTART:20221106T010000
RDATE:20230312T030000
TZOFFSETFROM:-0500
TZOFFSETTO:-0600
TZNAME:America/Chicago CST
END:STANDARD
BEGIN:STANDARD
DTSTART:20231105T010000
RDATE:20240310T030000
TZOFFSETFROM:-0500
TZOFFSETTO:-0600
TZNAME:America/Chicago CST
END:STANDARD
BEGIN:STANDARD
DTSTART:20241103T010000
RDATE:20250309T030000
TZOFFSETFROM:-0500
TZOFFSETTO:-0600
TZNAME:America/Chicago CST
END:STANDARD
BEGIN:STANDARD
DTSTART:20251102T010000
RDATE:20260308T030000
TZOFFSETFROM:-0500
TZOFFSETTO:-0600
TZNAME:America/Chicago CST
END:STANDARD
BEGIN:STANDARD
DTSTART:20261101T010000
RDATE:20270314T030000
TZOFFSETFROM:-0500
TZOFFSETTO:-0600
TZNAME:America/Chicago CST
END:STANDARD
BEGIN:STANDARD
DTSTART:20271107T010000
RDATE:20280312T030000
TZOFFSETFROM:-0500
TZOFFSETTO:-0600
TZNAME:America/Chicago CST
END:STANDARD
BEGIN:STANDARD
DTSTART:20281105T010000
RDATE:20290311T030000
TZOFFSETFROM:-0500
TZOFFSETTO:-0600
TZNAME:America/Chicago CST
END:STANDARD
BEGIN:DAYLIGHT
DTSTART:20120830T000000
RDATE:20121104T010000
TZOFFSETFROM:-0600
TZOFFSETTO:-0500
TZNAME:America/Chicago CDT
END:DAYLIGHT
BEGIN:DAYLIGHT
DTSTART:20130310T030000
RDATE:20131103T010000
TZOFFSETFROM:-0600
TZOFFSETTO:-0500
TZNAME:America/Chicago CDT
END:DAYLIGHT
BEGIN:DAYLIGHT
DTSTART:20140309T030000
RDATE:20141102T010000
TZOFFSETFROM:-0600
TZOFFSETTO:-0500
TZNAME:America/Chicago CDT
END:DAYLIGHT
BEGIN:DAYLIGHT
DTSTART:20150308T030000
RDATE:20151101T010000
TZOFFSETFROM:-0600
TZOFFSETTO:-0500
TZNAME:America/Chicago CDT
END:DAYLIGHT
BEGIN:DAYLIGHT
DTSTART:20160313T030000
RDATE:20161106T010000
TZOFFSETFROM:-0600
TZOFFSETTO:-0500
TZNAME:America/Chicago CDT
END:DAYLIGHT
BEGIN:DAYLIGHT
DTSTART:20170312T030000
RDATE:20171105T010000
TZOFFSETFROM:-0600
TZOFFSETTO:-0500
TZNAME:America/Chicago CDT
END:DAYLIGHT
BEGIN:DAYLIGHT
DTSTART:20180311T030000
RDATE:20181104T010000
TZOFFSETFROM:-0600
TZOFFSETTO:-0500
TZNAME:America/Chicago CDT
END:DAYLIGHT
BEGIN:DAYLIGHT
DTSTART:20190310T030000
RDATE:20191103T010000
TZOFFSETFROM:-0600
TZOFFSETTO:-0500
TZNAME:America/Chicago CDT
END:DAYLIGHT
BEGIN:DAYLIGHT
DTSTART:20200308T030000
RDATE:20201101T010000
TZOFFSETFROM:-0600
TZOFFSETTO:-0500
TZNAME:America/Chicago CDT
END:DAYLIGHT
BEGIN:DAYLIGHT
DTSTART:20210314T030000
RDATE:20211107T010000
TZOFFSETFROM:-0600
TZOFFSETTO:-0500
TZNAME:America/Chicago CDT
END:DAYLIGHT
BEGIN:DAYLIGHT
DTSTART:20220313T030000
RDATE:20221106T010000
TZOFFSETFROM:-0600
TZOFFSETTO:-0500
TZNAME:America/Chicago CDT
END:DAYLIGHT
BEGIN:DAYLIGHT
DTSTART:20230312T030000
RDATE:20231105T010000
TZOFFSETFROM:-0600
TZOFFSETTO:-0500
TZNAME:America/Chicago CDT
END:DAYLIGHT
BEGIN:DAYLIGHT
DTSTART:20240310T030000
RDATE:20241103T010000
TZOFFSETFROM:-0600
TZOFFSETTO:-0500
TZNAME:America/Chicago CDT
END:DAYLIGHT
BEGIN:DAYLIGHT
DTSTART:20250309T030000
RDATE:20251102T010000
TZOFFSETFROM:-0600
TZOFFSETTO:-0500
TZNAME:America/Chicago CDT
END:DAYLIGHT
BEGIN:DAYLIGHT
DTSTART:20260308T030000
RDATE:20261101T010000
TZOFFSETFROM:-0600
TZOFFSETTO:-0500
TZNAME:America/Chicago CDT
END:DAYLIGHT
BEGIN:DAYLIGHT
DTSTART:20270314T030000
RDATE:20271107T010000
TZOFFSETFROM:-0600
TZOFFSETTO:-0500
TZNAME:America/Chicago CDT
END:DAYLIGHT
BEGIN:DAYLIGHT
DTSTART:20280312T030000
RDATE:20281105T010000
TZOFFSETFROM:-0600
TZOFFSETTO:-0500
TZNAME:America/Chicago CDT
END:DAYLIGHT
END:VTIMEZONE
BEGIN:VEVENT
UID:d177399adea4ba8fe11cf70963fc4d62
CATEGORIES:Tour Events
CREATED:20130710T212139
SUMMARY:Marshall Rohland Memorial/Wisconsin Closed Championships
LOCATION:Holiday Inn - Neenah\, 123 E. Wisconsin Av\, Neenah\, WI 54956
DESCRIPTION:2013 WIS Closed / Rohland Memorial  DATES:    AUG 31 / SEPT 1 – 2, ‘13\n \n
 SECTIONS:  PREMIER (Open to all), RESERVE (U/1800), NOVICE (U/1200)\n \nFOR
 MAT:   PREMIER and RESERVE:  6/SS, TC of 40/2, SD/1 d5.  Rds at:  12-6:30, 
 10-6, 10-3:30.              NOVICE:   6/SS, TC of G/60 d5.  Rds at:  12-2:3
 0-5 and 10-1-4. (SAT/SUN only).\n \nPLAYING SITE:    Holiday Inn — Neenah, 
 123 E. Wisconsin Av., Neenah, WI  54956   PH: 920-725-8441.  HR:  $85 1-bed
  King or 2-bed dbl. Must mention chess!\n \nREGISTRATION:    10:45 – 11:30 
 on 8/31.\n \nENTRY FEES:    PREMIER = $40, RESERVE = $25, NOVICE = $17 if m
 ailed by AUG 26.  At site, phone, or e-mail EFs are $7 more!  Checks payabl
 e to: WCA.\n \nPRIZE FUND:    PREMIER ($1,400 b/30):  $300-200-150, “A”-$12
 5, “B”/Under - $125.  Trophy and traveling trophy to 1st.  RESERVE:  $150-1
 00. Trophies to:  1st Place + traveling trophy, 2nd, best “C”, “D”, “E”/Und
 er, Unrated.  NOVICE:   Trophies to:   1st, 2nd, best 1000, 900, 800, 700 a
 nd Under, Unrated. Kittsley Prize to biggest upset in the event.\n \nADVANC
 E ENTRIES:    2013 WIS Closed, Mike Selig – TD, 2985 W. Fourth #B, Appleton
 , WI  54914-4330.  TD phone: 920-739-7550, E-mail:  This email address is b
 eing protected from spambots. You need JavaScript enabled to view it.
				d
 ocument.getElementById('cloak7beea7beab71f8caf80fe26a5e3dfdf2').innerHTML =
  '';
				var prefix = '&amp;#109;a' + 'i&amp;#108;' + '&amp;#116;o';
				va
 r path = 'hr' + 'ef' + '=';
				var addy7beea7beab71f8caf80fe26a5e3dfdf2 = 
 'ms&amp;#101;l&amp;#105;g' + '&amp;#64;';
				addy7beea7beab71f8caf80fe26a5
 e3dfdf2 = addy7beea7beab71f8caf80fe26a5e3dfdf2 + 'tds' + '&amp;#46;' + 'n&a
 mp;#101;t';
				var addy_text7beea7beab71f8caf80fe26a5e3dfdf2 = 'ms&amp;#10
 1;l&amp;#105;g' + '&amp;#64;' + 'tds' + '&amp;#46;' + 'n&amp;#101;t';docume
 nt.getElementById('cloak7beea7beab71f8caf80fe26a5e3dfdf2').innerHTML += '&l
 t;a ' + path + '\'' + prefix + ':' + addy7beea7beab71f8caf80fe26a5e3dfdf2 +
  '\'&gt;'+addy_text7beea7beab71f8caf80fe26a5e3dfdf2+'&lt;\/a&gt;';
		 (mail
 to:mselig@tds.net).\n \nOTHER INFO:   2013 WIS Chess Tour event.  Two half-
 point Byes in any section. Full-point Bye in RD 1 to 2200+ if pre-registere
 d. Fox River Mall w/183 stores is 4 miles from site!\n \n
X-ALT-DESC;FMTTYPE=text/html:<p><span style="font-size: medium;"><span style="color: #000000;"><span sty
 le="font-family: 'Souvenir Lt BT','serif';">2013 WIS Closed / Rohland Memor
 ial<span style="mso-tab-count: 1;">  </span><strong style="mso-bidi-font-we
 ight: normal;">DATES:<span style="mso-spacerun: yes;">    </span></strong>A
 UG 31 / SEPT 1 – 2, ‘13</span></span></span></p><p> </p><p class="MsoNormal
 " style="margin: 0in 0in 0pt;"><span style="font-size: medium;"><span style
 ="color: #000000;"><span style="font-family: 'Souvenir Lt BT','serif';"><st
 rong style="mso-bidi-font-weight: normal;">SECTIONS</strong>:<span style="m
 so-spacerun: yes;">  </span><span style="text-decoration: underline;">PREMI
 ER</span> (Open to all), <span style="text-decoration: underline;">RESERVE<
 /span> (U/1800), <span style="text-decoration: underline;">NOVICE</span> (U
 /1200)</span></span></span></p><p class="MsoNormal" style="margin: 0in 0in 
 0pt;"><span style="font-family: 'Souvenir Lt BT','serif';"><span style="col
 or: #000000; font-size: medium;"> </span></span></p><p class="MsoNormal" st
 yle="margin: 0in 0in 0pt;"><span style="font-size: medium;"><span style="co
 lor: #000000;"><strong style="mso-bidi-font-weight: normal;"><span style="f
 ont-family: 'Souvenir Lt BT','serif';">FORMAT:<span style="mso-spacerun: ye
 s;">   </span></span></strong><span style="text-decoration: underline;"><sp
 an style="font-family: 'Souvenir Lt BT','serif';">PREMIER</span></span><spa
 n style="font-family: 'Souvenir Lt BT','serif';"> and <span style="text-dec
 oration: underline;">RESERVE</span>:<span style="mso-spacerun: yes;">  </sp
 an>6/SS, TC of 40/2, SD/1 d5.<span style="mso-spacerun: yes;">  </span>Rds 
 at:<span style="mso-spacerun: yes;">  </span>12-6:30, 10-6, 10-3:30.<span s
 tyle="mso-spacerun: yes;">  </span><span style="mso-tab-count: 1;">        
     </span><span style="text-decoration: underline;">NOVICE:</span><span st
 yle="mso-spacerun: yes;">   </span>6/SS, TC of G/60 d5.<span style="mso-spa
 cerun: yes;">  </span>Rds at:<span style="mso-spacerun: yes;">  </span>12-2
 :30-5 and 10-1-4. (SAT/SUN only).</span></span></span></p><p class="MsoNorm
 al" style="margin: 0in 0in 0pt;"><span style="font-family: 'Souvenir Lt BT'
 ,'serif';"><span style="color: #000000; font-size: medium;"> </span></span>
 </p><p class="MsoNormal" style="margin: 0in 0in 0pt;"><span style="font-siz
 e: medium;"><span style="color: #000000;"><strong style="mso-bidi-font-weig
 ht: normal;"><span style="font-family: 'Souvenir Lt BT','serif';">PLAYING S
 ITE:</span></strong><span style="font-family: 'Souvenir Lt BT','serif';"><s
 pan style="mso-spacerun: yes;">    </span>Holiday Inn — Neenah, 123 E. Wisc
 onsin Av., Neenah, WI<span style="mso-spacerun: yes;">  </span>54956<span s
 tyle="mso-spacerun: yes;">   </span>PH: 920-725-8441.<span style="mso-space
 run: yes;">  </span>HR:<span style="mso-spacerun: yes;">  </span>$85 1-bed 
 King or 2-bed dbl. Must mention chess!</span></span></span></p><p class="Ms
 oNormal" style="margin: 0in 0in 0pt;"><span style="font-family: 'Souvenir L
 t BT','serif';"><span style="color: #000000; font-size: medium;"> </span></
 span></p><p class="MsoNormal" style="margin: 0in 0in 0pt;"><span style="fon
 t-size: medium;"><span style="color: #000000;"><strong style="mso-bidi-font
 -weight: normal;"><span style="font-family: 'Souvenir Lt BT','serif';">REGI
 STRATION:</span></strong><span style="font-family: 'Souvenir Lt BT','serif'
 ;"><span style="mso-spacerun: yes;">    </span>10:45 – 11:30 on 8/31.</span
 ></span></span></p><p class="MsoNormal" style="margin: 0in 0in 0pt;"><span 
 style="font-family: 'Souvenir Lt BT','serif';"><span style="color: #000000;
  font-size: medium;"> </span></span></p><p class="MsoNormal" style="margin:
  0in 0in 0pt;"><span style="font-size: medium;"><span style="color: #000000
 ;"><strong style="mso-bidi-font-weight: normal;"><span style="font-family: 
 'Souvenir Lt BT','serif';">ENTRY FEES</span></strong><span style="font-fami
 ly: 'Souvenir Lt BT','serif';">:<span style="mso-spacerun: yes;">    </span
 ><span style="text-decoration: underline;">PREMIER</span> = $40, <span styl
 e="text-decoration: underline;">RESERVE</span> = $25, <span style="text-dec
 oration: underline;">NOVICE</span> = $17 if mailed by AUG 26.<span style="m
 so-spacerun: yes;">  </span>At site, phone, or e-mail EFs are $7 more!<span
  style="mso-spacerun: yes;">  </span>Checks payable to: WCA.</span></span><
 /span></p><p class="MsoNormal" style="margin: 0in 0in 0pt;"><span style="fo
 nt-family: 'Souvenir Lt BT','serif';"><span style="color: #000000; font-siz
 e: medium;"> </span></span></p><p class="MsoNormal" style="margin: 0in 0in 
 0pt;"><span style="font-size: medium;"><span style="color: #000000;"><stron
 g style="mso-bidi-font-weight: normal;"><span style="font-family: 'Souvenir
  Lt BT','serif';">PRIZE FUND:<span style="mso-spacerun: yes;">    </span></
 span></strong><span style="text-decoration: underline;"><span style="font-f
 amily: 'Souvenir Lt BT','serif';">PREMIER</span></span></span></span><span 
 style="font-family: 'Souvenir Lt BT','serif';"><span style="color: #000000;
 "><span style="font-size: medium;"> ($1,400 b/30):<span style="mso-spacerun
 : yes;">  </span>$300-200-150, “A”-$125, “B”/Under - $125.<span style="mso-
 spacerun: yes;">  </span>Trophy and traveling trophy to 1</span><sup><span 
 style="font-size: small;">st</span></sup><span style="font-size: medium;">.
 <span style="mso-spacerun: yes;">  </span><span style="text-decoration: und
 erline;">RESERVE</span>:<span style="mso-spacerun: yes;">  </span>$150-100.
  Trophies to:<span style="mso-spacerun: yes;">  </span></span><span style="
 font-size: medium;">1</span><sup><span style="font-size: small;">st</span><
 /sup><span style="font-size: medium;"> Place + traveling trophy, 2</span><s
 up><span style="font-size: small;">nd</span></sup><span style="font-size: m
 edium;">, best “C”, “D”, “E”/Under, Unrated.<span style="mso-spacerun: yes;
 ">  </span><span style="text-decoration: underline;">NOVICE</span>:<span st
 yle="mso-spacerun: yes;">   </span>Trophies to: <span style="mso-spacerun: 
 yes;">  </span></span><span style="font-size: medium;">1</span><sup><span s
 tyle="font-size: small;">st</span></sup><span style="font-size: medium;">, 
 2</span><sup><span style="font-size: small;">nd</span></sup><span style="fo
 nt-size: medium;">, best 1000, 900, 800, 700 and Under, Unrated. Kittsley P
 rize to biggest upset in the event.</span></span></span></p><p class="MsoNo
 rmal" style="margin: 0in 0in 0pt;"><span style="font-family: 'Souvenir Lt B
 T','serif';"><span style="color: #000000; font-size: medium;"> </span></spa
 n></p><p class="MsoNormal" style="margin: 0in 0in 0pt;"><span style="color:
  #000000;"><span style="font-size: medium;"><strong style="mso-bidi-font-we
 ight: normal;"><span style="font-family: 'Souvenir Lt BT','serif';">ADVANCE
  ENTRIES:</span></strong><span style="font-family: 'Souvenir Lt BT','serif'
 ;"><span style="mso-spacerun: yes;">    </span>2013 WIS Closed, Mike Selig 
 – TD, 2985 W. Fourth #B, Appleton, WI<span style="mso-spacerun: yes;">  </s
 pan>54914-4330.<span style="mso-spacerun: yes;">  </span>TD phone: 920-739-
 7550, E-mail:<span style="mso-spacerun: yes;">  </span></span></span></span
 ><a href="mailto:mselig@tds.net"><span style="font-family: 'Souvenir Lt BT'
 ,'serif';"><span style="text-decoration: underline;"><span style="color: #0
 000ff; font-size: medium;"><span id="cloak7beea7beab71f8caf80fe26a5e3dfdf2"
 >This email address is being protected from spambots. You need JavaScript e
 nabled to view it.</span><script type='text/javascript'>
				document.getEl
 ementById('cloak7beea7beab71f8caf80fe26a5e3dfdf2').innerHTML = '';
				var 
 prefix = '&#109;a' + 'i&#108;' + '&#116;o';
				var path = 'hr' + 'ef' + '=
 ';
				var addy7beea7beab71f8caf80fe26a5e3dfdf2 = 'ms&#101;l&#105;g' + '&#6
 4;';
				addy7beea7beab71f8caf80fe26a5e3dfdf2 = addy7beea7beab71f8caf80fe26
 a5e3dfdf2 + 'tds' + '&#46;' + 'n&#101;t';
				var addy_text7beea7beab71f8ca
 f80fe26a5e3dfdf2 = 'ms&#101;l&#105;g' + '&#64;' + 'tds' + '&#46;' + 'n&#101
 ;t';document.getElementById('cloak7beea7beab71f8caf80fe26a5e3dfdf2').innerH
 TML += '<a ' + path + '\'' + prefix + ':' + addy7beea7beab71f8caf80fe26a5e3
 dfdf2 + '\'>'+addy_text7beea7beab71f8caf80fe26a5e3dfdf2+'<\/a>';
		</script
 ></span></span></span></a><span style="font-family: 'Souvenir Lt BT','serif
 ';"><span style="font-size: medium;"><span style="color: #000000;">.</span>
 </span></span></p><p class="MsoNormal" style="margin: 0in 0in 0pt;"><span s
 tyle="font-family: 'Souvenir Lt BT','serif';"><span style="color: #000000; 
 font-size: medium;"> </span></span></p><div style="border-width: medium med
 ium 1.5pt; border-style: none none solid; border-color: currentColor curren
 tColor windowtext; padding: 0in 0in 1pt; mso-element: para-border-div;"><p 
 class="MsoNormal" style="margin: 0in 0in 0pt; padding: 0in; border: current
 Color; mso-border-bottom-alt: solid windowtext 1.5pt; mso-padding-alt: 0in 
 0in 1.0pt 0in;"><span style="font-size: medium;"><span style="color: #00000
 0;"><strong style="mso-bidi-font-weight: normal;"><span style="font-family:
  'Souvenir Lt BT','serif';">OTHER INFO:</span></strong><span style="font-fa
 mily: 'Souvenir Lt BT','serif';"><span style="mso-spacerun: yes;">   </span
 >2013 WIS Chess Tour event.<span style="mso-spacerun: yes;">  </span>Two ha
 lf-point Byes in any section. Full-point Bye in RD 1 to 2200+ if pre-regist
 ered. Fox River Mall w/183 stores is 4 miles from site!</span></span></span
 ></p><p class="MsoNormal" style="margin: 0in 0in 0pt; padding: 0in; border:
  currentColor; mso-border-bottom-alt: solid windowtext 1.5pt; mso-padding-a
 lt: 0in 0in 1.0pt 0in;"> </p></div>
CONTACT:Mike Selig
DTSTAMP:20260423T021852
DTSTART;TZID=America/Chicago;VALUE=DATE:20130831
DTEND;TZID=America/Chicago;VALUE=DATE:20130903
SEQUENCE:0
TRANSP:OPAQUE
END:VEVENT
END:VCALENDAR