BEGIN:VCALENDAR
VERSION:2.0
PRODID:-//jEvents 2.0 for Joomla//EN
CALSCALE:GREGORIAN
METHOD:PUBLISH
BEGIN:VTIMEZONE
TZID:America/Chicago
BEGIN:STANDARD
DTSTART:20121104T010000
RDATE:20130310T030000
TZOFFSETFROM:-0500
TZOFFSETTO:-0600
TZNAME:America/Chicago CST
END:STANDARD
BEGIN:STANDARD
DTSTART:20131103T010000
RDATE:20140309T030000
TZOFFSETFROM:-0500
TZOFFSETTO:-0600
TZNAME:America/Chicago CST
END:STANDARD
BEGIN:STANDARD
DTSTART:20141102T010000
RDATE:20150308T030000
TZOFFSETFROM:-0500
TZOFFSETTO:-0600
TZNAME:America/Chicago CST
END:STANDARD
BEGIN:STANDARD
DTSTART:20151101T010000
RDATE:20160313T030000
TZOFFSETFROM:-0500
TZOFFSETTO:-0600
TZNAME:America/Chicago CST
END:STANDARD
BEGIN:STANDARD
DTSTART:20161106T010000
RDATE:20170312T030000
TZOFFSETFROM:-0500
TZOFFSETTO:-0600
TZNAME:America/Chicago CST
END:STANDARD
BEGIN:STANDARD
DTSTART:20171105T010000
RDATE:20180311T030000
TZOFFSETFROM:-0500
TZOFFSETTO:-0600
TZNAME:America/Chicago CST
END:STANDARD
BEGIN:STANDARD
DTSTART:20181104T010000
RDATE:20190310T030000
TZOFFSETFROM:-0500
TZOFFSETTO:-0600
TZNAME:America/Chicago CST
END:STANDARD
BEGIN:STANDARD
DTSTART:20191103T010000
RDATE:20200308T030000
TZOFFSETFROM:-0500
TZOFFSETTO:-0600
TZNAME:America/Chicago CST
END:STANDARD
BEGIN:STANDARD
DTSTART:20201101T010000
RDATE:20210314T030000
TZOFFSETFROM:-0500
TZOFFSETTO:-0600
TZNAME:America/Chicago CST
END:STANDARD
BEGIN:STANDARD
DTSTART:20211107T010000
RDATE:20220313T030000
TZOFFSETFROM:-0500
TZOFFSETTO:-0600
TZNAME:America/Chicago CST
END:STANDARD
BEGIN:STANDARD
DTSTART:20221106T010000
RDATE:20230312T030000
TZOFFSETFROM:-0500
TZOFFSETTO:-0600
TZNAME:America/Chicago CST
END:STANDARD
BEGIN:STANDARD
DTSTART:20231105T010000
RDATE:20240310T030000
TZOFFSETFROM:-0500
TZOFFSETTO:-0600
TZNAME:America/Chicago CST
END:STANDARD
BEGIN:STANDARD
DTSTART:20241103T010000
RDATE:20250309T030000
TZOFFSETFROM:-0500
TZOFFSETTO:-0600
TZNAME:America/Chicago CST
END:STANDARD
BEGIN:STANDARD
DTSTART:20251102T010000
RDATE:20260308T030000
TZOFFSETFROM:-0500
TZOFFSETTO:-0600
TZNAME:America/Chicago CST
END:STANDARD
BEGIN:STANDARD
DTSTART:20261101T010000
RDATE:20270314T030000
TZOFFSETFROM:-0500
TZOFFSETTO:-0600
TZNAME:America/Chicago CST
END:STANDARD
BEGIN:STANDARD
DTSTART:20271107T010000
RDATE:20280312T030000
TZOFFSETFROM:-0500
TZOFFSETTO:-0600
TZNAME:America/Chicago CST
END:STANDARD
BEGIN:STANDARD
DTSTART:20281105T010000
RDATE:20290311T030000
TZOFFSETFROM:-0500
TZOFFSETTO:-0600
TZNAME:America/Chicago CST
END:STANDARD
BEGIN:DAYLIGHT
DTSTART:20121101T000000
RDATE:20121104T010000
TZOFFSETFROM:-0600
TZOFFSETTO:-0500
TZNAME:America/Chicago CDT
END:DAYLIGHT
BEGIN:DAYLIGHT
DTSTART:20130310T030000
RDATE:20131103T010000
TZOFFSETFROM:-0600
TZOFFSETTO:-0500
TZNAME:America/Chicago CDT
END:DAYLIGHT
BEGIN:DAYLIGHT
DTSTART:20140309T030000
RDATE:20141102T010000
TZOFFSETFROM:-0600
TZOFFSETTO:-0500
TZNAME:America/Chicago CDT
END:DAYLIGHT
BEGIN:DAYLIGHT
DTSTART:20150308T030000
RDATE:20151101T010000
TZOFFSETFROM:-0600
TZOFFSETTO:-0500
TZNAME:America/Chicago CDT
END:DAYLIGHT
BEGIN:DAYLIGHT
DTSTART:20160313T030000
RDATE:20161106T010000
TZOFFSETFROM:-0600
TZOFFSETTO:-0500
TZNAME:America/Chicago CDT
END:DAYLIGHT
BEGIN:DAYLIGHT
DTSTART:20170312T030000
RDATE:20171105T010000
TZOFFSETFROM:-0600
TZOFFSETTO:-0500
TZNAME:America/Chicago CDT
END:DAYLIGHT
BEGIN:DAYLIGHT
DTSTART:20180311T030000
RDATE:20181104T010000
TZOFFSETFROM:-0600
TZOFFSETTO:-0500
TZNAME:America/Chicago CDT
END:DAYLIGHT
BEGIN:DAYLIGHT
DTSTART:20190310T030000
RDATE:20191103T010000
TZOFFSETFROM:-0600
TZOFFSETTO:-0500
TZNAME:America/Chicago CDT
END:DAYLIGHT
BEGIN:DAYLIGHT
DTSTART:20200308T030000
RDATE:20201101T010000
TZOFFSETFROM:-0600
TZOFFSETTO:-0500
TZNAME:America/Chicago CDT
END:DAYLIGHT
BEGIN:DAYLIGHT
DTSTART:20210314T030000
RDATE:20211107T010000
TZOFFSETFROM:-0600
TZOFFSETTO:-0500
TZNAME:America/Chicago CDT
END:DAYLIGHT
BEGIN:DAYLIGHT
DTSTART:20220313T030000
RDATE:20221106T010000
TZOFFSETFROM:-0600
TZOFFSETTO:-0500
TZNAME:America/Chicago CDT
END:DAYLIGHT
BEGIN:DAYLIGHT
DTSTART:20230312T030000
RDATE:20231105T010000
TZOFFSETFROM:-0600
TZOFFSETTO:-0500
TZNAME:America/Chicago CDT
END:DAYLIGHT
BEGIN:DAYLIGHT
DTSTART:20240310T030000
RDATE:20241103T010000
TZOFFSETFROM:-0600
TZOFFSETTO:-0500
TZNAME:America/Chicago CDT
END:DAYLIGHT
BEGIN:DAYLIGHT
DTSTART:20250309T030000
RDATE:20251102T010000
TZOFFSETFROM:-0600
TZOFFSETTO:-0500
TZNAME:America/Chicago CDT
END:DAYLIGHT
BEGIN:DAYLIGHT
DTSTART:20260308T030000
RDATE:20261101T010000
TZOFFSETFROM:-0600
TZOFFSETTO:-0500
TZNAME:America/Chicago CDT
END:DAYLIGHT
BEGIN:DAYLIGHT
DTSTART:20270314T030000
RDATE:20271107T010000
TZOFFSETFROM:-0600
TZOFFSETTO:-0500
TZNAME:America/Chicago CDT
END:DAYLIGHT
BEGIN:DAYLIGHT
DTSTART:20280312T030000
RDATE:20281105T010000
TZOFFSETFROM:-0600
TZOFFSETTO:-0500
TZNAME:America/Chicago CDT
END:DAYLIGHT
END:VTIMEZONE
BEGIN:VEVENT
UID:5ceaaf782b45c824fd3b19079935a408
CATEGORIES:Tournaments
CREATED:20130710T213106
SUMMARY:WI Junior Open
LOCATION:Gruenhagen Conference Center\, UW-Oshkosh
DESCRIPTION:Gruenhagen Conference Center, UW-Oshkosh, Corner of High and Osceola\nSt. O
 shkosh WI 54901. 2014 Denker/Barber/NGIT qualifier; Open to\nyouth born aft
 er 11/2/1992. In 5 Sections Open: 5SS, G/120; d5, EF:\n$16 in advance by 10
 /29; $21 at site. Trophies: Top 5, Top 3 each\n1500, 1400, 1300, 1200, 1100
 , Under 1100 and Unrated. Reserve\n(Under 1100 or Unrated): 5SS, G/120; d5,
  EF: $15 in advance by\n10/29; $20 at site. Trophies: Top 5, Top 3 each 900
 , 800, 700, 600 and\nUnder 600 and top 4 Unrated. Non-Rated Beginner's Grad
 e 7-12:\n5SS, G/120; d5, Open to Grades 7-12. EF: $12 in advance by 10/29;\
 n$17 at site. Trophies: Top 5 and top 3 Grade 7-9. Non-Rated\nBeginner's Gr
 ade K-6: 5SS, G/120; d5, Open to Grades K-6. EF:\n$11 in advance by 10/29; 
 $16 at site. Trophies: Top 5 and top 3 Grade\nK-3. Girl's Junior Open: 5SS,
  G/120; d5, EF: $15 in advance by 10/\n29; $20 at site. Trophies: Top 3 and
  top ages 15-16, 13-14, 11-12, 9-10\nand Under 9. ALL: Reg: 11/2 8:45-9:30 
 A.M. Rds: 10:15-2:30-7:15; 10:\n00-3:00. HR: $35 Full Service Single or Dou
 ble (dorm room).  $25.50 Student \nService Single or Double (dorm room).  9
 20-424-1106.  Mention .Chess'.\nENT: Mike Nietman, 2 Boca Grande Way, Madis
 on, WI 53719.\nINFO: Mike Nietman, 608-467-8510 (before 11/1) This email ad
 dress is being protected from spambots. You need JavaScript enabled to view
  it.
				document.getElementById('cloak62169195d012088fb4a5a1376ef3b934').i
 nnerHTML = '';
				var prefix = '&amp;#109;a' + 'i&amp;#108;' + '&amp;#116;
 o';
				var path = 'hr' + 'ef' + '=';
				var addy62169195d012088fb4a5a1376
 ef3b934 = 'm&amp;#105;k&amp;#101;.n&amp;#105;&amp;#101;tm&amp;#97;n' + '&am
 p;#64;';
				addy62169195d012088fb4a5a1376ef3b934 = addy62169195d012088fb4a
 5a1376ef3b934 + 'ch&amp;#97;rt&amp;#101;r' + '&amp;#46;' + 'n&amp;#101;t';

 				var addy_text62169195d012088fb4a5a1376ef3b934 = 'm&amp;#105;k&amp;#101;
 .n&amp;#105;&amp;#101;tm&amp;#97;n' + '&amp;#64;' + 'ch&amp;#97;rt&amp;#101
 ;r' + '&amp;#46;' + 'n&amp;#101;t';document.getElementById('cloak62169195d0
 12088fb4a5a1376ef3b934').innerHTML += '&lt;a ' + path + '\'' + prefix + ':'
  + addy62169195d012088fb4a5a1376ef3b934 + '\'&gt;'+addy_text62169195d012088
 fb4a5a1376ef3b934+'&lt;\/a&gt;';
		 (mailto:mike.nietman@charter)\n<a href=
 "http://www.wischess.org/">www.wischess.org</a>. NS NC W.\nFor a full flyer
  e-mail Mike Nietman\n \n
X-ALT-DESC;FMTTYPE=text/html:<p align="LEFT">Gruenhagen Conference Center, UW-Oshkosh, Corner of High an
 d Osceola</p><p>St. Oshkosh WI 54901. 2014 Denker/Barber/NGIT qualifier; Op
 en to</p><p><span style="font-family: BellCentennialStd-Address; font-size:
  medium;"><span style="font-family: BellCentennialStd-Address; font-size: m
 edium;">youth born after 11/2/1992. In 5 Sections </span></span><span style
 ="font-family: BellCentennialStd-NameNum; font-size: large;"><span style="f
 ont-family: BellCentennialStd-NameNum; font-size: large;">Open: </span></sp
 an><span style="font-family: BellCentennialStd-Address; font-size: medium;"
 ><span style="font-family: BellCentennialStd-Address; font-size: medium;">5
 SS, G/120; d5, </span></span><span style="font-family: BellCentennialStd-Na
 meNum; font-size: large;"><span style="font-family: BellCentennialStd-NameN
 um; font-size: large;">EF:</span></span></p><p><span style="font-family: Be
 llCentennialStd-Address; font-size: medium;"><span style="font-family: Bell
 CentennialStd-Address; font-size: medium;">$16 in advance by 10/29; $21 at 
 site. </span></span><span style="font-family: BellCentennialStd-NameNum; fo
 nt-size: large;"><span style="font-family: BellCentennialStd-NameNum; font-
 size: large;">Trophies: </span></span><span style="font-family: BellCentenn
 ialStd-Address; font-size: medium;"><span style="font-family: BellCentennia
 lStd-Address; font-size: medium;">Top 5, Top 3 each</span></span></p><p><sp
 an style="font-family: BellCentennialStd-Address; font-size: medium;"><span
  style="font-family: BellCentennialStd-Address; font-size: medium;">1500, 1
 400, 1300, 1200, 1100, Under 1100 and Unrated. </span></span><span style="f
 ont-family: BellCentennialStd-NameNum; font-size: large;"><span style="font
 -family: BellCentennialStd-NameNum; font-size: large;">Reserve</span></span
 ></p><p><span style="font-family: BellCentennialStd-NameNum; font-size: lar
 ge;"><span style="font-family: BellCentennialStd-NameNum; font-size: large;
 ">(Under 1100 or Unrated): </span></span><span style="font-family: BellCent
 ennialStd-Address; font-size: medium;"><span style="font-family: BellCenten
 nialStd-Address; font-size: medium;">5SS, G/120; d5, </span></span><span st
 yle="font-family: BellCentennialStd-NameNum; font-size: large;"><span style
 ="font-family: BellCentennialStd-NameNum; font-size: large;">EF: </span></s
 pan><span style="font-family: BellCentennialStd-Address; font-size: medium;
 "><span style="font-family: BellCentennialStd-Address; font-size: medium;">
 $15 in advance by</span></span></p><p><span style="font-family: BellCentenn
 ialStd-Address; font-size: medium;"><span style="font-family: BellCentennia
 lStd-Address; font-size: medium;">10/29; $20 at site. </span></span><span s
 tyle="font-family: BellCentennialStd-NameNum; font-size: large;"><span styl
 e="font-family: BellCentennialStd-NameNum; font-size: large;">Trophies: </s
 pan></span><span style="font-family: BellCentennialStd-Address; font-size: 
 medium;"><span style="font-family: BellCentennialStd-Address; font-size: me
 dium;">Top 5, Top 3 each 900, 800, 700, 600 and</span></span></p><p><span s
 tyle="font-family: BellCentennialStd-Address; font-size: medium;"><span sty
 le="font-family: BellCentennialStd-Address; font-size: medium;">Under 600 a
 nd top 4 Unrated. </span></span><span style="font-family: BellCentennialStd
 -NameNum; font-size: large;"><span style="font-family: BellCentennialStd-Na
 meNum; font-size: large;">Non-Rated Beginner's Grade 7-12:</span></span></p
 ><p><span style="font-family: BellCentennialStd-Address; font-size: medium;
 "><span style="font-family: BellCentennialStd-Address; font-size: medium;">
 5SS, G/120; d5, Open to Grades 7-12. </span></span><span style="font-family
 : BellCentennialStd-NameNum; font-size: large;"><span style="font-family: B
 ellCentennialStd-NameNum; font-size: large;">EF: </span></span><span style=
 "font-family: BellCentennialStd-Address; font-size: medium;"><span style="f
 ont-family: BellCentennialStd-Address; font-size: medium;">$12 in advance b
 y 10/29;</span></span></p><p><span style="font-family: BellCentennialStd-Ad
 dress; font-size: medium;"><span style="font-family: BellCentennialStd-Addr
 ess; font-size: medium;">$17 at site. </span></span><span style="font-famil
 y: BellCentennialStd-NameNum; font-size: large;"><span style="font-family: 
 BellCentennialStd-NameNum; font-size: large;">Trophies: </span></span><span
  style="font-family: BellCentennialStd-Address; font-size: medium;"><span s
 tyle="font-family: BellCentennialStd-Address; font-size: medium;">Top 5 and
  top 3 Grade 7-9. </span></span><span style="font-family: BellCentennialStd
 -NameNum; font-size: large;"><span style="font-family: BellCentennialStd-Na
 meNum; font-size: large;">Non-Rated</span></span></p><p><span style="font-f
 amily: BellCentennialStd-NameNum; font-size: large;"><span style="font-fami
 ly: BellCentennialStd-NameNum; font-size: large;">Beginner's Grade K-6: </s
 pan></span><span style="font-family: BellCentennialStd-Address; font-size: 
 medium;"><span style="font-family: BellCentennialStd-Address; font-size: me
 dium;">5SS, G/120; d5, Open to Grades K-6. </span></span><span style="font-
 family: BellCentennialStd-NameNum; font-size: large;"><span style="font-fam
 ily: BellCentennialStd-NameNum; font-size: large;">EF:</span></span></p><p>
 <span style="font-family: BellCentennialStd-Address; font-size: medium;"><s
 pan style="font-family: BellCentennialStd-Address; font-size: medium;">$11 
 in advance by 10/29; $16 at site. </span></span><span style="font-family: B
 ellCentennialStd-NameNum; font-size: large;"><span style="font-family: Bell
 CentennialStd-NameNum; font-size: large;">Trophies: </span></span><span sty
 le="font-family: BellCentennialStd-Address; font-size: medium;"><span style
 ="font-family: BellCentennialStd-Address; font-size: medium;">Top 5 and top
  3 Grade</span></span></p><p><span style="font-family: BellCentennialStd-Ad
 dress; font-size: medium;"><span style="font-family: BellCentennialStd-Addr
 ess; font-size: medium;">K-3. </span></span><span style="font-family: BellC
 entennialStd-NameNum; font-size: large;"><span style="font-family: BellCent
 ennialStd-NameNum; font-size: large;">Girl's Junior Open: </span></span><sp
 an style="font-family: BellCentennialStd-Address; font-size: medium;"><span
  style="font-family: BellCentennialStd-Address; font-size: medium;">5SS, G/
 120; d5, </span></span><span style="font-family: BellCentennialStd-NameNum;
  font-size: large;"><span style="font-family: BellCentennialStd-NameNum; fo
 nt-size: large;">EF: </span></span><span style="font-family: BellCentennial
 Std-Address; font-size: medium;"><span style="font-family: BellCentennialSt
 d-Address; font-size: medium;">$15 in advance by 10/</span></span></p><p><s
 pan style="font-family: BellCentennialStd-Address; font-size: medium;"><spa
 n style="font-family: BellCentennialStd-Address; font-size: medium;">29; $2
 0 at site. </span></span><span style="font-family: BellCentennialStd-NameNu
 m; font-size: large;"><span style="font-family: BellCentennialStd-NameNum; 
 font-size: large;">Trophies: </span></span><span style="font-family: BellCe
 ntennialStd-Address; font-size: medium;"><span style="font-family: BellCent
 ennialStd-Address; font-size: medium;">Top 3 and top ages 15-16, 13-14, 11-
 12, 9-10</span></span></p><p><span style="font-family: BellCentennialStd-Ad
 dress; font-size: medium;"><span style="font-family: BellCentennialStd-Addr
 ess; font-size: medium;">and Under 9. </span></span><span style="font-famil
 y: BellCentennialStd-NameNum; font-size: large;"><span style="font-family: 
 BellCentennialStd-NameNum; font-size: large;">ALL: Reg: </span></span><span
  style="font-family: BellCentennialStd-Address; font-size: medium;"><span s
 tyle="font-family: BellCentennialStd-Address; font-size: medium;">11/2 8:45
 -9:30 A.M. </span></span><span style="font-family: BellCentennialStd-NameNu
 m; font-size: large;"><span style="font-family: BellCentennialStd-NameNum; 
 font-size: large;">Rds: </span></span><span style="font-family: BellCentenn
 ialStd-Address; font-size: medium;"><span style="font-family: BellCentennia
 lStd-Address; font-size: medium;">10:15-2:30-7:15; 10:</span></span></p><p>
 <span style="font-family: BellCentennialStd-Address; font-size: medium;"><s
 pan style="font-family: BellCentennialStd-Address; font-size: medium;">00-3
 :00. HR: $35 Full Service Single or Double (dorm room).  $25.50 Student </s
 pan></span></p><p><span style="font-family: BellCentennialStd-Address; font
 -size: medium;"><span style="font-family: BellCentennialStd-Address; font-s
 ize: medium;">Service Single or Double (dorm room).  920-424-1106.  Mention
  .Chess'.</span></span></p><p><span style="font-family: BellCentennialStd-N
 ameNum; font-size: large;"><span style="font-family: BellCentennialStd-Name
 Num; font-size: large;">ENT: </span></span><span style="font-family: BellCe
 ntennialStd-Address; font-size: medium;"><span style="font-family: BellCent
 ennialStd-Address; font-size: medium;">Mike Nietman, 2 Boca Grande Way, Mad
 ison, WI 53719.</span></span></p><p><span style="font-family: BellCentennia
 lStd-NameNum; font-size: large;"><span style="font-family: BellCentennialSt
 d-NameNum; font-size: large;">INFO: </span></span><span style="font-family:
  BellCentennialStd-Address; font-size: medium;"><span style="font-family: B
 ellCentennialStd-Address; font-size: medium;">Mike Nietman, 608-467-8510 (b
 efore 11/1) <a href="mailto:mike.nietman@charter"><span id="cloak62169195d0
 12088fb4a5a1376ef3b934">This email address is being protected from spambots
 . You need JavaScript enabled to view it.</span><script type='text/javascri
 pt'>
				document.getElementById('cloak62169195d012088fb4a5a1376ef3b934').i
 nnerHTML = '';
				var prefix = '&#109;a' + 'i&#108;' + '&#116;o';
				var 
 path = 'hr' + 'ef' + '=';
				var addy62169195d012088fb4a5a1376ef3b934 = 'm
 &#105;k&#101;.n&#105;&#101;tm&#97;n' + '&#64;';
				addy62169195d012088fb4a
 5a1376ef3b934 = addy62169195d012088fb4a5a1376ef3b934 + 'ch&#97;rt&#101;r' +
  '&#46;' + 'n&#101;t';
				var addy_text62169195d012088fb4a5a1376ef3b934 = 
 'm&#105;k&#101;.n&#105;&#101;tm&#97;n' + '&#64;' + 'ch&#97;rt&#101;r' + '&#
 46;' + 'n&#101;t';document.getElementById('cloak62169195d012088fb4a5a1376ef
 3b934').innerHTML += '<a ' + path + '\'' + prefix + ':' + addy62169195d0120
 88fb4a5a1376ef3b934 + '\'>'+addy_text62169195d012088fb4a5a1376ef3b934+'<\/a
 >';
		</script></a></span></span></p><p><a href="http://www.wischess.org/">
 www.wischess.org</a>. NS NC W.</p><p>For a full flyer e-mail Mike Nietman</
 p><p> </p>
CONTACT:Mike Nietman This email address is being protected from spambots. You need JavaScript enabled to view it.
				document.getElementById('cloak67c17db954f65fdd8d576ece60259769').innerHTML = '';
				var prefix = '&#109;a' + 'i&#108;' + '&#116;o';
				var path = 'hr' + 'ef' + '=';
				var addy67c17db954f65fdd8d576ece60259769 = 'm&#105;k&#101;.n&#105;&#101;tm&#97;n' + '&#64;';
				addy67c17db954f65fdd8d576ece60259769 = addy67c17db954f65fdd8d576ece60259769 + 'ch&#97;rt&#101;r' + '&#46;' + 'n&#101;t';
				var addy_text67c17db954f65fdd8d576ece60259769 = 'm&#105;k&#101;.n&#105;&#101;tm&#97;n' + '&#64;' + 'ch&#97;rt&#101;r' + '&#46;' + 'n&#101;t';document.getElementById('cloak67c17db954f65fdd8d576ece60259769').innerHTML += '<a ' + path + '\'' + prefix + ':' + addy67c17db954f65fdd8d576ece60259769 + '\'>'+addy_text67c17db954f65fdd8d576ece60259769+'';
		
DTSTAMP:20260423T054845
DTSTART;TZID=America/Chicago;VALUE=DATE:20131102
DTEND;TZID=America/Chicago;VALUE=DATE:20131104
SEQUENCE:0
TRANSP:OPAQUE
END:VEVENT
END:VCALENDAR