BEGIN:VCALENDAR
VERSION:2.0
PRODID:-//jEvents 2.0 for Joomla//EN
CALSCALE:GREGORIAN
METHOD:PUBLISH
BEGIN:VTIMEZONE
TZID:America/Chicago
BEGIN:STANDARD
DTSTART:20121104T010000
RDATE:20130310T030000
TZOFFSETFROM:-0500
TZOFFSETTO:-0600
TZNAME:America/Chicago CST
END:STANDARD
BEGIN:STANDARD
DTSTART:20131103T010000
RDATE:20140309T030000
TZOFFSETFROM:-0500
TZOFFSETTO:-0600
TZNAME:America/Chicago CST
END:STANDARD
BEGIN:STANDARD
DTSTART:20141102T010000
RDATE:20150308T030000
TZOFFSETFROM:-0500
TZOFFSETTO:-0600
TZNAME:America/Chicago CST
END:STANDARD
BEGIN:STANDARD
DTSTART:20151101T010000
RDATE:20160313T030000
TZOFFSETFROM:-0500
TZOFFSETTO:-0600
TZNAME:America/Chicago CST
END:STANDARD
BEGIN:STANDARD
DTSTART:20161106T010000
RDATE:20170312T030000
TZOFFSETFROM:-0500
TZOFFSETTO:-0600
TZNAME:America/Chicago CST
END:STANDARD
BEGIN:STANDARD
DTSTART:20171105T010000
RDATE:20180311T030000
TZOFFSETFROM:-0500
TZOFFSETTO:-0600
TZNAME:America/Chicago CST
END:STANDARD
BEGIN:STANDARD
DTSTART:20181104T010000
RDATE:20190310T030000
TZOFFSETFROM:-0500
TZOFFSETTO:-0600
TZNAME:America/Chicago CST
END:STANDARD
BEGIN:STANDARD
DTSTART:20191103T010000
RDATE:20200308T030000
TZOFFSETFROM:-0500
TZOFFSETTO:-0600
TZNAME:America/Chicago CST
END:STANDARD
BEGIN:STANDARD
DTSTART:20201101T010000
RDATE:20210314T030000
TZOFFSETFROM:-0500
TZOFFSETTO:-0600
TZNAME:America/Chicago CST
END:STANDARD
BEGIN:STANDARD
DTSTART:20211107T010000
RDATE:20220313T030000
TZOFFSETFROM:-0500
TZOFFSETTO:-0600
TZNAME:America/Chicago CST
END:STANDARD
BEGIN:STANDARD
DTSTART:20221106T010000
RDATE:20230312T030000
TZOFFSETFROM:-0500
TZOFFSETTO:-0600
TZNAME:America/Chicago CST
END:STANDARD
BEGIN:STANDARD
DTSTART:20231105T010000
RDATE:20240310T030000
TZOFFSETFROM:-0500
TZOFFSETTO:-0600
TZNAME:America/Chicago CST
END:STANDARD
BEGIN:STANDARD
DTSTART:20241103T010000
RDATE:20250309T030000
TZOFFSETFROM:-0500
TZOFFSETTO:-0600
TZNAME:America/Chicago CST
END:STANDARD
BEGIN:STANDARD
DTSTART:20251102T010000
RDATE:20260308T030000
TZOFFSETFROM:-0500
TZOFFSETTO:-0600
TZNAME:America/Chicago CST
END:STANDARD
BEGIN:STANDARD
DTSTART:20261101T010000
RDATE:20270314T030000
TZOFFSETFROM:-0500
TZOFFSETTO:-0600
TZNAME:America/Chicago CST
END:STANDARD
BEGIN:STANDARD
DTSTART:20271107T010000
RDATE:20280312T030000
TZOFFSETFROM:-0500
TZOFFSETTO:-0600
TZNAME:America/Chicago CST
END:STANDARD
BEGIN:STANDARD
DTSTART:20281105T010000
RDATE:20290311T030000
TZOFFSETFROM:-0500
TZOFFSETTO:-0600
TZNAME:America/Chicago CST
END:STANDARD
BEGIN:DAYLIGHT
DTSTART:20121101T000000
RDATE:20121104T010000
TZOFFSETFROM:-0600
TZOFFSETTO:-0500
TZNAME:America/Chicago CDT
END:DAYLIGHT
BEGIN:DAYLIGHT
DTSTART:20130310T030000
RDATE:20131103T010000
TZOFFSETFROM:-0600
TZOFFSETTO:-0500
TZNAME:America/Chicago CDT
END:DAYLIGHT
BEGIN:DAYLIGHT
DTSTART:20140309T030000
RDATE:20141102T010000
TZOFFSETFROM:-0600
TZOFFSETTO:-0500
TZNAME:America/Chicago CDT
END:DAYLIGHT
BEGIN:DAYLIGHT
DTSTART:20150308T030000
RDATE:20151101T010000
TZOFFSETFROM:-0600
TZOFFSETTO:-0500
TZNAME:America/Chicago CDT
END:DAYLIGHT
BEGIN:DAYLIGHT
DTSTART:20160313T030000
RDATE:20161106T010000
TZOFFSETFROM:-0600
TZOFFSETTO:-0500
TZNAME:America/Chicago CDT
END:DAYLIGHT
BEGIN:DAYLIGHT
DTSTART:20170312T030000
RDATE:20171105T010000
TZOFFSETFROM:-0600
TZOFFSETTO:-0500
TZNAME:America/Chicago CDT
END:DAYLIGHT
BEGIN:DAYLIGHT
DTSTART:20180311T030000
RDATE:20181104T010000
TZOFFSETFROM:-0600
TZOFFSETTO:-0500
TZNAME:America/Chicago CDT
END:DAYLIGHT
BEGIN:DAYLIGHT
DTSTART:20190310T030000
RDATE:20191103T010000
TZOFFSETFROM:-0600
TZOFFSETTO:-0500
TZNAME:America/Chicago CDT
END:DAYLIGHT
BEGIN:DAYLIGHT
DTSTART:20200308T030000
RDATE:20201101T010000
TZOFFSETFROM:-0600
TZOFFSETTO:-0500
TZNAME:America/Chicago CDT
END:DAYLIGHT
BEGIN:DAYLIGHT
DTSTART:20210314T030000
RDATE:20211107T010000
TZOFFSETFROM:-0600
TZOFFSETTO:-0500
TZNAME:America/Chicago CDT
END:DAYLIGHT
BEGIN:DAYLIGHT
DTSTART:20220313T030000
RDATE:20221106T010000
TZOFFSETFROM:-0600
TZOFFSETTO:-0500
TZNAME:America/Chicago CDT
END:DAYLIGHT
BEGIN:DAYLIGHT
DTSTART:20230312T030000
RDATE:20231105T010000
TZOFFSETFROM:-0600
TZOFFSETTO:-0500
TZNAME:America/Chicago CDT
END:DAYLIGHT
BEGIN:DAYLIGHT
DTSTART:20240310T030000
RDATE:20241103T010000
TZOFFSETFROM:-0600
TZOFFSETTO:-0500
TZNAME:America/Chicago CDT
END:DAYLIGHT
BEGIN:DAYLIGHT
DTSTART:20250309T030000
RDATE:20251102T010000
TZOFFSETFROM:-0600
TZOFFSETTO:-0500
TZNAME:America/Chicago CDT
END:DAYLIGHT
BEGIN:DAYLIGHT
DTSTART:20260308T030000
RDATE:20261101T010000
TZOFFSETFROM:-0600
TZOFFSETTO:-0500
TZNAME:America/Chicago CDT
END:DAYLIGHT
BEGIN:DAYLIGHT
DTSTART:20270314T030000
RDATE:20271107T010000
TZOFFSETFROM:-0600
TZOFFSETTO:-0500
TZNAME:America/Chicago CDT
END:DAYLIGHT
BEGIN:DAYLIGHT
DTSTART:20280312T030000
RDATE:20281105T010000
TZOFFSETFROM:-0600
TZOFFSETTO:-0500
TZNAME:America/Chicago CDT
END:DAYLIGHT
END:VTIMEZONE
BEGIN:VEVENT
UID:7346049bb33e6327b82093d29a132c4b
CATEGORIES:Tournaments
CREATED:20130710T213217
SUMMARY:WCA Veterans Tournament
LOCATION:Gruenhagen Conference Center\, UW-Oshkosh
DESCRIPTION:5SS, G/120;d5, Gruenhagen Conference Center, UW-Oshkosh, Corner of\nHigh an
 d Osceola St. Oshkosh WI 54901. Open to Age 21 and over.\nEF: $20 by 10/29;
  $25 at site. $$b/40 and 3 per class: $150-90. A-\n$70; B-$60; C-$50; D-$40
 ; E/Unr-$40. Reg: 11/2 8:45-9:30 A.M. Rds:\n10:15-2:30-7:15; 10:00-3:00. He
 ld in conjunction with the WI Junior Open\nbut in a separate room. HR: $35 
 Single or Double (dorm room).  920-424-1106\nMention 'Chess'.  ENT: Mike Ni
 etman, 2 Boca Grande Way,\nMadison, WI 53719. INFO: Mike Nietman, 608-467-8
 510 (evenings before\n11/1) This email address is being protected from spam
 bots. You need JavaScript enabled to view it.
				document.getElementById('
 cloakff08a239ac254922e106fad9f2457026').innerHTML = '';
				var prefix = '&
 #109;a' + 'i&#108;' + '&#116;o';
				var path = 'hr' + 'ef' + '=';
				var 
 addyff08a239ac254922e106fad9f2457026 = 'm&#105;k&#101;.n&#105;&#101;tm&#97;
 n' + '&#64;';
				addyff08a239ac254922e106fad9f2457026 = addyff08a239ac2549
 22e106fad9f2457026 + 'ch&#97;rt&#101;r' + '&#46;' + 'n&#101;t';
				var add
 y_textff08a239ac254922e106fad9f2457026 = 'm&#105;k&#101;.n&#105;&#101;tm&#9
 7;n' + '&#64;' + 'ch&#97;rt&#101;r' + '&#46;' + 'n&#101;t';document.getElem
 entById('cloakff08a239ac254922e106fad9f2457026').innerHTML += '<a ' + path 
 + '\'' + prefix + ':' + addyff08a239ac254922e106fad9f2457026 + '\'>'+addy_t
 extff08a239ac254922e106fad9f2457026+'';
		. www.wischess.org. NS NC W.\nFor
  a full flyer e-mail Mike Nietman\n
X-ALT-DESC;FMTTYPE=text/html:<p>5SS, G/120;d5, Gruenhagen Conference Center, UW-Oshkosh, Corner of</p><p
 >High and Osceola St. Oshkosh WI 54901. Open to Age 21 and over.</p><p><spa
 n style="font-family: BellCentennialStd-NameNum; font-size: large;"><span s
 tyle="font-family: BellCentennialStd-NameNum; font-size: large;">EF: </span
 ></span><span style="font-family: BellCentennialStd-Address; font-size: med
 ium;"><span style="font-family: BellCentennialStd-Address; font-size: mediu
 m;">$20 by 10/29; $25 at site. </span></span><span style="font-family: Bell
 CentennialStd-NameNum; font-size: large;"><span style="font-family: BellCen
 tennialStd-NameNum; font-size: large;">$$b/40 and 3 per class: </span></spa
 n><span style="font-family: BellCentennialStd-Address; font-size: medium;">
 <span style="font-family: BellCentennialStd-Address; font-size: medium;">$1
 50-90. A-</span></span></p><p><span style="font-family: BellCentennialStd-A
 ddress; font-size: medium;"><span style="font-family: BellCentennialStd-Add
 ress; font-size: medium;">$70; B-$60; C-$50; D-$40; E/Unr-$40. </span></spa
 n><span style="font-family: BellCentennialStd-NameNum; font-size: large;"><
 span style="font-family: BellCentennialStd-NameNum; font-size: large;">Reg:
  </span></span><span style="font-family: BellCentennialStd-Address; font-si
 ze: medium;"><span style="font-family: BellCentennialStd-Address; font-size
 : medium;">11/2 8:45-9:30 A.M. </span></span><span style="font-family: Bell
 CentennialStd-NameNum; font-size: large;"><span style="font-family: BellCen
 tennialStd-NameNum; font-size: large;">Rds:</span></span></p><p>10:15-2:30-
 7:15; 10:00-3:00. Held in conjunction with the WI Junior Open</p><p align="
 LEFT"><span style="font-family: BellCentennialStd-Address; font-size: mediu
 m;"><span style="font-family: BellCentennialStd-Address; font-size: medium;
 ">but in a separate room. HR: $35 Single or Double (dorm room).  920-424-11
 06</span></span></p><p align="LEFT"><span style="font-family: BellCentennia
 lStd-Address; font-size: medium;"><span style="font-family: BellCentennialS
 td-Address; font-size: medium;">Mention 'Chess'.  </span></span><span style
 ="font-family: BellCentennialStd-NameNum; font-size: large;"><span style="f
 ont-family: BellCentennialStd-NameNum; font-size: large;">ENT: </span></spa
 n><span style="font-family: BellCentennialStd-Address; font-size: medium;">
 <span style="font-family: BellCentennialStd-Address; font-size: medium;">Mi
 ke Nietman, 2 Boca Grande Way,</span></span></p><p><span style="font-family
 : BellCentennialStd-Address; font-size: medium;"><span style="font-family: 
 BellCentennialStd-Address; font-size: medium;">Madison, WI 53719. </span></
 span><span style="font-family: BellCentennialStd-NameNum; font-size: large;
 "><span style="font-family: BellCentennialStd-NameNum; font-size: large;">I
 NFO: </span></span><span style="font-family: BellCentennialStd-Address; fon
 t-size: medium;"><span style="font-family: BellCentennialStd-Address; font-
 size: medium;">Mike Nietman, 608-467-8510 (evenings before</span></span></p
 ><p>11/1) <span id="cloakff08a239ac254922e106fad9f2457026">This email addre
 ss is being protected from spambots. You need JavaScript enabled to view it
 .</span><script type='text/javascript'>
				document.getElementById('cloakf
 f08a239ac254922e106fad9f2457026').innerHTML = '';
				var prefix = '&#109;a
 ' + 'i&#108;' + '&#116;o';
				var path = 'hr' + 'ef' + '=';
				var addyff
 08a239ac254922e106fad9f2457026 = 'm&#105;k&#101;.n&#105;&#101;tm&#97;n' + '
 &#64;';
				addyff08a239ac254922e106fad9f2457026 = addyff08a239ac254922e106
 fad9f2457026 + 'ch&#97;rt&#101;r' + '&#46;' + 'n&#101;t';
				var addy_text
 ff08a239ac254922e106fad9f2457026 = 'm&#105;k&#101;.n&#105;&#101;tm&#97;n' +
  '&#64;' + 'ch&#97;rt&#101;r' + '&#46;' + 'n&#101;t';document.getElementByI
 d('cloakff08a239ac254922e106fad9f2457026').innerHTML += '<a ' + path + '\''
  + prefix + ':' + addyff08a239ac254922e106fad9f2457026 + '\'>'+addy_textff0
 8a239ac254922e106fad9f2457026+'<\/a>';
		</script>. www.wischess.org. NS NC
  W.</p><p>For a full flyer e-mail Mike Nietman</p>
CONTACT:Mike Nietman This email address is being protected from spambots. You need JavaScript enabled to view it.
				document.getElementById('cloakf125fd85b95f0789861938ae9df65952').innerHTML = '';
				var prefix = '&#109;a' + 'i&#108;' + '&#116;o';
				var path = 'hr' + 'ef' + '=';
				var addyf125fd85b95f0789861938ae9df65952 = 'm&#105;k&#101;.n&#105;&#101;tm&#97;n' + '&#64;';
				addyf125fd85b95f0789861938ae9df65952 = addyf125fd85b95f0789861938ae9df65952 + 'ch&#97;rt&#101;r' + '&#46;' + 'n&#101;t';
				var addy_textf125fd85b95f0789861938ae9df65952 = 'm&#105;k&#101;.n&#105;&#101;tm&#97;n' + '&#64;' + 'ch&#97;rt&#101;r' + '&#46;' + 'n&#101;t';document.getElementById('cloakf125fd85b95f0789861938ae9df65952').innerHTML += '<a ' + path + '\'' + prefix + ':' + addyf125fd85b95f0789861938ae9df65952 + '\'>'+addy_textf125fd85b95f0789861938ae9df65952+'';
		
DTSTAMP:20260423T041229
DTSTART;TZID=America/Chicago;VALUE=DATE:20131102
DTEND;TZID=America/Chicago;VALUE=DATE:20131104
SEQUENCE:0
TRANSP:OPAQUE
END:VEVENT
END:VCALENDAR