BEGIN:VCALENDAR
VERSION:2.0
PRODID:-//jEvents 2.0 for Joomla//EN
CALSCALE:GREGORIAN
METHOD:PUBLISH
BEGIN:VTIMEZONE
TZID:America/Chicago
BEGIN:STANDARD
DTSTART:20121213T000000
RDATE:20130310T030000
TZOFFSETFROM:-0500
TZOFFSETTO:-0600
TZNAME:America/Chicago CST
END:STANDARD
BEGIN:STANDARD
DTSTART:20131103T010000
RDATE:20140309T030000
TZOFFSETFROM:-0500
TZOFFSETTO:-0600
TZNAME:America/Chicago CST
END:STANDARD
BEGIN:STANDARD
DTSTART:20141102T010000
RDATE:20150308T030000
TZOFFSETFROM:-0500
TZOFFSETTO:-0600
TZNAME:America/Chicago CST
END:STANDARD
BEGIN:STANDARD
DTSTART:20151101T010000
RDATE:20160313T030000
TZOFFSETFROM:-0500
TZOFFSETTO:-0600
TZNAME:America/Chicago CST
END:STANDARD
BEGIN:STANDARD
DTSTART:20161106T010000
RDATE:20170312T030000
TZOFFSETFROM:-0500
TZOFFSETTO:-0600
TZNAME:America/Chicago CST
END:STANDARD
BEGIN:STANDARD
DTSTART:20171105T010000
RDATE:20180311T030000
TZOFFSETFROM:-0500
TZOFFSETTO:-0600
TZNAME:America/Chicago CST
END:STANDARD
BEGIN:STANDARD
DTSTART:20181104T010000
RDATE:20190310T030000
TZOFFSETFROM:-0500
TZOFFSETTO:-0600
TZNAME:America/Chicago CST
END:STANDARD
BEGIN:STANDARD
DTSTART:20191103T010000
RDATE:20200308T030000
TZOFFSETFROM:-0500
TZOFFSETTO:-0600
TZNAME:America/Chicago CST
END:STANDARD
BEGIN:STANDARD
DTSTART:20201101T010000
RDATE:20210314T030000
TZOFFSETFROM:-0500
TZOFFSETTO:-0600
TZNAME:America/Chicago CST
END:STANDARD
BEGIN:STANDARD
DTSTART:20211107T010000
RDATE:20220313T030000
TZOFFSETFROM:-0500
TZOFFSETTO:-0600
TZNAME:America/Chicago CST
END:STANDARD
BEGIN:STANDARD
DTSTART:20221106T010000
RDATE:20230312T030000
TZOFFSETFROM:-0500
TZOFFSETTO:-0600
TZNAME:America/Chicago CST
END:STANDARD
BEGIN:STANDARD
DTSTART:20231105T010000
RDATE:20240310T030000
TZOFFSETFROM:-0500
TZOFFSETTO:-0600
TZNAME:America/Chicago CST
END:STANDARD
BEGIN:STANDARD
DTSTART:20241103T010000
RDATE:20250309T030000
TZOFFSETFROM:-0500
TZOFFSETTO:-0600
TZNAME:America/Chicago CST
END:STANDARD
BEGIN:STANDARD
DTSTART:20251102T010000
RDATE:20260308T030000
TZOFFSETFROM:-0500
TZOFFSETTO:-0600
TZNAME:America/Chicago CST
END:STANDARD
BEGIN:STANDARD
DTSTART:20261101T010000
RDATE:20270314T030000
TZOFFSETFROM:-0500
TZOFFSETTO:-0600
TZNAME:America/Chicago CST
END:STANDARD
BEGIN:STANDARD
DTSTART:20271107T010000
RDATE:20280312T030000
TZOFFSETFROM:-0500
TZOFFSETTO:-0600
TZNAME:America/Chicago CST
END:STANDARD
BEGIN:STANDARD
DTSTART:20281105T010000
RDATE:20290311T030000
TZOFFSETFROM:-0500
TZOFFSETTO:-0600
TZNAME:America/Chicago CST
END:STANDARD
BEGIN:DAYLIGHT
DTSTART:20130310T030000
RDATE:20131103T010000
TZOFFSETFROM:-0600
TZOFFSETTO:-0500
TZNAME:America/Chicago CDT
END:DAYLIGHT
BEGIN:DAYLIGHT
DTSTART:20140309T030000
RDATE:20141102T010000
TZOFFSETFROM:-0600
TZOFFSETTO:-0500
TZNAME:America/Chicago CDT
END:DAYLIGHT
BEGIN:DAYLIGHT
DTSTART:20150308T030000
RDATE:20151101T010000
TZOFFSETFROM:-0600
TZOFFSETTO:-0500
TZNAME:America/Chicago CDT
END:DAYLIGHT
BEGIN:DAYLIGHT
DTSTART:20160313T030000
RDATE:20161106T010000
TZOFFSETFROM:-0600
TZOFFSETTO:-0500
TZNAME:America/Chicago CDT
END:DAYLIGHT
BEGIN:DAYLIGHT
DTSTART:20170312T030000
RDATE:20171105T010000
TZOFFSETFROM:-0600
TZOFFSETTO:-0500
TZNAME:America/Chicago CDT
END:DAYLIGHT
BEGIN:DAYLIGHT
DTSTART:20180311T030000
RDATE:20181104T010000
TZOFFSETFROM:-0600
TZOFFSETTO:-0500
TZNAME:America/Chicago CDT
END:DAYLIGHT
BEGIN:DAYLIGHT
DTSTART:20190310T030000
RDATE:20191103T010000
TZOFFSETFROM:-0600
TZOFFSETTO:-0500
TZNAME:America/Chicago CDT
END:DAYLIGHT
BEGIN:DAYLIGHT
DTSTART:20200308T030000
RDATE:20201101T010000
TZOFFSETFROM:-0600
TZOFFSETTO:-0500
TZNAME:America/Chicago CDT
END:DAYLIGHT
BEGIN:DAYLIGHT
DTSTART:20210314T030000
RDATE:20211107T010000
TZOFFSETFROM:-0600
TZOFFSETTO:-0500
TZNAME:America/Chicago CDT
END:DAYLIGHT
BEGIN:DAYLIGHT
DTSTART:20220313T030000
RDATE:20221106T010000
TZOFFSETFROM:-0600
TZOFFSETTO:-0500
TZNAME:America/Chicago CDT
END:DAYLIGHT
BEGIN:DAYLIGHT
DTSTART:20230312T030000
RDATE:20231105T010000
TZOFFSETFROM:-0600
TZOFFSETTO:-0500
TZNAME:America/Chicago CDT
END:DAYLIGHT
BEGIN:DAYLIGHT
DTSTART:20240310T030000
RDATE:20241103T010000
TZOFFSETFROM:-0600
TZOFFSETTO:-0500
TZNAME:America/Chicago CDT
END:DAYLIGHT
BEGIN:DAYLIGHT
DTSTART:20250309T030000
RDATE:20251102T010000
TZOFFSETFROM:-0600
TZOFFSETTO:-0500
TZNAME:America/Chicago CDT
END:DAYLIGHT
BEGIN:DAYLIGHT
DTSTART:20260308T030000
RDATE:20261101T010000
TZOFFSETFROM:-0600
TZOFFSETTO:-0500
TZNAME:America/Chicago CDT
END:DAYLIGHT
BEGIN:DAYLIGHT
DTSTART:20270314T030000
RDATE:20271107T010000
TZOFFSETFROM:-0600
TZOFFSETTO:-0500
TZNAME:America/Chicago CDT
END:DAYLIGHT
BEGIN:DAYLIGHT
DTSTART:20280312T030000
RDATE:20281105T010000
TZOFFSETFROM:-0600
TZOFFSETTO:-0500
TZNAME:America/Chicago CDT
END:DAYLIGHT
END:VTIMEZONE
BEGIN:VEVENT
UID:8317c29e28672f6b8e4ac81d9dc5eaf5
CATEGORIES:Tour Events
CREATED:20130710T213539
SUMMARY:The Wisconsin Memorial
LOCATION:Union South\, UW-Madison
DESCRIPTION:5SS, 45/120,SD/60 d5.Union South, 1308 W. Dayton St., Madison, WI 53715. Ho
 tel rate: $130.00 EF: $22 (Juniors $18) by Dec. 10. $3 more later $$ b/50 a
 nd 4 per class: $160-110. A - $90, B - $80, C - $70, D - $60, E - $50, U100
 0 - $40, Unr - $40. Upset $50. Reg.: 9-9:30 AM 12/14. Rds.: 10-2:30-7:30; 1
 0-3:30. ENT: Dennis Kosterman, 28 Singleton Ct., Madison, WI 53711, 608-770
 -3133. INFO: This email address is being protected from spambots. You need 
 JavaScript enabled to view it.
				document.getElementById('cloak05372b370b
 8e6502c11e66cfc79eae3f').innerHTML = '';
				var prefix = '&#109;a' + 'i&#1
 08;' + '&#116;o';
				var path = 'hr' + 'ef' + '=';
				var addy05372b370b8
 e6502c11e66cfc79eae3f = 'd&#101;nn&#105;sk' + '&#64;';
				addy05372b370b8e
 6502c11e66cfc79eae3f = addy05372b370b8e6502c11e66cfc79eae3f + 'tds' + '&#46
 ;' + 'n&#101;t';
				var addy_text05372b370b8e6502c11e66cfc79eae3f = 'd&#10
 1;nn&#105;sk' + '&#64;' + 'tds' + '&#46;' + 'n&#101;t';document.getElementB
 yId('cloak05372b370b8e6502c11e66cfc79eae3f').innerHTML += '<a ' + path + '\
 '' + prefix + ':' + addy05372b370b8e6502c11e66cfc79eae3f + '\'>'+addy_text0
 5372b370b8e6502c11e66cfc79eae3f+'';
		. www.wischess. org. WI Chess Tour Ev
 ent.  Checks payable to WCA.  NS. NC. W.\n
X-ALT-DESC;FMTTYPE=text/html:<p>5SS, 45/120,SD/60 d5.Union South, 1308 W. Dayton St., Madison, WI 53715.
  Hotel rate: $130.00 EF: $22 (Juniors $18) by Dec. 10. $3 more later $$ b/5
 0 and 4 per class: $160-110. A - $90, B - $80, C - $70, D - $60, E - $50, U
 1000 - $40, Unr - $40. Upset $50. Reg.: 9-9:30 AM 12/14. Rds.: 10-2:30-7:30
 ; 10-3:30. ENT: Dennis Kosterman, 28 Singleton Ct., Madison, WI 53711, 608-
 770-3133. INFO: <span id="cloak05372b370b8e6502c11e66cfc79eae3f">This email
  address is being protected from spambots. You need JavaScript enabled to v
 iew it.</span><script type='text/javascript'>
				document.getElementById('
 cloak05372b370b8e6502c11e66cfc79eae3f').innerHTML = '';
				var prefix = '&
 #109;a' + 'i&#108;' + '&#116;o';
				var path = 'hr' + 'ef' + '=';
				var 
 addy05372b370b8e6502c11e66cfc79eae3f = 'd&#101;nn&#105;sk' + '&#64;';
				a
 ddy05372b370b8e6502c11e66cfc79eae3f = addy05372b370b8e6502c11e66cfc79eae3f 
 + 'tds' + '&#46;' + 'n&#101;t';
				var addy_text05372b370b8e6502c11e66cfc7
 9eae3f = 'd&#101;nn&#105;sk' + '&#64;' + 'tds' + '&#46;' + 'n&#101;t';docum
 ent.getElementById('cloak05372b370b8e6502c11e66cfc79eae3f').innerHTML += '<
 a ' + path + '\'' + prefix + ':' + addy05372b370b8e6502c11e66cfc79eae3f + '
 \'>'+addy_text05372b370b8e6502c11e66cfc79eae3f+'<\/a>';
		</script>. www.wi
 schess. org. WI Chess Tour Event.  Checks payable to WCA.  NS. NC. W.</p>
CONTACT:Dennis Kosterman
DTSTAMP:20260423T010350
DTSTART;TZID=America/Chicago;VALUE=DATE:20131214
DTEND;TZID=America/Chicago;VALUE=DATE:20131216
SEQUENCE:0
TRANSP:OPAQUE
END:VEVENT
END:VCALENDAR