BEGIN:VCALENDAR
VERSION:2.0
PRODID:-//jEvents 2.0 for Joomla//EN
CALSCALE:GREGORIAN
METHOD:PUBLISH
BEGIN:VTIMEZONE
TZID:America/Chicago
BEGIN:STANDARD
DTSTART:20121104T010000
RDATE:20130310T030000
TZOFFSETFROM:-0500
TZOFFSETTO:-0600
TZNAME:America/Chicago CST
END:STANDARD
BEGIN:STANDARD
DTSTART:20131103T010000
RDATE:20140309T030000
TZOFFSETFROM:-0500
TZOFFSETTO:-0600
TZNAME:America/Chicago CST
END:STANDARD
BEGIN:STANDARD
DTSTART:20141102T010000
RDATE:20150308T030000
TZOFFSETFROM:-0500
TZOFFSETTO:-0600
TZNAME:America/Chicago CST
END:STANDARD
BEGIN:STANDARD
DTSTART:20151101T010000
RDATE:20160313T030000
TZOFFSETFROM:-0500
TZOFFSETTO:-0600
TZNAME:America/Chicago CST
END:STANDARD
BEGIN:STANDARD
DTSTART:20161106T010000
RDATE:20170312T030000
TZOFFSETFROM:-0500
TZOFFSETTO:-0600
TZNAME:America/Chicago CST
END:STANDARD
BEGIN:STANDARD
DTSTART:20171105T010000
RDATE:20180311T030000
TZOFFSETFROM:-0500
TZOFFSETTO:-0600
TZNAME:America/Chicago CST
END:STANDARD
BEGIN:STANDARD
DTSTART:20181104T010000
RDATE:20190310T030000
TZOFFSETFROM:-0500
TZOFFSETTO:-0600
TZNAME:America/Chicago CST
END:STANDARD
BEGIN:STANDARD
DTSTART:20191103T010000
RDATE:20200308T030000
TZOFFSETFROM:-0500
TZOFFSETTO:-0600
TZNAME:America/Chicago CST
END:STANDARD
BEGIN:STANDARD
DTSTART:20201101T010000
RDATE:20210314T030000
TZOFFSETFROM:-0500
TZOFFSETTO:-0600
TZNAME:America/Chicago CST
END:STANDARD
BEGIN:STANDARD
DTSTART:20211107T010000
RDATE:20220313T030000
TZOFFSETFROM:-0500
TZOFFSETTO:-0600
TZNAME:America/Chicago CST
END:STANDARD
BEGIN:STANDARD
DTSTART:20221106T010000
RDATE:20230312T030000
TZOFFSETFROM:-0500
TZOFFSETTO:-0600
TZNAME:America/Chicago CST
END:STANDARD
BEGIN:STANDARD
DTSTART:20231105T010000
RDATE:20240310T030000
TZOFFSETFROM:-0500
TZOFFSETTO:-0600
TZNAME:America/Chicago CST
END:STANDARD
BEGIN:STANDARD
DTSTART:20241103T010000
RDATE:20250309T030000
TZOFFSETFROM:-0500
TZOFFSETTO:-0600
TZNAME:America/Chicago CST
END:STANDARD
BEGIN:STANDARD
DTSTART:20251102T010000
RDATE:20260308T030000
TZOFFSETFROM:-0500
TZOFFSETTO:-0600
TZNAME:America/Chicago CST
END:STANDARD
BEGIN:STANDARD
DTSTART:20261101T010000
RDATE:20270314T030000
TZOFFSETFROM:-0500
TZOFFSETTO:-0600
TZNAME:America/Chicago CST
END:STANDARD
BEGIN:STANDARD
DTSTART:20271107T010000
RDATE:20280312T030000
TZOFFSETFROM:-0500
TZOFFSETTO:-0600
TZNAME:America/Chicago CST
END:STANDARD
BEGIN:STANDARD
DTSTART:20281105T010000
RDATE:20290311T030000
TZOFFSETFROM:-0500
TZOFFSETTO:-0600
TZNAME:America/Chicago CST
END:STANDARD
BEGIN:DAYLIGHT
DTSTART:20120816T080000
RDATE:20121104T010000
TZOFFSETFROM:-0600
TZOFFSETTO:-0500
TZNAME:America/Chicago CDT
END:DAYLIGHT
BEGIN:DAYLIGHT
DTSTART:20130310T030000
RDATE:20131103T010000
TZOFFSETFROM:-0600
TZOFFSETTO:-0500
TZNAME:America/Chicago CDT
END:DAYLIGHT
BEGIN:DAYLIGHT
DTSTART:20140309T030000
RDATE:20141102T010000
TZOFFSETFROM:-0600
TZOFFSETTO:-0500
TZNAME:America/Chicago CDT
END:DAYLIGHT
BEGIN:DAYLIGHT
DTSTART:20150308T030000
RDATE:20151101T010000
TZOFFSETFROM:-0600
TZOFFSETTO:-0500
TZNAME:America/Chicago CDT
END:DAYLIGHT
BEGIN:DAYLIGHT
DTSTART:20160313T030000
RDATE:20161106T010000
TZOFFSETFROM:-0600
TZOFFSETTO:-0500
TZNAME:America/Chicago CDT
END:DAYLIGHT
BEGIN:DAYLIGHT
DTSTART:20170312T030000
RDATE:20171105T010000
TZOFFSETFROM:-0600
TZOFFSETTO:-0500
TZNAME:America/Chicago CDT
END:DAYLIGHT
BEGIN:DAYLIGHT
DTSTART:20180311T030000
RDATE:20181104T010000
TZOFFSETFROM:-0600
TZOFFSETTO:-0500
TZNAME:America/Chicago CDT
END:DAYLIGHT
BEGIN:DAYLIGHT
DTSTART:20190310T030000
RDATE:20191103T010000
TZOFFSETFROM:-0600
TZOFFSETTO:-0500
TZNAME:America/Chicago CDT
END:DAYLIGHT
BEGIN:DAYLIGHT
DTSTART:20200308T030000
RDATE:20201101T010000
TZOFFSETFROM:-0600
TZOFFSETTO:-0500
TZNAME:America/Chicago CDT
END:DAYLIGHT
BEGIN:DAYLIGHT
DTSTART:20210314T030000
RDATE:20211107T010000
TZOFFSETFROM:-0600
TZOFFSETTO:-0500
TZNAME:America/Chicago CDT
END:DAYLIGHT
BEGIN:DAYLIGHT
DTSTART:20220313T030000
RDATE:20221106T010000
TZOFFSETFROM:-0600
TZOFFSETTO:-0500
TZNAME:America/Chicago CDT
END:DAYLIGHT
BEGIN:DAYLIGHT
DTSTART:20230312T030000
RDATE:20231105T010000
TZOFFSETFROM:-0600
TZOFFSETTO:-0500
TZNAME:America/Chicago CDT
END:DAYLIGHT
BEGIN:DAYLIGHT
DTSTART:20240310T030000
RDATE:20241103T010000
TZOFFSETFROM:-0600
TZOFFSETTO:-0500
TZNAME:America/Chicago CDT
END:DAYLIGHT
BEGIN:DAYLIGHT
DTSTART:20250309T030000
RDATE:20251102T010000
TZOFFSETFROM:-0600
TZOFFSETTO:-0500
TZNAME:America/Chicago CDT
END:DAYLIGHT
BEGIN:DAYLIGHT
DTSTART:20260308T030000
RDATE:20261101T010000
TZOFFSETFROM:-0600
TZOFFSETTO:-0500
TZNAME:America/Chicago CDT
END:DAYLIGHT
BEGIN:DAYLIGHT
DTSTART:20270314T030000
RDATE:20271107T010000
TZOFFSETFROM:-0600
TZOFFSETTO:-0500
TZNAME:America/Chicago CDT
END:DAYLIGHT
BEGIN:DAYLIGHT
DTSTART:20280312T030000
RDATE:20281105T010000
TZOFFSETFROM:-0600
TZOFFSETTO:-0500
TZNAME:America/Chicago CDT
END:DAYLIGHT
END:VTIMEZONE
BEGIN:VEVENT
UID:293741267013d6d5ca0a5bcf143dc17c
CATEGORIES:Tour Events
CREATED:20130722T154553
SUMMARY:3rd Annual BC Open
LOCATION:Country Springs Hotel 2810 Golf RD\, Pewaukee\, WI 53072
DESCRIPTION:<p class="heading2" style="margin: 0pt 0px; padding: 0pt 0px; font-family: 
 sans-serif; text-align: justify; font-size: 1.25em; font-weight: bold; colo
 r: #a00000; line-height: 19.953125px;"><strong style="margin: 0px; padding:
  0px; font-size: 0.75em; color: red; text-transform: uppercase;">AUG. 17</s
 trong>   BC Open</p><p class="listing" style="margin: 0pt 0px 0.5em; paddin
 g: 0pt 0px; font-family: serif; text-align: justify; color: #000000; line-h
 eight: 19.953125px;">4SS. COUNTRY SPRINGS HOTEL, <a href="http://www.countr
 yspringshotel.com/" target="_blank" style="margin: 0px; padding: 0px; color
 : #2f7b8f;">www.countryspringshotel.com</a>/, 2810 GOLF RD., PEWAUKEE, WI 5
 3072. <strong style="margin: 0px; padding: 0px;">Onsite</strong> <strong st
 yle="margin: 0px; padding: 0px;">Registration:</strong> 8:30am-9:30am. <str
 ong style="margin: 0px; padding: 0px;">EF:</strong> $32 Open, $22 Reserve(U
 1600), $12 RBO(U1000) by 8-15. After 8-15 is $3 more. $5 discount to Junior
 s and new members in Open and Reserve Section. <strong style="margin: 0px; 
 padding: 0px;">TC:</strong> G/60 d5. <strong style="margin: 0px; padding: 0
 px;">Rds.:</strong>10-1-3:30-6. <strong style="margin: 0px; padding: 0px;">
 Prizes:</strong> <strong style="margin: 0px; padding: 0px;">Open:</strong> 
 1st $300, 2nd $175, A $90, U1800 $90. <strong style="margin: 0px; padding: 
 0px;">Reserve(U1600):</strong> 1st $80, 2nd $65, D $50, U1200 $50. <strong 
 style="margin: 0px; padding: 0px;">RBO(U1000):</strong> Trophies to top 2,1
 st U500. <strong style="margin: 0px; padding: 0px;">Advance Entries to:</st
 rong> (Make check payable to Benzochess) Dennis J. Kosterman, 28 Singleton 
 Ct., Madison, WI 53711. <strong style="margin: 0px; padding: 0px;">Q's&A's:
 </strong> <span id="cloak051c3e1b9098b9b74a7d46271d644350">This email addre
 ss is being protected from spambots. You need JavaScript enabled to view it
 .</span><script type='text/javascript'>
				document.getElementById('cloak0
 51c3e1b9098b9b74a7d46271d644350').innerHTML = '';
				var prefix = '&#109;a
 ' + 'i&#108;' + '&#116;o';
				var path = 'hr' + 'ef' + '=';
				var addy05
 1c3e1b9098b9b74a7d46271d644350 = 'd&#101;nn&#105;sk' + '&#64;';
				addy051
 c3e1b9098b9b74a7d46271d644350 = addy051c3e1b9098b9b74a7d46271d644350 + 'tds
 ' + '&#46;' + 'n&#101;t';
				var addy_text051c3e1b9098b9b74a7d46271d644350
  = 'd&#101;nn&#105;sk' + '&#64;' + 'tds' + '&#46;' + 'n&#101;t';document.ge
 tElementById('cloak051c3e1b9098b9b74a7d46271d644350').innerHTML += '<a ' + 
 path + '\'' + prefix + ':' + addy051c3e1b9098b9b74a7d46271d644350 + '\'>'+a
 ddy_text051c3e1b9098b9b74a7d46271d644350+'<\/a>';
		</script> or 608-770-31
 33. <strong style="margin: 0px; padding: 0px;">Info:</strong> <a href="http
 ://www.benzochess.com/" target="_blank" style="margin: 0px; padding: 0px; c
 olor: #2f7b8f;">www.benzochess.com</a>.</p>
CONTACT:Dennis Kosterman This email address is being protected from spambots. You need JavaScript enabled to view it.
				document.getElementById('cloak6247f5541770f85e3cfa9c1d8806d9e0').innerHTML = '';
				var prefix = '&#109;a' + 'i&#108;' + '&#116;o';
				var path = 'hr' + 'ef' + '=';
				var addy6247f5541770f85e3cfa9c1d8806d9e0 = 'd&#101;nn&#105;sk' + '&#64;';
				addy6247f5541770f85e3cfa9c1d8806d9e0 = addy6247f5541770f85e3cfa9c1d8806d9e0 + 'tds' + '&#46;' + 'n&#101;t';
				var addy_text6247f5541770f85e3cfa9c1d8806d9e0 = 'd&#101;nn&#105;sk' + '&#64;' + 'tds' + '&#46;' + 'n&#101;t';document.getElementById('cloak6247f5541770f85e3cfa9c1d8806d9e0').innerHTML += '<a ' + path + '\'' + prefix + ':' + addy6247f5541770f85e3cfa9c1d8806d9e0 + '\'>'+addy_text6247f5541770f85e3cfa9c1d8806d9e0+'';
		 or 608-770-3133
DTSTAMP:20260423T022747
DTSTART;TZID=America/Chicago:20130817T080000
DTEND;TZID=America/Chicago:20130817T210000
SEQUENCE:0
TRANSP:OPAQUE
END:VEVENT
END:VCALENDAR