BEGIN:VCALENDAR
VERSION:2.0
PRODID:-//jEvents 2.0 for Joomla//EN
CALSCALE:GREGORIAN
METHOD:PUBLISH
BEGIN:VTIMEZONE
TZID:America/Chicago
BEGIN:STANDARD
DTSTART:20121104T010000
RDATE:20130310T030000
TZOFFSETFROM:-0500
TZOFFSETTO:-0600
TZNAME:America/Chicago CST
END:STANDARD
BEGIN:STANDARD
DTSTART:20131103T010000
RDATE:20140309T030000
TZOFFSETFROM:-0500
TZOFFSETTO:-0600
TZNAME:America/Chicago CST
END:STANDARD
BEGIN:STANDARD
DTSTART:20141102T010000
RDATE:20150308T030000
TZOFFSETFROM:-0500
TZOFFSETTO:-0600
TZNAME:America/Chicago CST
END:STANDARD
BEGIN:STANDARD
DTSTART:20151101T010000
RDATE:20160313T030000
TZOFFSETFROM:-0500
TZOFFSETTO:-0600
TZNAME:America/Chicago CST
END:STANDARD
BEGIN:STANDARD
DTSTART:20161106T010000
RDATE:20170312T030000
TZOFFSETFROM:-0500
TZOFFSETTO:-0600
TZNAME:America/Chicago CST
END:STANDARD
BEGIN:STANDARD
DTSTART:20171105T010000
RDATE:20180311T030000
TZOFFSETFROM:-0500
TZOFFSETTO:-0600
TZNAME:America/Chicago CST
END:STANDARD
BEGIN:STANDARD
DTSTART:20181104T010000
RDATE:20190310T030000
TZOFFSETFROM:-0500
TZOFFSETTO:-0600
TZNAME:America/Chicago CST
END:STANDARD
BEGIN:STANDARD
DTSTART:20191103T010000
RDATE:20200308T030000
TZOFFSETFROM:-0500
TZOFFSETTO:-0600
TZNAME:America/Chicago CST
END:STANDARD
BEGIN:STANDARD
DTSTART:20201101T010000
RDATE:20210314T030000
TZOFFSETFROM:-0500
TZOFFSETTO:-0600
TZNAME:America/Chicago CST
END:STANDARD
BEGIN:STANDARD
DTSTART:20211107T010000
RDATE:20220313T030000
TZOFFSETFROM:-0500
TZOFFSETTO:-0600
TZNAME:America/Chicago CST
END:STANDARD
BEGIN:STANDARD
DTSTART:20221106T010000
RDATE:20230312T030000
TZOFFSETFROM:-0500
TZOFFSETTO:-0600
TZNAME:America/Chicago CST
END:STANDARD
BEGIN:STANDARD
DTSTART:20231105T010000
RDATE:20240310T030000
TZOFFSETFROM:-0500
TZOFFSETTO:-0600
TZNAME:America/Chicago CST
END:STANDARD
BEGIN:STANDARD
DTSTART:20241103T010000
RDATE:20250309T030000
TZOFFSETFROM:-0500
TZOFFSETTO:-0600
TZNAME:America/Chicago CST
END:STANDARD
BEGIN:STANDARD
DTSTART:20251102T010000
RDATE:20260308T030000
TZOFFSETFROM:-0500
TZOFFSETTO:-0600
TZNAME:America/Chicago CST
END:STANDARD
BEGIN:STANDARD
DTSTART:20261101T010000
RDATE:20270314T030000
TZOFFSETFROM:-0500
TZOFFSETTO:-0600
TZNAME:America/Chicago CST
END:STANDARD
BEGIN:STANDARD
DTSTART:20271107T010000
RDATE:20280312T030000
TZOFFSETFROM:-0500
TZOFFSETTO:-0600
TZNAME:America/Chicago CST
END:STANDARD
BEGIN:STANDARD
DTSTART:20281105T010000
RDATE:20290311T030000
TZOFFSETFROM:-0500
TZOFFSETTO:-0600
TZNAME:America/Chicago CST
END:STANDARD
BEGIN:DAYLIGHT
DTSTART:20120913T080000
RDATE:20121104T010000
TZOFFSETFROM:-0600
TZOFFSETTO:-0500
TZNAME:America/Chicago CDT
END:DAYLIGHT
BEGIN:DAYLIGHT
DTSTART:20130310T030000
RDATE:20131103T010000
TZOFFSETFROM:-0600
TZOFFSETTO:-0500
TZNAME:America/Chicago CDT
END:DAYLIGHT
BEGIN:DAYLIGHT
DTSTART:20140309T030000
RDATE:20141102T010000
TZOFFSETFROM:-0600
TZOFFSETTO:-0500
TZNAME:America/Chicago CDT
END:DAYLIGHT
BEGIN:DAYLIGHT
DTSTART:20150308T030000
RDATE:20151101T010000
TZOFFSETFROM:-0600
TZOFFSETTO:-0500
TZNAME:America/Chicago CDT
END:DAYLIGHT
BEGIN:DAYLIGHT
DTSTART:20160313T030000
RDATE:20161106T010000
TZOFFSETFROM:-0600
TZOFFSETTO:-0500
TZNAME:America/Chicago CDT
END:DAYLIGHT
BEGIN:DAYLIGHT
DTSTART:20170312T030000
RDATE:20171105T010000
TZOFFSETFROM:-0600
TZOFFSETTO:-0500
TZNAME:America/Chicago CDT
END:DAYLIGHT
BEGIN:DAYLIGHT
DTSTART:20180311T030000
RDATE:20181104T010000
TZOFFSETFROM:-0600
TZOFFSETTO:-0500
TZNAME:America/Chicago CDT
END:DAYLIGHT
BEGIN:DAYLIGHT
DTSTART:20190310T030000
RDATE:20191103T010000
TZOFFSETFROM:-0600
TZOFFSETTO:-0500
TZNAME:America/Chicago CDT
END:DAYLIGHT
BEGIN:DAYLIGHT
DTSTART:20200308T030000
RDATE:20201101T010000
TZOFFSETFROM:-0600
TZOFFSETTO:-0500
TZNAME:America/Chicago CDT
END:DAYLIGHT
BEGIN:DAYLIGHT
DTSTART:20210314T030000
RDATE:20211107T010000
TZOFFSETFROM:-0600
TZOFFSETTO:-0500
TZNAME:America/Chicago CDT
END:DAYLIGHT
BEGIN:DAYLIGHT
DTSTART:20220313T030000
RDATE:20221106T010000
TZOFFSETFROM:-0600
TZOFFSETTO:-0500
TZNAME:America/Chicago CDT
END:DAYLIGHT
BEGIN:DAYLIGHT
DTSTART:20230312T030000
RDATE:20231105T010000
TZOFFSETFROM:-0600
TZOFFSETTO:-0500
TZNAME:America/Chicago CDT
END:DAYLIGHT
BEGIN:DAYLIGHT
DTSTART:20240310T030000
RDATE:20241103T010000
TZOFFSETFROM:-0600
TZOFFSETTO:-0500
TZNAME:America/Chicago CDT
END:DAYLIGHT
BEGIN:DAYLIGHT
DTSTART:20250309T030000
RDATE:20251102T010000
TZOFFSETFROM:-0600
TZOFFSETTO:-0500
TZNAME:America/Chicago CDT
END:DAYLIGHT
BEGIN:DAYLIGHT
DTSTART:20260308T030000
RDATE:20261101T010000
TZOFFSETFROM:-0600
TZOFFSETTO:-0500
TZNAME:America/Chicago CDT
END:DAYLIGHT
BEGIN:DAYLIGHT
DTSTART:20270314T030000
RDATE:20271107T010000
TZOFFSETFROM:-0600
TZOFFSETTO:-0500
TZNAME:America/Chicago CDT
END:DAYLIGHT
BEGIN:DAYLIGHT
DTSTART:20280312T030000
RDATE:20281105T010000
TZOFFSETFROM:-0600
TZOFFSETTO:-0500
TZNAME:America/Chicago CDT
END:DAYLIGHT
END:VTIMEZONE
BEGIN:VEVENT
UID:455d60d0538d39568cfb00a511de82a8
CATEGORIES:Tournaments
CREATED:20130722T154834
SUMMARY:2013 Badger Open
LOCATION:Olympia Resort\, 1350 Royale Mile Rd\, Oconomowoc\, WI 53066
DESCRIPTION:SEPT. 14-15   Badger Open\nOlympia Resort, 1360 Royale Mile Rd., Oconomowoc
 , WI 53066. 5 SS, 30/90 d5, SD/60 d5. 3 Sections. Rounds: Sat 10:00; 2:30; 
 7:30 Sun. 10:00; 3:30 Open: EF $37 by 9/12, then $40. Prizes: b/30 – 1st $3
 00; 2nd $175; A $110. U 1800 $110. Reserve U1800: EF $27 by 9/12, then $30.
 Prizes: b/30 – 1st $90; 2nd $75. C $60. U1400 $60. RBO(U1200): EF $12 by 9/
 12, then $15. Prizes: 1st $50; trophies to 1st, 2nd;U900, U700, U500, Unrat
 ed; participation medals to all others. HR: $99 (sgl/dbl/trpl/quad) (262.36
 9.4999; mention chess) ENT: Waukesha Chess Club. Mail to Charles Carerros, 
 628 Rempe Dr., Waukesha, WI 53186. Questions: email This email address is b
 eing protected from spambots. You need JavaScript enabled to view it.
				d
 ocument.getElementById('cloakc4e4f95f4f8abd11a4cdb958a069c817').innerHTML =
  '';
				var prefix = '&#109;a' + 'i&#108;' + '&#116;o';
				var path = 'hr
 ' + 'ef' + '=';
				var addyc4e4f95f4f8abd11a4cdb958a069c817 = 'c&#97;r&#10
 1;rr&#111;s' + '&#64;';
				addyc4e4f95f4f8abd11a4cdb958a069c817 = addyc4e4
 f95f4f8abd11a4cdb958a069c817 + 'gm&#97;&#105;l' + '&#46;' + 'c&#111;m';
			
 	var addy_textc4e4f95f4f8abd11a4cdb958a069c817 = 'c&#97;r&#101;rr&#111;s' +
  '&#64;' + 'gm&#97;&#105;l' + '&#46;' + 'c&#111;m';document.getElementById(
 'cloakc4e4f95f4f8abd11a4cdb958a069c817').innerHTML += '<a ' + path + '\'' +
  prefix + ':' + addyc4e4f95f4f8abd11a4cdb958a069c817 + '\'>'+addy_textc4e4f
 95f4f8abd11a4cdb958a069c817+'';
		 or visit waukeshachessclub.org (http://w
 aukeshachessclub.org/).\n \n
X-ALT-DESC;FMTTYPE=text/html:<p class="heading2" style="margin: 0pt 0px; padding: 0pt 0px; font-family: 
 sans-serif; text-align: justify; font-size: 1.25em; font-weight: bold; colo
 r: #a00000; line-height: 19.953125px;"><strong style="margin: 0px; padding:
  0px; font-size: 0.75em; color: red; text-transform: uppercase;">SEPT. 14-1
 5</strong>   Badger Open</p><p class="listing" style="margin: 0pt 0px 0.5em
 ; padding: 0pt 0px; font-family: serif; text-align: justify; color: #000000
 ; line-height: 19.953125px;">Olympia Resort, 1360 Royale Mile Rd., Oconomow
 oc, WI 53066. 5 SS, 30/90 d5, SD/60 d5. 3 Sections. <strong style="margin: 
 0px; padding: 0px;">Rounds:</strong> Sat 10:00; 2:30; 7:30 Sun. 10:00; 3:30
  <strong style="margin: 0px; padding: 0px;">Open:</strong> EF $37 by 9/12, 
 then $40. <strong style="margin: 0px; padding: 0px;">Prizes:</strong> b/30 
 – 1st $300; 2nd $175; A $110. U 1800 $110. <strong style="margin: 0px; padd
 ing: 0px;">Reserve U1800:</strong> EF $27 by 9/12, then $30.<strong style="
 margin: 0px; padding: 0px;">Prizes:</strong> b/30 – 1st $90; 2nd $75. C $60
 . U1400 $60. <strong style="margin: 0px; padding: 0px;">RBO(U1200):</strong
 > EF $12 by 9/12, then $15. Prizes: 1st $50; trophies to 1st, 2nd;U900, U70
 0, U500, Unrated; participation medals to all others. <strong style="margin
 : 0px; padding: 0px;">HR:</strong> $99 (sgl/dbl/trpl/quad) (262.369.4999; m
 ention chess) <strong style="margin: 0px; padding: 0px;">ENT:</strong> Wauk
 esha Chess Club. Mail to Charles Carerros, 628 Rempe Dr., Waukesha, WI 5318
 6. <strong style="margin: 0px; padding: 0px;">Questions:</strong> email <sp
 an id="cloakc4e4f95f4f8abd11a4cdb958a069c817">This email address is being p
 rotected from spambots. You need JavaScript enabled to view it.</span><scri
 pt type='text/javascript'>
				document.getElementById('cloakc4e4f95f4f8abd
 11a4cdb958a069c817').innerHTML = '';
				var prefix = '&#109;a' + 'i&#108;'
  + '&#116;o';
				var path = 'hr' + 'ef' + '=';
				var addyc4e4f95f4f8abd1
 1a4cdb958a069c817 = 'c&#97;r&#101;rr&#111;s' + '&#64;';
				addyc4e4f95f4f8
 abd11a4cdb958a069c817 = addyc4e4f95f4f8abd11a4cdb958a069c817 + 'gm&#97;&#10
 5;l' + '&#46;' + 'c&#111;m';
				var addy_textc4e4f95f4f8abd11a4cdb958a069c
 817 = 'c&#97;r&#101;rr&#111;s' + '&#64;' + 'gm&#97;&#105;l' + '&#46;' + 'c&
 #111;m';document.getElementById('cloakc4e4f95f4f8abd11a4cdb958a069c817').in
 nerHTML += '<a ' + path + '\'' + prefix + ':' + addyc4e4f95f4f8abd11a4cdb95
 8a069c817 + '\'>'+addy_textc4e4f95f4f8abd11a4cdb958a069c817+'<\/a>';
		</sc
 ript> or visit <a href="http://waukeshachessclub.org/" target="_blank" styl
 e="margin: 0px; padding: 0px; color: #2f7b8f;">waukeshachessclub.org</a>.</
 p><p> </p>
CONTACT:Charles Carerros This email address is being protected from spambots. You need JavaScript enabled to view it.
				document.getElementById('cloakf86e8991557454846ab8e237fec806dc').innerHTML = '';
				var prefix = '&#109;a' + 'i&#108;' + '&#116;o';
				var path = 'hr' + 'ef' + '=';
				var addyf86e8991557454846ab8e237fec806dc = 'c&#97;r&#101;rr&#111;s' + '&#64;';
				addyf86e8991557454846ab8e237fec806dc = addyf86e8991557454846ab8e237fec806dc + 'gm&#97;&#105;l' + '&#46;' + 'c&#111;m';
				var addy_textf86e8991557454846ab8e237fec806dc = 'c&#97;r&#101;rr&#111;s' + '&#64;' + 'gm&#97;&#105;l' + '&#46;' + 'c&#111;m';document.getElementById('cloakf86e8991557454846ab8e237fec806dc').innerHTML += '<a ' + path + '\'' + prefix + ':' + addyf86e8991557454846ab8e237fec806dc + '\'>'+addy_textf86e8991557454846ab8e237fec806dc+'';
		
DTSTAMP:20260423T070704
DTSTART;TZID=America/Chicago:20130914T080000
DTEND;TZID=America/Chicago:20130915T210000
SEQUENCE:0
TRANSP:OPAQUE
END:VEVENT
END:VCALENDAR