BEGIN:VCALENDAR
VERSION:2.0
PRODID:-//jEvents 2.0 for Joomla//EN
CALSCALE:GREGORIAN
METHOD:PUBLISH
BEGIN:VTIMEZONE
TZID:America/Chicago
BEGIN:STANDARD
DTSTART:20121128T120000
RDATE:20130310T030000
TZOFFSETFROM:-0500
TZOFFSETTO:-0600
TZNAME:America/Chicago CST
END:STANDARD
BEGIN:STANDARD
DTSTART:20131103T010000
RDATE:20140309T030000
TZOFFSETFROM:-0500
TZOFFSETTO:-0600
TZNAME:America/Chicago CST
END:STANDARD
BEGIN:STANDARD
DTSTART:20141102T010000
RDATE:20150308T030000
TZOFFSETFROM:-0500
TZOFFSETTO:-0600
TZNAME:America/Chicago CST
END:STANDARD
BEGIN:STANDARD
DTSTART:20151101T010000
RDATE:20160313T030000
TZOFFSETFROM:-0500
TZOFFSETTO:-0600
TZNAME:America/Chicago CST
END:STANDARD
BEGIN:STANDARD
DTSTART:20161106T010000
RDATE:20170312T030000
TZOFFSETFROM:-0500
TZOFFSETTO:-0600
TZNAME:America/Chicago CST
END:STANDARD
BEGIN:STANDARD
DTSTART:20171105T010000
RDATE:20180311T030000
TZOFFSETFROM:-0500
TZOFFSETTO:-0600
TZNAME:America/Chicago CST
END:STANDARD
BEGIN:STANDARD
DTSTART:20181104T010000
RDATE:20190310T030000
TZOFFSETFROM:-0500
TZOFFSETTO:-0600
TZNAME:America/Chicago CST
END:STANDARD
BEGIN:STANDARD
DTSTART:20191103T010000
RDATE:20200308T030000
TZOFFSETFROM:-0500
TZOFFSETTO:-0600
TZNAME:America/Chicago CST
END:STANDARD
BEGIN:STANDARD
DTSTART:20201101T010000
RDATE:20210314T030000
TZOFFSETFROM:-0500
TZOFFSETTO:-0600
TZNAME:America/Chicago CST
END:STANDARD
BEGIN:STANDARD
DTSTART:20211107T010000
RDATE:20220313T030000
TZOFFSETFROM:-0500
TZOFFSETTO:-0600
TZNAME:America/Chicago CST
END:STANDARD
BEGIN:STANDARD
DTSTART:20221106T010000
RDATE:20230312T030000
TZOFFSETFROM:-0500
TZOFFSETTO:-0600
TZNAME:America/Chicago CST
END:STANDARD
BEGIN:STANDARD
DTSTART:20231105T010000
RDATE:20240310T030000
TZOFFSETFROM:-0500
TZOFFSETTO:-0600
TZNAME:America/Chicago CST
END:STANDARD
BEGIN:STANDARD
DTSTART:20241103T010000
RDATE:20250309T030000
TZOFFSETFROM:-0500
TZOFFSETTO:-0600
TZNAME:America/Chicago CST
END:STANDARD
BEGIN:STANDARD
DTSTART:20251102T010000
RDATE:20260308T030000
TZOFFSETFROM:-0500
TZOFFSETTO:-0600
TZNAME:America/Chicago CST
END:STANDARD
BEGIN:STANDARD
DTSTART:20261101T010000
RDATE:20270314T030000
TZOFFSETFROM:-0500
TZOFFSETTO:-0600
TZNAME:America/Chicago CST
END:STANDARD
BEGIN:STANDARD
DTSTART:20271107T010000
RDATE:20280312T030000
TZOFFSETFROM:-0500
TZOFFSETTO:-0600
TZNAME:America/Chicago CST
END:STANDARD
BEGIN:STANDARD
DTSTART:20281105T010000
RDATE:20290311T030000
TZOFFSETFROM:-0500
TZOFFSETTO:-0600
TZNAME:America/Chicago CST
END:STANDARD
BEGIN:DAYLIGHT
DTSTART:20130310T030000
RDATE:20131103T010000
TZOFFSETFROM:-0600
TZOFFSETTO:-0500
TZNAME:America/Chicago CDT
END:DAYLIGHT
BEGIN:DAYLIGHT
DTSTART:20140309T030000
RDATE:20141102T010000
TZOFFSETFROM:-0600
TZOFFSETTO:-0500
TZNAME:America/Chicago CDT
END:DAYLIGHT
BEGIN:DAYLIGHT
DTSTART:20150308T030000
RDATE:20151101T010000
TZOFFSETFROM:-0600
TZOFFSETTO:-0500
TZNAME:America/Chicago CDT
END:DAYLIGHT
BEGIN:DAYLIGHT
DTSTART:20160313T030000
RDATE:20161106T010000
TZOFFSETFROM:-0600
TZOFFSETTO:-0500
TZNAME:America/Chicago CDT
END:DAYLIGHT
BEGIN:DAYLIGHT
DTSTART:20170312T030000
RDATE:20171105T010000
TZOFFSETFROM:-0600
TZOFFSETTO:-0500
TZNAME:America/Chicago CDT
END:DAYLIGHT
BEGIN:DAYLIGHT
DTSTART:20180311T030000
RDATE:20181104T010000
TZOFFSETFROM:-0600
TZOFFSETTO:-0500
TZNAME:America/Chicago CDT
END:DAYLIGHT
BEGIN:DAYLIGHT
DTSTART:20190310T030000
RDATE:20191103T010000
TZOFFSETFROM:-0600
TZOFFSETTO:-0500
TZNAME:America/Chicago CDT
END:DAYLIGHT
BEGIN:DAYLIGHT
DTSTART:20200308T030000
RDATE:20201101T010000
TZOFFSETFROM:-0600
TZOFFSETTO:-0500
TZNAME:America/Chicago CDT
END:DAYLIGHT
BEGIN:DAYLIGHT
DTSTART:20210314T030000
RDATE:20211107T010000
TZOFFSETFROM:-0600
TZOFFSETTO:-0500
TZNAME:America/Chicago CDT
END:DAYLIGHT
BEGIN:DAYLIGHT
DTSTART:20220313T030000
RDATE:20221106T010000
TZOFFSETFROM:-0600
TZOFFSETTO:-0500
TZNAME:America/Chicago CDT
END:DAYLIGHT
BEGIN:DAYLIGHT
DTSTART:20230312T030000
RDATE:20231105T010000
TZOFFSETFROM:-0600
TZOFFSETTO:-0500
TZNAME:America/Chicago CDT
END:DAYLIGHT
BEGIN:DAYLIGHT
DTSTART:20240310T030000
RDATE:20241103T010000
TZOFFSETFROM:-0600
TZOFFSETTO:-0500
TZNAME:America/Chicago CDT
END:DAYLIGHT
BEGIN:DAYLIGHT
DTSTART:20250309T030000
RDATE:20251102T010000
TZOFFSETFROM:-0600
TZOFFSETTO:-0500
TZNAME:America/Chicago CDT
END:DAYLIGHT
BEGIN:DAYLIGHT
DTSTART:20260308T030000
RDATE:20261101T010000
TZOFFSETFROM:-0600
TZOFFSETTO:-0500
TZNAME:America/Chicago CDT
END:DAYLIGHT
BEGIN:DAYLIGHT
DTSTART:20270314T030000
RDATE:20271107T010000
TZOFFSETFROM:-0600
TZOFFSETTO:-0500
TZNAME:America/Chicago CDT
END:DAYLIGHT
BEGIN:DAYLIGHT
DTSTART:20280312T030000
RDATE:20281105T010000
TZOFFSETFROM:-0600
TZOFFSETTO:-0500
TZNAME:America/Chicago CDT
END:DAYLIGHT
END:VTIMEZONE
BEGIN:VEVENT
UID:b753b2f5381ef13463b5222e00f546d5
CATEGORIES:Tour Events
CREATED:20130921T133930
SUMMARY:North Central/Martz Memorial
LOCATION:Holiday Inn Neenah\, Neenah\, WI
DESCRIPTION:Nov. 29-Dec. 1   55th North Central/Martz Memorial\nTrophies Plus Grand Pri
 x Points: 6\nTWO SECTIONS: OPEN and NOVICE (U/1300) FORMAT: OPEN: 6/SS, TC 
 of 45/2, SD/1 d5. (Rd. 5 only, G/120 d5). Rds. at: 12-6, 11-5, 10-3. NOVICE
 : 7/SS, TC of G/90 d5. Rds.: 12-4, 11-2:45-6:30 and 10-2. PLAYING SITE: Hol
 iday Inn — Neenah, 123 E. Wisconsin Ave., Neenah, WI 54956. PH: 920-725-844
 1. HR: $79 for 1-bed King or 2-bed dbl. Must mention chess! REGISTRATION: 1
 0:45–11:30 on NOV 29. ENTRY FEES : OPEN = $45, NOVICE = $22 if mailed by NO
 V 24. At site, phone, or e-mail EFs are $7 more! Checks payable to: WCA. PR
 IZE FUND: OPEN ($1,250 b/45): $300-200-175, "A"-$160, "B"- $150, "C"- $140,
  "D/Under/Unrated = $125 Traveling trophy to 1st. NOVICE: $60 - 40. Trophie
 s to: 1st, 2nd, best 1000, 900, 800, 700 and Under, Unrated. (7 total) ADVA
 NCE ENTRIES: 2013 MARTZ/NCO, Mike Selig – TD, 2985 W. Fourth St., Condo "B"
 , Appleton, WI 54914-4330. TD phone: 920-739-7550, E-mail: This email addre
 ss is being protected from spambots. You need JavaScript enabled to view it
 .
				document.getElementById('cloak597dbc365b9819baf0c75350127d1ba7').inne
 rHTML = '';
				var prefix = '&#109;a' + 'i&#108;' + '&#116;o';
				var pat
 h = 'hr' + 'ef' + '=';
				var addy597dbc365b9819baf0c75350127d1ba7 = 'ms&#
 101;l&#105;g' + '&#64;';
				addy597dbc365b9819baf0c75350127d1ba7 = addy597
 dbc365b9819baf0c75350127d1ba7 + 'tds' + '&#46;' + 'n&#101;t';
				var addy_
 text597dbc365b9819baf0c75350127d1ba7 = 'ms&#101;l&#105;g' + '&#64;' + 'tds'
  + '&#46;' + 'n&#101;t';document.getElementById('cloak597dbc365b9819baf0c75
 350127d1ba7').innerHTML += '<a ' + path + '\'' + prefix + ':' + addy597dbc3
 65b9819baf0c75350127d1ba7 + '\'>'+addy_text597dbc365b9819baf0c75350127d1ba7
 +'';
		. OTHER INFO: 2013 WIS Chess Tour event. Two half-point Byes in eith
 er section. Full-point Bye in RD. 1 to 2100+ if pre-registered. Fox River M
 all w/183 stores is 4 miles from site!\n
X-ALT-DESC;FMTTYPE=text/html:<p class="heading2"><strong>Nov. 29-Dec. 1</strong>   55th North Central/Ma
 rtz Memorial</p><p class="grandprix">Trophies Plus Grand Prix Points: 6</p>
 <p class="listing"><strong>TWO SECTIONS</strong>: OPEN and NOVICE (U/1300) 
 <strong>FORMAT:</strong> OPEN: 6/SS, TC of 45/2, SD/1 d5. (Rd. 5 only, G/12
 0 d5). Rds. at: 12-6, 11-5, 10-3. NOVICE: 7/SS, TC of G/90 d5. Rds.: 12-4, 
 11-2:45-6:30 and 10-2. <strong>PLAYING SITE:</strong> Holiday Inn — Neenah,
  123 E. Wisconsin Ave., Neenah, WI 54956. PH: 920-725-8441. HR: $79 for 1-b
 ed King or 2-bed dbl. Must mention chess! <strong>REGISTRATION:</strong> 10
 :45–11:30 on NOV 29. <strong>ENTRY FEES</strong> <strong>:</strong> OPEN = 
 $45, NOVICE = $22 if mailed by NOV 24. At site, phone, or e-mail EFs are $7
  more! Checks payable to: WCA. <strong>PRIZE FUND:</strong> OPEN ($1,250 b/
 45): $300-200-175, "A"-$160, "B"- $150, "C"- $140, "D/Under/Unrated = $125 
 Traveling trophy to 1st. NOVICE: $60 - 40. Trophies to: 1st, 2nd, best 1000
 , 900, 800, 700 and Under, Unrated. (7 total) <strong>ADVANCE ENTRIES:</str
 ong> 2013 MARTZ/NCO, Mike Selig – TD, 2985 W. Fourth St., Condo "B", Applet
 on, WI 54914-4330. TD phone: 920-739-7550, E-mail: <span id="cloak597dbc365
 b9819baf0c75350127d1ba7">This email address is being protected from spambot
 s. You need JavaScript enabled to view it.</span><script type='text/javascr
 ipt'>
				document.getElementById('cloak597dbc365b9819baf0c75350127d1ba7').
 innerHTML = '';
				var prefix = '&#109;a' + 'i&#108;' + '&#116;o';
				var
  path = 'hr' + 'ef' + '=';
				var addy597dbc365b9819baf0c75350127d1ba7 = '
 ms&#101;l&#105;g' + '&#64;';
				addy597dbc365b9819baf0c75350127d1ba7 = add
 y597dbc365b9819baf0c75350127d1ba7 + 'tds' + '&#46;' + 'n&#101;t';
				var a
 ddy_text597dbc365b9819baf0c75350127d1ba7 = 'ms&#101;l&#105;g' + '&#64;' + '
 tds' + '&#46;' + 'n&#101;t';document.getElementById('cloak597dbc365b9819baf
 0c75350127d1ba7').innerHTML += '<a ' + path + '\'' + prefix + ':' + addy597
 dbc365b9819baf0c75350127d1ba7 + '\'>'+addy_text597dbc365b9819baf0c75350127d
 1ba7+'<\/a>';
		</script>. <strong>OTHER INFO:</strong> 2013 WIS Chess Tour
  event. Two half-point Byes in either section. Full-point Bye in RD. 1 to 2
 100+ if pre-registered. Fox River Mall w/183 stores is 4 miles from site!</
 p><hr />
CONTACT:Mike Selig
DTSTAMP:20260423T021851
DTSTART;TZID=America/Chicago:20131129T120000
DTEND;TZID=America/Chicago:20131201T200000
SEQUENCE:0
TRANSP:OPAQUE
END:VEVENT
END:VCALENDAR