BEGIN:VCALENDAR
VERSION:2.0
PRODID:-//jEvents 2.0 for Joomla//EN
CALSCALE:GREGORIAN
METHOD:PUBLISH
BEGIN:VTIMEZONE
TZID:America/Chicago
BEGIN:STANDARD
DTSTART:20111106T010000
RDATE:20120311T030000
TZOFFSETFROM:-0500
TZOFFSETTO:-0600
TZNAME:America/Chicago CST
END:STANDARD
BEGIN:STANDARD
DTSTART:20121104T010000
RDATE:20130310T030000
TZOFFSETFROM:-0500
TZOFFSETTO:-0600
TZNAME:America/Chicago CST
END:STANDARD
BEGIN:STANDARD
DTSTART:20131103T010000
RDATE:20140309T030000
TZOFFSETFROM:-0500
TZOFFSETTO:-0600
TZNAME:America/Chicago CST
END:STANDARD
BEGIN:STANDARD
DTSTART:20141102T010000
RDATE:20150308T030000
TZOFFSETFROM:-0500
TZOFFSETTO:-0600
TZNAME:America/Chicago CST
END:STANDARD
BEGIN:STANDARD
DTSTART:20151101T010000
RDATE:20160313T030000
TZOFFSETFROM:-0500
TZOFFSETTO:-0600
TZNAME:America/Chicago CST
END:STANDARD
BEGIN:STANDARD
DTSTART:20161106T010000
RDATE:20170312T030000
TZOFFSETFROM:-0500
TZOFFSETTO:-0600
TZNAME:America/Chicago CST
END:STANDARD
BEGIN:STANDARD
DTSTART:20171105T010000
RDATE:20180311T030000
TZOFFSETFROM:-0500
TZOFFSETTO:-0600
TZNAME:America/Chicago CST
END:STANDARD
BEGIN:STANDARD
DTSTART:20181104T010000
RDATE:20190310T030000
TZOFFSETFROM:-0500
TZOFFSETTO:-0600
TZNAME:America/Chicago CST
END:STANDARD
BEGIN:STANDARD
DTSTART:20191103T010000
RDATE:20200308T030000
TZOFFSETFROM:-0500
TZOFFSETTO:-0600
TZNAME:America/Chicago CST
END:STANDARD
BEGIN:STANDARD
DTSTART:20201101T010000
RDATE:20210314T030000
TZOFFSETFROM:-0500
TZOFFSETTO:-0600
TZNAME:America/Chicago CST
END:STANDARD
BEGIN:STANDARD
DTSTART:20211107T010000
RDATE:20220313T030000
TZOFFSETFROM:-0500
TZOFFSETTO:-0600
TZNAME:America/Chicago CST
END:STANDARD
BEGIN:STANDARD
DTSTART:20221106T010000
RDATE:20230312T030000
TZOFFSETFROM:-0500
TZOFFSETTO:-0600
TZNAME:America/Chicago CST
END:STANDARD
BEGIN:STANDARD
DTSTART:20231105T010000
RDATE:20240310T030000
TZOFFSETFROM:-0500
TZOFFSETTO:-0600
TZNAME:America/Chicago CST
END:STANDARD
BEGIN:STANDARD
DTSTART:20241103T010000
RDATE:20250309T030000
TZOFFSETFROM:-0500
TZOFFSETTO:-0600
TZNAME:America/Chicago CST
END:STANDARD
BEGIN:STANDARD
DTSTART:20251102T010000
RDATE:20260308T030000
TZOFFSETFROM:-0500
TZOFFSETTO:-0600
TZNAME:America/Chicago CST
END:STANDARD
BEGIN:STANDARD
DTSTART:20261101T010000
RDATE:20270314T030000
TZOFFSETFROM:-0500
TZOFFSETTO:-0600
TZNAME:America/Chicago CST
END:STANDARD
BEGIN:STANDARD
DTSTART:20271107T010000
RDATE:20280312T030000
TZOFFSETFROM:-0500
TZOFFSETTO:-0600
TZNAME:America/Chicago CST
END:STANDARD
BEGIN:STANDARD
DTSTART:20281105T010000
RDATE:20290311T030000
TZOFFSETFROM:-0500
TZOFFSETTO:-0600
TZNAME:America/Chicago CST
END:STANDARD
BEGIN:DAYLIGHT
DTSTART:20110728T000000
RDATE:20111106T010000
TZOFFSETFROM:-0600
TZOFFSETTO:-0500
TZNAME:America/Chicago CDT
END:DAYLIGHT
BEGIN:DAYLIGHT
DTSTART:20120311T030000
RDATE:20121104T010000
TZOFFSETFROM:-0600
TZOFFSETTO:-0500
TZNAME:America/Chicago CDT
END:DAYLIGHT
BEGIN:DAYLIGHT
DTSTART:20130310T030000
RDATE:20131103T010000
TZOFFSETFROM:-0600
TZOFFSETTO:-0500
TZNAME:America/Chicago CDT
END:DAYLIGHT
BEGIN:DAYLIGHT
DTSTART:20140309T030000
RDATE:20141102T010000
TZOFFSETFROM:-0600
TZOFFSETTO:-0500
TZNAME:America/Chicago CDT
END:DAYLIGHT
BEGIN:DAYLIGHT
DTSTART:20150308T030000
RDATE:20151101T010000
TZOFFSETFROM:-0600
TZOFFSETTO:-0500
TZNAME:America/Chicago CDT
END:DAYLIGHT
BEGIN:DAYLIGHT
DTSTART:20160313T030000
RDATE:20161106T010000
TZOFFSETFROM:-0600
TZOFFSETTO:-0500
TZNAME:America/Chicago CDT
END:DAYLIGHT
BEGIN:DAYLIGHT
DTSTART:20170312T030000
RDATE:20171105T010000
TZOFFSETFROM:-0600
TZOFFSETTO:-0500
TZNAME:America/Chicago CDT
END:DAYLIGHT
BEGIN:DAYLIGHT
DTSTART:20180311T030000
RDATE:20181104T010000
TZOFFSETFROM:-0600
TZOFFSETTO:-0500
TZNAME:America/Chicago CDT
END:DAYLIGHT
BEGIN:DAYLIGHT
DTSTART:20190310T030000
RDATE:20191103T010000
TZOFFSETFROM:-0600
TZOFFSETTO:-0500
TZNAME:America/Chicago CDT
END:DAYLIGHT
BEGIN:DAYLIGHT
DTSTART:20200308T030000
RDATE:20201101T010000
TZOFFSETFROM:-0600
TZOFFSETTO:-0500
TZNAME:America/Chicago CDT
END:DAYLIGHT
BEGIN:DAYLIGHT
DTSTART:20210314T030000
RDATE:20211107T010000
TZOFFSETFROM:-0600
TZOFFSETTO:-0500
TZNAME:America/Chicago CDT
END:DAYLIGHT
BEGIN:DAYLIGHT
DTSTART:20220313T030000
RDATE:20221106T010000
TZOFFSETFROM:-0600
TZOFFSETTO:-0500
TZNAME:America/Chicago CDT
END:DAYLIGHT
BEGIN:DAYLIGHT
DTSTART:20230312T030000
RDATE:20231105T010000
TZOFFSETFROM:-0600
TZOFFSETTO:-0500
TZNAME:America/Chicago CDT
END:DAYLIGHT
BEGIN:DAYLIGHT
DTSTART:20240310T030000
RDATE:20241103T010000
TZOFFSETFROM:-0600
TZOFFSETTO:-0500
TZNAME:America/Chicago CDT
END:DAYLIGHT
BEGIN:DAYLIGHT
DTSTART:20250309T030000
RDATE:20251102T010000
TZOFFSETFROM:-0600
TZOFFSETTO:-0500
TZNAME:America/Chicago CDT
END:DAYLIGHT
BEGIN:DAYLIGHT
DTSTART:20260308T030000
RDATE:20261101T010000
TZOFFSETFROM:-0600
TZOFFSETTO:-0500
TZNAME:America/Chicago CDT
END:DAYLIGHT
BEGIN:DAYLIGHT
DTSTART:20270314T030000
RDATE:20271107T010000
TZOFFSETFROM:-0600
TZOFFSETTO:-0500
TZNAME:America/Chicago CDT
END:DAYLIGHT
BEGIN:DAYLIGHT
DTSTART:20280312T030000
RDATE:20281105T010000
TZOFFSETFROM:-0600
TZOFFSETTO:-0500
TZNAME:America/Chicago CDT
END:DAYLIGHT
END:VTIMEZONE
BEGIN:VEVENT
UID:cdabd2b6525f71ba498c8aa9c8bde34b
CATEGORIES:Tour Events
CREATED:20120622T142701
SUMMARY:36th Annual Green Bay Open
LOCATION:Radisson Hotel\, 2040 Airport Dr. Green Bay\, WI 54313
DESCRIPTION:<p class="MsoNormal" style="margin: 0in 0in 0pt;"><span style="color: #0000
 00;"><span style="font-family: 'Times New Roman';"><span style="font-size: 
 small;">Radisson Hotel, 2040 Airport Dr. Green Bay, WI 54313.<span style="m
 so-spacerun: yes;">  </span>5SS 40/100, 30/1, SD/30 <strong>EF: </strong>$4
 3, Juniors under 19 $38, if rec’d by 7/25, entries paid after 7/25 includin
 g phone & email are $12 more!<span style="mso-spacerun: yes;">  </span><str
 ong>$$Gtd: </strong>$1760 Cash + 6 trophies!<span style="mso-spacerun: yes;
 ">  </span>1</span><sup><span style="font-size: x-small;">st</span></sup><s
 pan style="font-size: small;"> $425 + trophy, 2</span><sup><span style="fon
 t-size: x-small;">nd</span></sup><span style="font-size: small;"> $220, </s
 pan></span></span><span style="font-family: 'times new roman', 'serif'; fon
 t-size: 12pt; mso-fareast-font-family: 'times new roman'; mso-ansi-language
 : en-us; mso-fareast-language: en-us; mso-bidi-language: ar-sa;"><span styl
 e="font-family: 'Times New Roman'; color: #000000;">X $120; 1900’s & 1800’s
  $120 each; 1700’s &1600’s $115 each; 1500’s & 1400’s $110 each; 1300’s & 1
 200’s $105 each; Under 1200/Unrated $95.<span style="mso-spacerun: yes;">  
 (Class prizes are based on 5 per class.)  </span>Trophies to top Juniors ag
 es 17-18, 15-16, 13-14, 11-12, 10 & under.<span style="mso-spacerun: yes;">
   </span><strong>Reg:</strong> 8:45-9:25am <strong>Rds: </strong>10-2:30-7:
 30; 10-3:30. <strong>HR: </strong>$79/$79/$89/$99 call 920-494-7300 mention
  chess tournament. Room block held to 7/13. <strong>Other Info: </strong>½ 
 bye avail. rds 1, 2 or 3 if req’d w/entry. WCA Tour Event. NS NC W. <strong
 >Entries & Inquiries to: </strong>Luke Ludwig, 2191 Allouez Ave. Green Bay,
  WI 54311. 920-465-9859</span></span></p><p> </p>
CONTACT:This email address is being protected from spambots. You need JavaScript enabled to view it.
				document.getElementById('cloak30bb5461c4055942f77db447a5b8cd04').innerHTML = '';
				var prefix = '&#109;a' + 'i&#108;' + '&#116;o';
				var path = 'hr' + 'ef' + '=';
				var addy30bb5461c4055942f77db447a5b8cd04 = 'l&#117;k&#101;&#97;l&#117;dw&#105;g' + '&#64;';
				addy30bb5461c4055942f77db447a5b8cd04 = addy30bb5461c4055942f77db447a5b8cd04 + '&#97;&#111;l' + '&#46;' + 'c&#111;m';
				var addy_text30bb5461c4055942f77db447a5b8cd04 = 'l&#117;k&#101;&#97;l&#117;dw&#105;g' + '&#64;' + '&#97;&#111;l' + '&#46;' + 'c&#111;m';document.getElementById('cloak30bb5461c4055942f77db447a5b8cd04').innerHTML += '<a ' + path + '\'' + prefix + ':' + addy30bb5461c4055942f77db447a5b8cd04 + '\'>'+addy_text30bb5461c4055942f77db447a5b8cd04+'';
		
X-EXTRAINFO:Luke Ludwig 920-465-9859http://www.greenbaychess.net/
DTSTAMP:20260423T104933
DTSTART;TZID=America/Chicago;VALUE=DATE:20120728
DTEND;TZID=America/Chicago;VALUE=DATE:20120730
SEQUENCE:0
TRANSP:OPAQUE
END:VEVENT
END:VCALENDAR