BEGIN:VCALENDAR
VERSION:2.0
PRODID:-//jEvents 2.0 for Joomla//EN
CALSCALE:GREGORIAN
METHOD:PUBLISH
BEGIN:VTIMEZONE
TZID:America/Chicago
BEGIN:STANDARD
DTSTART:20131103T010000
RDATE:20140309T030000
TZOFFSETFROM:-0500
TZOFFSETTO:-0600
TZNAME:America/Chicago CST
END:STANDARD
BEGIN:STANDARD
DTSTART:20141102T010000
RDATE:20150308T030000
TZOFFSETFROM:-0500
TZOFFSETTO:-0600
TZNAME:America/Chicago CST
END:STANDARD
BEGIN:STANDARD
DTSTART:20151101T010000
RDATE:20160313T030000
TZOFFSETFROM:-0500
TZOFFSETTO:-0600
TZNAME:America/Chicago CST
END:STANDARD
BEGIN:STANDARD
DTSTART:20161106T010000
RDATE:20170312T030000
TZOFFSETFROM:-0500
TZOFFSETTO:-0600
TZNAME:America/Chicago CST
END:STANDARD
BEGIN:STANDARD
DTSTART:20171105T010000
RDATE:20180311T030000
TZOFFSETFROM:-0500
TZOFFSETTO:-0600
TZNAME:America/Chicago CST
END:STANDARD
BEGIN:STANDARD
DTSTART:20181104T010000
RDATE:20190310T030000
TZOFFSETFROM:-0500
TZOFFSETTO:-0600
TZNAME:America/Chicago CST
END:STANDARD
BEGIN:STANDARD
DTSTART:20191103T010000
RDATE:20200308T030000
TZOFFSETFROM:-0500
TZOFFSETTO:-0600
TZNAME:America/Chicago CST
END:STANDARD
BEGIN:STANDARD
DTSTART:20201101T010000
RDATE:20210314T030000
TZOFFSETFROM:-0500
TZOFFSETTO:-0600
TZNAME:America/Chicago CST
END:STANDARD
BEGIN:STANDARD
DTSTART:20211107T010000
RDATE:20220313T030000
TZOFFSETFROM:-0500
TZOFFSETTO:-0600
TZNAME:America/Chicago CST
END:STANDARD
BEGIN:STANDARD
DTSTART:20221106T010000
RDATE:20230312T030000
TZOFFSETFROM:-0500
TZOFFSETTO:-0600
TZNAME:America/Chicago CST
END:STANDARD
BEGIN:STANDARD
DTSTART:20231105T010000
RDATE:20240310T030000
TZOFFSETFROM:-0500
TZOFFSETTO:-0600
TZNAME:America/Chicago CST
END:STANDARD
BEGIN:STANDARD
DTSTART:20241103T010000
RDATE:20250309T030000
TZOFFSETFROM:-0500
TZOFFSETTO:-0600
TZNAME:America/Chicago CST
END:STANDARD
BEGIN:STANDARD
DTSTART:20251102T010000
RDATE:20260308T030000
TZOFFSETFROM:-0500
TZOFFSETTO:-0600
TZNAME:America/Chicago CST
END:STANDARD
BEGIN:STANDARD
DTSTART:20261101T010000
RDATE:20270314T030000
TZOFFSETFROM:-0500
TZOFFSETTO:-0600
TZNAME:America/Chicago CST
END:STANDARD
BEGIN:STANDARD
DTSTART:20271107T010000
RDATE:20280312T030000
TZOFFSETFROM:-0500
TZOFFSETTO:-0600
TZNAME:America/Chicago CST
END:STANDARD
BEGIN:STANDARD
DTSTART:20281105T010000
RDATE:20290311T030000
TZOFFSETFROM:-0500
TZOFFSETTO:-0600
TZNAME:America/Chicago CST
END:STANDARD
BEGIN:DAYLIGHT
DTSTART:20130321T080000
RDATE:20131103T010000
TZOFFSETFROM:-0600
TZOFFSETTO:-0500
TZNAME:America/Chicago CDT
END:DAYLIGHT
BEGIN:DAYLIGHT
DTSTART:20140309T030000
RDATE:20141102T010000
TZOFFSETFROM:-0600
TZOFFSETTO:-0500
TZNAME:America/Chicago CDT
END:DAYLIGHT
BEGIN:DAYLIGHT
DTSTART:20150308T030000
RDATE:20151101T010000
TZOFFSETFROM:-0600
TZOFFSETTO:-0500
TZNAME:America/Chicago CDT
END:DAYLIGHT
BEGIN:DAYLIGHT
DTSTART:20160313T030000
RDATE:20161106T010000
TZOFFSETFROM:-0600
TZOFFSETTO:-0500
TZNAME:America/Chicago CDT
END:DAYLIGHT
BEGIN:DAYLIGHT
DTSTART:20170312T030000
RDATE:20171105T010000
TZOFFSETFROM:-0600
TZOFFSETTO:-0500
TZNAME:America/Chicago CDT
END:DAYLIGHT
BEGIN:DAYLIGHT
DTSTART:20180311T030000
RDATE:20181104T010000
TZOFFSETFROM:-0600
TZOFFSETTO:-0500
TZNAME:America/Chicago CDT
END:DAYLIGHT
BEGIN:DAYLIGHT
DTSTART:20190310T030000
RDATE:20191103T010000
TZOFFSETFROM:-0600
TZOFFSETTO:-0500
TZNAME:America/Chicago CDT
END:DAYLIGHT
BEGIN:DAYLIGHT
DTSTART:20200308T030000
RDATE:20201101T010000
TZOFFSETFROM:-0600
TZOFFSETTO:-0500
TZNAME:America/Chicago CDT
END:DAYLIGHT
BEGIN:DAYLIGHT
DTSTART:20210314T030000
RDATE:20211107T010000
TZOFFSETFROM:-0600
TZOFFSETTO:-0500
TZNAME:America/Chicago CDT
END:DAYLIGHT
BEGIN:DAYLIGHT
DTSTART:20220313T030000
RDATE:20221106T010000
TZOFFSETFROM:-0600
TZOFFSETTO:-0500
TZNAME:America/Chicago CDT
END:DAYLIGHT
BEGIN:DAYLIGHT
DTSTART:20230312T030000
RDATE:20231105T010000
TZOFFSETFROM:-0600
TZOFFSETTO:-0500
TZNAME:America/Chicago CDT
END:DAYLIGHT
BEGIN:DAYLIGHT
DTSTART:20240310T030000
RDATE:20241103T010000
TZOFFSETFROM:-0600
TZOFFSETTO:-0500
TZNAME:America/Chicago CDT
END:DAYLIGHT
BEGIN:DAYLIGHT
DTSTART:20250309T030000
RDATE:20251102T010000
TZOFFSETFROM:-0600
TZOFFSETTO:-0500
TZNAME:America/Chicago CDT
END:DAYLIGHT
BEGIN:DAYLIGHT
DTSTART:20260308T030000
RDATE:20261101T010000
TZOFFSETFROM:-0600
TZOFFSETTO:-0500
TZNAME:America/Chicago CDT
END:DAYLIGHT
BEGIN:DAYLIGHT
DTSTART:20270314T030000
RDATE:20271107T010000
TZOFFSETFROM:-0600
TZOFFSETTO:-0500
TZNAME:America/Chicago CDT
END:DAYLIGHT
BEGIN:DAYLIGHT
DTSTART:20280312T030000
RDATE:20281105T010000
TZOFFSETFROM:-0600
TZOFFSETTO:-0500
TZNAME:America/Chicago CDT
END:DAYLIGHT
END:VTIMEZONE
BEGIN:VEVENT
UID:a9bbc6732bd4ae87bd7084fb116cf996
CATEGORIES:Tournaments
CREATED:20131110T231705
SUMMARY:WI Scholastic Chess Championships
LOCATION:Reeve Union\, UW-Oshkosh
DESCRIPTION:Entries Received (http://www.wischess.org/index.php/component/content/artic
 le/35-state-scholastic/forms/101-schentr)2014 WISCONSIN SCHOLASTIC CHESS CH
 AMPIONSHIPS\n \n\nThe Official State Scholastic Championships!\n \n\nMarch 
 22-23\n \n\nReeve Memorial Union, UW-Oshkosh\nFormat:  Six sections to choo
 se from!  The Varsity I, Varsity II and Varsity III sections are five perso
 n team, team Swiss events with 5 rounds.  The Junior Varsity (K-12), K-8 an
 d K-5 are individual 6 round Swiss events.  In all sections team and indivi
 dual trophies and medals will be awarded!  Special team formation rules app
 ly.  Note that the varsity sections are not based on school size but rather
  strength of team.\nSite:  Reeve Memorial Union, UW-Oshkosh.  All play will
  be on the union’s second floor.  Food is available in the Union’s MarketPl
 ace on the first floor.  Participants may lodge at Gruenhagen Conference Ce
 nter, a four minute walk from Reeve Union, for $40 in a single or double fu
 ll service room or for $30 in a single or double student service room.  Res
 erve rooms early and directly with Gruenhagen at 920-424-1106 as only one t
 ower is available.\nEntry Fee:  If received by March 15, $15.  If received 
 by March 21, $19.  At site is $24.  See the full flyer for the entry form.\
 nRatings?:  While the event is not a US Chess Federation membership require
 d event, USCF ratings will be used for pairing purposes if the player has o
 ne.  Other ratings not used. \nTime Control:  Depending on section and day,
  the time control is either Game in 90 minutes or Game in 60 minutes.  See 
 full flyer for details.\nSaturday Night Fun:  includes a simultaneous exhib
 ition by Grandmaster Josh Friedel and a bughouse tournament sponsored by th
 e Waupaca High School Chess Club.\nBookstore:  Luke Ludwig will have his su
 pply of chess books, CD’s and equipment for sale all weekend.\nFlyer:  E-ma
 il organizer Mike Nietman or call him evenings and weekends for more inform
 ation or a full flyer.\n \n\n
X-ALT-DESC;FMTTYPE=text/html:<a href="http://www.wischess.org/index.php/component/content/article/35-sta
 te-scholastic/forms/101-schentr">Entries Received</a><p style="margin: 0in 
 3.1pt 0pt 0in; text-align: center;" align="center"><b><span style="font-siz
 e: 14pt; mso-fareast-font-family: 'MS Mincho'; mso-bidi-font-size: 10.0pt;"
 ><span style="color: #000000; font-family: Courier New;">2014 WISCONSIN SCH
 OLASTIC CHESS CHAMPIONSHIPS</span></span></b></p><p><span style="color: #00
 0000; font-family: Times New Roman; font-size: medium;"> </span><span style
 ="color: #000000; font-family: Times New Roman; font-size: medium;"><br /><
 /span></p><p style="margin: 0in 3.1pt 0pt 0in; text-align: center;" align="
 center"><b style="mso-bidi-font-weight: normal;"><i style="mso-bidi-font-st
 yle: normal;"><span style="font-size: 14pt; mso-fareast-font-family: 'MS Mi
 ncho';"><span style="color: #000000; font-family: Courier New;">The Officia
 l State Scholastic Championships!</span></span></i></b></p><p><span style="
 color: #000000; font-family: Times New Roman; font-size: medium;"> </span><
 span style="color: #000000; font-family: Times New Roman; font-size: medium
 ;"><br /></span></p><p style="margin: 0in 3.1pt 0pt 0in; text-align: center
 ;" align="center"><b><span style="font-size: 14pt; mso-fareast-font-family:
  'MS Mincho'; mso-bidi-font-size: 10.0pt;"><span style="color: #000000; fon
 t-family: Courier New;">March 22-23</span></span></b></p><p><span style="co
 lor: #000000; font-family: Times New Roman; font-size: medium;"> </span><sp
 an style="color: #000000; font-family: Times New Roman; font-size: medium;"
 ><br /></span></p><p style="margin: 0in 3.1pt 0pt 0in; text-align: center;"
  align="center"><b><span style="font-size: 14pt; mso-fareast-font-family: '
 MS Mincho'; mso-bidi-font-size: 10.0pt;"><span style="color: #000000; font-
 family: Courier New;">Reeve Memorial Union, UW-Oshkosh</span></span></b></p
 ><p><span style="font-family: Courier New;"><span style="color: #000000;"><
 b><span style="font-size: 12pt; mso-fareast-font-family: 'MS Mincho';">Form
 at:</span></b><span style="font-size: 12pt; mso-fareast-font-family: 'MS Mi
 ncho'; mso-bidi-font-weight: bold;"><span style="mso-spacerun: yes;">  </sp
 an>Six sections to choose from!<span style="mso-spacerun: yes;">  </span>Th
 e <b>Varsity I</b>, <b>Varsity II</b> and <b>Varsity III</b> sections are f
 ive person team, team Swiss events with 5 rounds.<span style="mso-spacerun:
  yes;">  </span>The <b>Junior Varsity (K-12)</b>, <b>K-8</b> and <b>K-5</b>
  are individual 6 round Swiss events.<span style="mso-spacerun: yes;">  </s
 pan>In all sections team and individual trophies and medals will be awarded
 !<span style="mso-spacerun: yes;">  </span><span style="text-decoration: un
 derline;">Special team formation rules apply.</span><span style="mso-spacer
 un: yes;">  </span>Note that the varsity sections are not based on school s
 ize but rather strength of team.</span></span></span></p><p><span style="fo
 nt-family: Courier New;"><span style="color: #000000;"><b><span style="font
 -size: 12pt; mso-fareast-font-family: 'MS Mincho';">Site:<span style="mso-s
 pacerun: yes;">  </span></span></b><span style="font-size: 12pt; mso-fareas
 t-font-family: 'MS Mincho'; mso-bidi-font-weight: bold;">Reeve Memorial Uni
 on, UW-Oshkosh.<span style="mso-spacerun: yes;">  </span>All play will be o
 n the union’s second floor.<span style="mso-spacerun: yes;">  </span>Food i
 s available in the Union’s MarketPlace on the first floor.<span style="mso-
 spacerun: yes;">  </span>Participants may lodge at Gruenhagen Conference Ce
 nter, a four minute walk from Reeve Union, for $40 in a single or double fu
 ll service room or for $30 in a single or double student service room.<span
  style="mso-spacerun: yes;">  </span>Reserve rooms early and directly with 
 Gruenhagen at 920-424-1106 as only one tower is available.</span></span></s
 pan></p><p><span style="font-family: Courier New;"><span style="color: #000
 000;"><b><span style="font-size: 12pt; mso-fareast-font-family: 'MS Mincho'
 ;">Entry Fee:<span style="mso-spacerun: yes;">  </span></span></b><span sty
 le="font-size: 12pt; mso-fareast-font-family: 'MS Mincho'; mso-bidi-font-we
 ight: bold;">If received by March 15, $15.<span style="mso-spacerun: yes;">
   </span>If received by March 21, $19.<span style="mso-spacerun: yes;">  </
 span>At site is $24.<span style="mso-spacerun: yes;">  </span>See the full 
 flyer for the entry form.</span></span></span></p><p><span style="font-fami
 ly: Courier New;"><span style="color: #000000;"><b><span style="font-size: 
 12pt; mso-fareast-font-family: 'MS Mincho';">Ratings?:<span style="mso-spac
 erun: yes;">  </span></span></b><span style="font-size: 12pt; mso-fareast-f
 ont-family: 'MS Mincho'; mso-bidi-font-weight: bold;">While the event is no
 t a US Chess Federation membership required event, USCF ratings will be use
 d for pairing purposes if the player has one.<span style="mso-spacerun: yes
 ;">  </span>Other ratings not used. </span></span></span></p><p><span style
 ="font-family: Courier New;"><span style="color: #000000;"><b><span style="
 font-size: 12pt; mso-fareast-font-family: 'MS Mincho';">Time Control:<span 
 style="mso-spacerun: yes;">  </span></span></b><span style="font-size: 12pt
 ; mso-fareast-font-family: 'MS Mincho'; mso-bidi-font-weight: bold;">Depend
 ing on section and day, the time control is either Game in 90 minutes or Ga
 me in 60 minutes.<span style="mso-spacerun: yes;">  </span>See full flyer f
 or details.</span></span></span></p><p><span style="font-family: Courier Ne
 w;"><span style="color: #000000;"><b><span style="font-size: 12pt; mso-fare
 ast-font-family: 'MS Mincho';">Saturday Night <span style="text-decoration:
  underline;">Fun</span>:<span style="mso-spacerun: yes;">  </span></span></
 b><span style="font-size: 12pt; mso-fareast-font-family: 'MS Mincho'; mso-b
 idi-font-weight: bold;">includes a simultaneous exhibition by Grandmaster J
 osh Friedel and a bughouse tournament sponsored by the Waupaca High School 
 Chess Club.</span></span></span></p><p><span style="font-family: Courier Ne
 w;"><span style="color: #000000;"><b><span style="font-size: 12pt; mso-fare
 ast-font-family: 'MS Mincho';">Bookstore:<span style="mso-spacerun: yes;"> 
  </span></span></b><span style="font-size: 12pt; mso-fareast-font-family: '
 MS Mincho'; mso-bidi-font-weight: bold;">Luke Ludwig will have his supply o
 f chess books, CD’s and equipment for sale all weekend.</span></span></span
 ></p><p><span style="color: #000000;"><span style="font-family: Courier New
 ;"><b style="mso-bidi-font-weight: normal;"><span style="text-decoration: u
 nderline;"><span style="font-size: 12pt; mso-fareast-font-family: 'MS Minch
 o';">Flyer</span></span></b><b style="mso-bidi-font-weight: normal;"><span 
 style="font-size: 12pt; mso-fareast-font-family: 'MS Mincho';">:<span style
 ="mso-spacerun: yes;">  </span></span></b><span style="font-size: 12pt; mso
 -fareast-font-family: 'MS Mincho';">E-mail organizer Mike Nietman </span></
 span></span><span style="font-size: 12pt; mso-fareast-font-family: 'MS Minc
 ho';"><span style="color: #000000; font-family: Courier New;">or call him e
 venings and weekends for more information or a full flyer.</span></span></p
 ><p><span style="color: #000000; font-family: Times New Roman; font-size: m
 edium;"> <br /></span></p>
CONTACT:Mike Nietman, This email address is being protected from spambots. You need JavaScript enabled to view it.
				document.getElementById('cloak105862fb0451f738af0946edc5640afa').innerHTML = '';
				var prefix = '&#109;a' + 'i&#108;' + '&#116;o';
				var path = 'hr' + 'ef' + '=';
				var addy105862fb0451f738af0946edc5640afa = 'm&#105;k&#101;.n&#105;&#101;tm&#97;n' + '&#64;';
				addy105862fb0451f738af0946edc5640afa = addy105862fb0451f738af0946edc5640afa + 'ch&#97;rt&#101;r' + '&#46;' + 'n&#101;t';
				var addy_text105862fb0451f738af0946edc5640afa = 'm&#105;k&#101;.n&#105;&#101;tm&#97;n' + '&#64;' + 'ch&#97;rt&#101;r' + '&#46;' + 'n&#101;t';document.getElementById('cloak105862fb0451f738af0946edc5640afa').innerHTML += '<a ' + path + '\'' + prefix + ':' + addy105862fb0451f738af0946edc5640afa + '\'>'+addy_text105862fb0451f738af0946edc5640afa+'';
		, 608-467-8510 (evenings and weekends)
DTSTAMP:20260422T201419
DTSTART;TZID=America/Chicago:20140322T080000
DTEND;TZID=America/Chicago:20140323T170000
SEQUENCE:0
TRANSP:OPAQUE
END:VEVENT
END:VCALENDAR