BEGIN:VCALENDAR
VERSION:2.0
PRODID:-//jEvents 2.0 for Joomla//EN
CALSCALE:GREGORIAN
METHOD:PUBLISH
BEGIN:VTIMEZONE
TZID:America/Chicago
BEGIN:STANDARD
DTSTART:20131107T000000
RDATE:20140309T030000
TZOFFSETFROM:-0500
TZOFFSETTO:-0600
TZNAME:America/Chicago CST
END:STANDARD
BEGIN:STANDARD
DTSTART:20141102T010000
RDATE:20150308T030000
TZOFFSETFROM:-0500
TZOFFSETTO:-0600
TZNAME:America/Chicago CST
END:STANDARD
BEGIN:STANDARD
DTSTART:20151101T010000
RDATE:20160313T030000
TZOFFSETFROM:-0500
TZOFFSETTO:-0600
TZNAME:America/Chicago CST
END:STANDARD
BEGIN:STANDARD
DTSTART:20161106T010000
RDATE:20170312T030000
TZOFFSETFROM:-0500
TZOFFSETTO:-0600
TZNAME:America/Chicago CST
END:STANDARD
BEGIN:STANDARD
DTSTART:20171105T010000
RDATE:20180311T030000
TZOFFSETFROM:-0500
TZOFFSETTO:-0600
TZNAME:America/Chicago CST
END:STANDARD
BEGIN:STANDARD
DTSTART:20181104T010000
RDATE:20190310T030000
TZOFFSETFROM:-0500
TZOFFSETTO:-0600
TZNAME:America/Chicago CST
END:STANDARD
BEGIN:STANDARD
DTSTART:20191103T010000
RDATE:20200308T030000
TZOFFSETFROM:-0500
TZOFFSETTO:-0600
TZNAME:America/Chicago CST
END:STANDARD
BEGIN:STANDARD
DTSTART:20201101T010000
RDATE:20210314T030000
TZOFFSETFROM:-0500
TZOFFSETTO:-0600
TZNAME:America/Chicago CST
END:STANDARD
BEGIN:STANDARD
DTSTART:20211107T010000
RDATE:20220313T030000
TZOFFSETFROM:-0500
TZOFFSETTO:-0600
TZNAME:America/Chicago CST
END:STANDARD
BEGIN:STANDARD
DTSTART:20221106T010000
RDATE:20230312T030000
TZOFFSETFROM:-0500
TZOFFSETTO:-0600
TZNAME:America/Chicago CST
END:STANDARD
BEGIN:STANDARD
DTSTART:20231105T010000
RDATE:20240310T030000
TZOFFSETFROM:-0500
TZOFFSETTO:-0600
TZNAME:America/Chicago CST
END:STANDARD
BEGIN:STANDARD
DTSTART:20241103T010000
RDATE:20250309T030000
TZOFFSETFROM:-0500
TZOFFSETTO:-0600
TZNAME:America/Chicago CST
END:STANDARD
BEGIN:STANDARD
DTSTART:20251102T010000
RDATE:20260308T030000
TZOFFSETFROM:-0500
TZOFFSETTO:-0600
TZNAME:America/Chicago CST
END:STANDARD
BEGIN:STANDARD
DTSTART:20261101T010000
RDATE:20270314T030000
TZOFFSETFROM:-0500
TZOFFSETTO:-0600
TZNAME:America/Chicago CST
END:STANDARD
BEGIN:STANDARD
DTSTART:20271107T010000
RDATE:20280312T030000
TZOFFSETFROM:-0500
TZOFFSETTO:-0600
TZNAME:America/Chicago CST
END:STANDARD
BEGIN:STANDARD
DTSTART:20281105T010000
RDATE:20290311T030000
TZOFFSETFROM:-0500
TZOFFSETTO:-0600
TZNAME:America/Chicago CST
END:STANDARD
BEGIN:DAYLIGHT
DTSTART:20140309T030000
RDATE:20141102T010000
TZOFFSETFROM:-0600
TZOFFSETTO:-0500
TZNAME:America/Chicago CDT
END:DAYLIGHT
BEGIN:DAYLIGHT
DTSTART:20150308T030000
RDATE:20151101T010000
TZOFFSETFROM:-0600
TZOFFSETTO:-0500
TZNAME:America/Chicago CDT
END:DAYLIGHT
BEGIN:DAYLIGHT
DTSTART:20160313T030000
RDATE:20161106T010000
TZOFFSETFROM:-0600
TZOFFSETTO:-0500
TZNAME:America/Chicago CDT
END:DAYLIGHT
BEGIN:DAYLIGHT
DTSTART:20170312T030000
RDATE:20171105T010000
TZOFFSETFROM:-0600
TZOFFSETTO:-0500
TZNAME:America/Chicago CDT
END:DAYLIGHT
BEGIN:DAYLIGHT
DTSTART:20180311T030000
RDATE:20181104T010000
TZOFFSETFROM:-0600
TZOFFSETTO:-0500
TZNAME:America/Chicago CDT
END:DAYLIGHT
BEGIN:DAYLIGHT
DTSTART:20190310T030000
RDATE:20191103T010000
TZOFFSETFROM:-0600
TZOFFSETTO:-0500
TZNAME:America/Chicago CDT
END:DAYLIGHT
BEGIN:DAYLIGHT
DTSTART:20200308T030000
RDATE:20201101T010000
TZOFFSETFROM:-0600
TZOFFSETTO:-0500
TZNAME:America/Chicago CDT
END:DAYLIGHT
BEGIN:DAYLIGHT
DTSTART:20210314T030000
RDATE:20211107T010000
TZOFFSETFROM:-0600
TZOFFSETTO:-0500
TZNAME:America/Chicago CDT
END:DAYLIGHT
BEGIN:DAYLIGHT
DTSTART:20220313T030000
RDATE:20221106T010000
TZOFFSETFROM:-0600
TZOFFSETTO:-0500
TZNAME:America/Chicago CDT
END:DAYLIGHT
BEGIN:DAYLIGHT
DTSTART:20230312T030000
RDATE:20231105T010000
TZOFFSETFROM:-0600
TZOFFSETTO:-0500
TZNAME:America/Chicago CDT
END:DAYLIGHT
BEGIN:DAYLIGHT
DTSTART:20240310T030000
RDATE:20241103T010000
TZOFFSETFROM:-0600
TZOFFSETTO:-0500
TZNAME:America/Chicago CDT
END:DAYLIGHT
BEGIN:DAYLIGHT
DTSTART:20250309T030000
RDATE:20251102T010000
TZOFFSETFROM:-0600
TZOFFSETTO:-0500
TZNAME:America/Chicago CDT
END:DAYLIGHT
BEGIN:DAYLIGHT
DTSTART:20260308T030000
RDATE:20261101T010000
TZOFFSETFROM:-0600
TZOFFSETTO:-0500
TZNAME:America/Chicago CDT
END:DAYLIGHT
BEGIN:DAYLIGHT
DTSTART:20270314T030000
RDATE:20271107T010000
TZOFFSETFROM:-0600
TZOFFSETTO:-0500
TZNAME:America/Chicago CDT
END:DAYLIGHT
BEGIN:DAYLIGHT
DTSTART:20280312T030000
RDATE:20281105T010000
TZOFFSETFROM:-0600
TZOFFSETTO:-0500
TZNAME:America/Chicago CDT
END:DAYLIGHT
END:VTIMEZONE
BEGIN:VEVENT
UID:d846f93535f0584b43b7f7820b9d55de
CATEGORIES:Tournaments
CREATED:20140526T220601
SUMMARY:Wisconsin Junior Open
LOCATION:Gruenhagen Conference Center\, UW-Oshkosh
DESCRIPTION:Wisconsin Junior Open\nGruenhagen Conference Center, UW-Oshkosh, Corner of 
 High and Osceola\nSt. Oshkosh WI 54901. HR: $40 Full Service, $30 Student S
 ervice; (dorm\nroom) 920-424-1106. 2015 Denker/Barber/NGIT qualifier; Open 
 to youth\nborn after 11/8/1993. In 5 Sections Open: 5SS, G/120; d5, EF: $17
  in\nadvance by 11/4; $22 at site. Prizes: Top 5, Top 2 each 1600, 1500,\n1
 400, 1300, 1200, 1100, Under 1100 and Unrated. Reserve (U1100 or\nUnrated):
  5SS, G/120; d5, EF: $17 in advance by 11/4; $22 at site.\nPrizes: Top 5, T
 op 2 each 900, 800, 700, 600, 500 and Under 500\nand top 3 Unrated. Non-Rat
 ed Beginner's Grade 7-12: 5SS, G/\n120; d5, Open to Grades 7-12. EF: $16 in
  advance by 11/4; $21 at\nsite. Prizes: Top 5 and top 3 Grade 7-9. Non-Rate
 d Beginner's\nGrade K-6: 5SS, G/120; d5, Open to Grades K-6. EF: $16 in adv
 ance\nby 11/4; $21 at site. Prizes: Top 5 and top 3 Grade K-3. Girl's\nJuni
 or Open: 5SS, G/120; d5, EF: $17 in advance by 11/4; $22 at\nsite. Prizes: 
 Top 3 and top ages 15-16, 13-14, 11-12, 9-10 and Under\n9. ALL: Reg: 11/8 8
 :45-9:30 A.M. Rds: 10:15-2:30-7:15; 10:00-3:00.\nENT: Mike Nietman, 2 Boca 
 Grande Way, Madison, WI 53719. INFO:\nMike Nietman, 608-467-8510 (before 11
 /7) This email address is being protected from spambots. You need JavaScrip
 t enabled to view it.
				document.getElementById('cloakf58a13dce66ccef35f8
 fa4a2cb83165d').innerHTML = '';
				var prefix = '&#109;a' + 'i&#108;' + '&
 #116;o';
				var path = 'hr' + 'ef' + '=';
				var addyf58a13dce66ccef35f8f
 a4a2cb83165d = 'm&#105;k&#101;.n&#105;&#101;tm&#97;n' + '&#64;';
				addyf5
 8a13dce66ccef35f8fa4a2cb83165d = addyf58a13dce66ccef35f8fa4a2cb83165d + 'ch
 &#97;rt&#101;r' + '&#46;' + 'n&#101;t';
				var addy_textf58a13dce66ccef35f
 8fa4a2cb83165d = 'm&#105;k&#101;.n&#105;&#101;tm&#97;n' + '&#64;' + 'ch&#97
 ;rt&#101;r' + '&#46;' + 'n&#101;t';document.getElementById('cloakf58a13dce6
 6ccef35f8fa4a2cb83165d').innerHTML += '<a ' + path + '\'' + prefix + ':' + 
 addyf58a13dce66ccef35f8fa4a2cb83165d + '\'>'+addy_textf58a13dce66ccef35f8fa
 4a2cb83165d+'';
		.\nNS NC W.\nFor full flyer, e-mail the organizer at This
  email address is being protected from spambots. You need JavaScript enable
 d to view it.
				document.getElementById('cloakae620b376d458a407fd29783b90
 92188').innerHTML = '';
				var prefix = '&#109;a' + 'i&#108;' + '&#116;o';
 
				var path = 'hr' + 'ef' + '=';
				var addyae620b376d458a407fd29783b909
 2188 = 'm&#105;k&#101;.n&#105;&#101;tm&#97;n' + '&#64;';
				addyae620b376d
 458a407fd29783b9092188 = addyae620b376d458a407fd29783b9092188 + 'ch&#97;rt&
 #101;r' + '&#46;' + 'n&#101;t';
				var addy_textae620b376d458a407fd29783b9
 092188 = 'm&#105;k&#101;.n&#105;&#101;tm&#97;n' + '&#64;' + 'ch&#97;rt&#101
 ;r' + '&#46;' + 'n&#101;t';document.getElementById('cloakae620b376d458a407f
 d29783b9092188').innerHTML += '<a ' + path + '\'' + prefix + ':' + addyae62
 0b376d458a407fd29783b9092188 + '\'>'+addy_textae620b376d458a407fd29783b9092
 188+'';
		.\n \n
X-ALT-DESC;FMTTYPE=text/html:<p>Wisconsin Junior Open</p><p>Gruenhagen Conference Center, UW-Oshkosh, Co
 rner of High and Osceola</p><p>St. Oshkosh WI 54901. HR: $40 Full Service, 
 $30 Student Service; (dorm</p><p>room) 920-424-1106. 2015 Denker/Barber/NGI
 T qualifier; Open to youth</p><p><span style="font-family: BellCentennialSt
 d-Address; font-size: medium;"><span style="font-family: BellCentennialStd-
 Address; font-size: medium;">born after 11/8/1993. In 5 Sections </span></s
 pan><span style="font-family: BellCentennialStd-NameNum; font-size: large;"
 ><span style="font-family: BellCentennialStd-NameNum; font-size: large;">Op
 en: </span></span><span style="font-family: BellCentennialStd-Address; font
 -size: medium;"><span style="font-family: BellCentennialStd-Address; font-s
 ize: medium;">5SS, G/120; d5, </span></span><span style="font-family: BellC
 entennialStd-NameNum; font-size: large;"><span style="font-family: BellCent
 ennialStd-NameNum; font-size: large;">EF: </span></span><span style="font-f
 amily: BellCentennialStd-Address; font-size: medium;"><span style="font-fam
 ily: BellCentennialStd-Address; font-size: medium;">$17 in</span></span></p
 ><p><span style="font-family: BellCentennialStd-Address; font-size: medium;
 "><span style="font-family: BellCentennialStd-Address; font-size: medium;">
 advance by 11/4; $22 at site. </span></span><span style="font-family: BellC
 entennialStd-NameNum; font-size: large;"><span style="font-family: BellCent
 ennialStd-NameNum; font-size: large;">Prizes: </span></span><span style="fo
 nt-family: BellCentennialStd-Address; font-size: medium;"><span style="font
 -family: BellCentennialStd-Address; font-size: medium;">Top 5, Top 2 each 1
 600, 1500,</span></span></p><p><span style="font-family: BellCentennialStd-
 Address; font-size: medium;"><span style="font-family: BellCentennialStd-Ad
 dress; font-size: medium;">1400, 1300, 1200, 1100, Under 1100 and Unrated. 
 </span></span><span style="font-family: BellCentennialStd-NameNum; font-siz
 e: large;"><span style="font-family: BellCentennialStd-NameNum; font-size: 
 large;">Reserve (U1100 or</span></span></p><p><span style="font-family: Bel
 lCentennialStd-NameNum; font-size: large;"><span style="font-family: BellCe
 ntennialStd-NameNum; font-size: large;">Unrated): </span></span><span style
 ="font-family: BellCentennialStd-Address; font-size: medium;"><span style="
 font-family: BellCentennialStd-Address; font-size: medium;">5SS, G/120; d5,
  </span></span><span style="font-family: BellCentennialStd-NameNum; font-si
 ze: large;"><span style="font-family: BellCentennialStd-NameNum; font-size:
  large;">EF: </span></span><span style="font-family: BellCentennialStd-Addr
 ess; font-size: medium;"><span style="font-family: BellCentennialStd-Addres
 s; font-size: medium;">$17 in advance by 11/4; $22 at site.</span></span></
 p><p><span style="font-family: BellCentennialStd-NameNum; font-size: large;
 "><span style="font-family: BellCentennialStd-NameNum; font-size: large;">P
 rizes: </span></span><span style="font-family: BellCentennialStd-Address; f
 ont-size: medium;"><span style="font-family: BellCentennialStd-Address; fon
 t-size: medium;">Top 5, Top 2 each 900, 800, 700, 600, 500 and Under 500</s
 pan></span></p><p><span style="font-family: BellCentennialStd-Address; font
 -size: medium;"><span style="font-family: BellCentennialStd-Address; font-s
 ize: medium;">and top 3 Unrated. </span></span><span style="font-family: Be
 llCentennialStd-NameNum; font-size: large;"><span style="font-family: BellC
 entennialStd-NameNum; font-size: large;">Non-Rated Beginner's Grade 7-12: <
 /span></span><span style="font-family: BellCentennialStd-Address; font-size
 : medium;"><span style="font-family: BellCentennialStd-Address; font-size: 
 medium;">5SS, G/</span></span></p><p><span style="font-family: BellCentenni
 alStd-Address; font-size: medium;"><span style="font-family: BellCentennial
 Std-Address; font-size: medium;">120; d5, Open to Grades 7-12. </span></spa
 n><span style="font-family: BellCentennialStd-NameNum; font-size: large;"><
 span style="font-family: BellCentennialStd-NameNum; font-size: large;">EF: 
 </span></span><span style="font-family: BellCentennialStd-Address; font-siz
 e: medium;"><span style="font-family: BellCentennialStd-Address; font-size:
  medium;">$16 in advance by 11/4; $21 at</span></span></p><p><span style="f
 ont-family: BellCentennialStd-Address; font-size: medium;"><span style="fon
 t-family: BellCentennialStd-Address; font-size: medium;">site. </span></spa
 n><span style="font-family: BellCentennialStd-NameNum; font-size: large;"><
 span style="font-family: BellCentennialStd-NameNum; font-size: large;">Priz
 es: </span></span><span style="font-family: BellCentennialStd-Address; font
 -size: medium;"><span style="font-family: BellCentennialStd-Address; font-s
 ize: medium;">Top 5 and top 3 Grade 7-9. </span></span><span style="font-fa
 mily: BellCentennialStd-NameNum; font-size: large;"><span style="font-famil
 y: BellCentennialStd-NameNum; font-size: large;">Non-Rated Beginner's</span
 ></span></p><p><span style="font-family: BellCentennialStd-NameNum; font-si
 ze: large;"><span style="font-family: BellCentennialStd-NameNum; font-size:
  large;">Grade K-6: </span></span><span style="font-family: BellCentennialS
 td-Address; font-size: medium;"><span style="font-family: BellCentennialStd
 -Address; font-size: medium;">5SS, G/120; d5, Open to Grades K-6. </span></
 span><span style="font-family: BellCentennialStd-NameNum; font-size: large;
 "><span style="font-family: BellCentennialStd-NameNum; font-size: large;">E
 F: </span></span><span style="font-family: BellCentennialStd-Address; font-
 size: medium;"><span style="font-family: BellCentennialStd-Address; font-si
 ze: medium;">$16 in advance</span></span></p><p><span style="font-family: B
 ellCentennialStd-Address; font-size: medium;"><span style="font-family: Bel
 lCentennialStd-Address; font-size: medium;">by 11/4; $21 at site. </span></
 span><span style="font-family: BellCentennialStd-NameNum; font-size: large;
 "><span style="font-family: BellCentennialStd-NameNum; font-size: large;">P
 rizes: </span></span><span style="font-family: BellCentennialStd-Address; f
 ont-size: medium;"><span style="font-family: BellCentennialStd-Address; fon
 t-size: medium;">Top 5 and top 3 Grade K-3. </span></span><span style="font
 -family: BellCentennialStd-NameNum; font-size: large;"><span style="font-fa
 mily: BellCentennialStd-NameNum; font-size: large;">Girl's</span></span></p
 ><p><span style="font-family: BellCentennialStd-NameNum; font-size: large;"
 ><span style="font-family: BellCentennialStd-NameNum; font-size: large;">Ju
 nior Open: </span></span><span style="font-family: BellCentennialStd-Addres
 s; font-size: medium;"><span style="font-family: BellCentennialStd-Address;
  font-size: medium;">5SS, G/120; d5, </span></span><span style="font-family
 : BellCentennialStd-NameNum; font-size: large;"><span style="font-family: B
 ellCentennialStd-NameNum; font-size: large;">EF: </span></span><span style=
 "font-family: BellCentennialStd-Address; font-size: medium;"><span style="f
 ont-family: BellCentennialStd-Address; font-size: medium;">$17 in advance b
 y 11/4; $22 at</span></span></p><p><span style="font-family: BellCentennial
 Std-Address; font-size: medium;"><span style="font-family: BellCentennialSt
 d-Address; font-size: medium;">site. </span></span><span style="font-family
 : BellCentennialStd-NameNum; font-size: large;"><span style="font-family: B
 ellCentennialStd-NameNum; font-size: large;">Prizes: </span></span><span st
 yle="font-family: BellCentennialStd-Address; font-size: medium;"><span styl
 e="font-family: BellCentennialStd-Address; font-size: medium;">Top 3 and to
 p ages 15-16, 13-14, 11-12, 9-10 and Under</span></span></p><p><span style=
 "font-family: BellCentennialStd-Address; font-size: medium;"><span style="f
 ont-family: BellCentennialStd-Address; font-size: medium;">9. </span></span
 ><span style="font-family: BellCentennialStd-NameNum; font-size: large;"><s
 pan style="font-family: BellCentennialStd-NameNum; font-size: large;">ALL: 
 Reg: </span></span><span style="font-family: BellCentennialStd-Address; fon
 t-size: medium;"><span style="font-family: BellCentennialStd-Address; font-
 size: medium;">11/8 8:45-9:30 A.M. </span></span><span style="font-family: 
 BellCentennialStd-NameNum; font-size: large;"><span style="font-family: Bel
 lCentennialStd-NameNum; font-size: large;">Rds: </span></span><span style="
 font-family: BellCentennialStd-Address; font-size: medium;"><span style="fo
 nt-family: BellCentennialStd-Address; font-size: medium;">10:15-2:30-7:15; 
 10:00-3:00.</span></span></p><p><span style="font-family: BellCentennialStd
 -NameNum; font-size: large;"><span style="font-family: BellCentennialStd-Na
 meNum; font-size: large;">ENT: </span></span><span style="font-family: Bell
 CentennialStd-Address; font-size: medium;"><span style="font-family: BellCe
 ntennialStd-Address; font-size: medium;">Mike Nietman, 2 Boca Grande Way, M
 adison, WI 53719. </span></span><span style="font-family: BellCentennialStd
 -NameNum; font-size: large;"><span style="font-family: BellCentennialStd-Na
 meNum; font-size: large;">INFO:</span></span></p><p>Mike Nietman, 608-467-8
 510 (before 11/7) <span id="cloakf58a13dce66ccef35f8fa4a2cb83165d">This ema
 il address is being protected from spambots. You need JavaScript enabled to
  view it.</span><script type='text/javascript'>
				document.getElementById
 ('cloakf58a13dce66ccef35f8fa4a2cb83165d').innerHTML = '';
				var prefix = 
 '&#109;a' + 'i&#108;' + '&#116;o';
				var path = 'hr' + 'ef' + '=';
				va
 r addyf58a13dce66ccef35f8fa4a2cb83165d = 'm&#105;k&#101;.n&#105;&#101;tm&#9
 7;n' + '&#64;';
				addyf58a13dce66ccef35f8fa4a2cb83165d = addyf58a13dce66c
 cef35f8fa4a2cb83165d + 'ch&#97;rt&#101;r' + '&#46;' + 'n&#101;t';
				var a
 ddy_textf58a13dce66ccef35f8fa4a2cb83165d = 'm&#105;k&#101;.n&#105;&#101;tm&
 #97;n' + '&#64;' + 'ch&#97;rt&#101;r' + '&#46;' + 'n&#101;t';document.getEl
 ementById('cloakf58a13dce66ccef35f8fa4a2cb83165d').innerHTML += '<a ' + pat
 h + '\'' + prefix + ':' + addyf58a13dce66ccef35f8fa4a2cb83165d + '\'>'+addy
 _textf58a13dce66ccef35f8fa4a2cb83165d+'<\/a>';
		</script>.</p><p>NS NC W.<
 /p><p>For full flyer, e-mail the organizer at <span id="cloakae620b376d458a
 407fd29783b9092188">This email address is being protected from spambots. Yo
 u need JavaScript enabled to view it.</span><script type='text/javascript'>
 
				document.getElementById('cloakae620b376d458a407fd29783b9092188').inner
 HTML = '';
				var prefix = '&#109;a' + 'i&#108;' + '&#116;o';
				var path
  = 'hr' + 'ef' + '=';
				var addyae620b376d458a407fd29783b9092188 = 'm&#10
 5;k&#101;.n&#105;&#101;tm&#97;n' + '&#64;';
				addyae620b376d458a407fd2978
 3b9092188 = addyae620b376d458a407fd29783b9092188 + 'ch&#97;rt&#101;r' + '&#
 46;' + 'n&#101;t';
				var addy_textae620b376d458a407fd29783b9092188 = 'm&#
 105;k&#101;.n&#105;&#101;tm&#97;n' + '&#64;' + 'ch&#97;rt&#101;r' + '&#46;'
  + 'n&#101;t';document.getElementById('cloakae620b376d458a407fd29783b909218
 8').innerHTML += '<a ' + path + '\'' + prefix + ':' + addyae620b376d458a407
 fd29783b9092188 + '\'>'+addy_textae620b376d458a407fd29783b9092188+'<\/a>';

 		</script>.</p><p> </p>
CONTACT:Mike Nietman 608-467-8510 or This email address is being protected from spambots. You need JavaScript enabled to view it.
				document.getElementById('cloak18a0e9baf69a58f60f7ee07ae48c8a71').innerHTML = '';
				var prefix = '&#109;a' + 'i&#108;' + '&#116;o';
				var path = 'hr' + 'ef' + '=';
				var addy18a0e9baf69a58f60f7ee07ae48c8a71 = 'm&#105;k&#101;.n&#105;&#101;tm&#97;n' + '&#64;';
				addy18a0e9baf69a58f60f7ee07ae48c8a71 = addy18a0e9baf69a58f60f7ee07ae48c8a71 + 'ch&#97;rt&#101;r' + '&#46;' + 'n&#101;t';
				var addy_text18a0e9baf69a58f60f7ee07ae48c8a71 = 'm&#105;k&#101;.n&#105;&#101;tm&#97;n' + '&#64;' + 'ch&#97;rt&#101;r' + '&#46;' + 'n&#101;t';document.getElementById('cloak18a0e9baf69a58f60f7ee07ae48c8a71').innerHTML += '<a ' + path + '\'' + prefix + ':' + addy18a0e9baf69a58f60f7ee07ae48c8a71 + '\'>'+addy_text18a0e9baf69a58f60f7ee07ae48c8a71+'';
		
DTSTAMP:20260423T035644
DTSTART;TZID=America/Chicago;VALUE=DATE:20141108
DTEND;TZID=America/Chicago;VALUE=DATE:20141110
SEQUENCE:0
TRANSP:OPAQUE
END:VEVENT
END:VCALENDAR