BEGIN:VCALENDAR
VERSION:2.0
PRODID:-//jEvents 2.0 for Joomla//EN
CALSCALE:GREGORIAN
METHOD:PUBLISH
BEGIN:VTIMEZONE
TZID:America/Chicago
BEGIN:STANDARD
DTSTART:20131107T000000
RDATE:20140309T030000
TZOFFSETFROM:-0500
TZOFFSETTO:-0600
TZNAME:America/Chicago CST
END:STANDARD
BEGIN:STANDARD
DTSTART:20141102T010000
RDATE:20150308T030000
TZOFFSETFROM:-0500
TZOFFSETTO:-0600
TZNAME:America/Chicago CST
END:STANDARD
BEGIN:STANDARD
DTSTART:20151101T010000
RDATE:20160313T030000
TZOFFSETFROM:-0500
TZOFFSETTO:-0600
TZNAME:America/Chicago CST
END:STANDARD
BEGIN:STANDARD
DTSTART:20161106T010000
RDATE:20170312T030000
TZOFFSETFROM:-0500
TZOFFSETTO:-0600
TZNAME:America/Chicago CST
END:STANDARD
BEGIN:STANDARD
DTSTART:20171105T010000
RDATE:20180311T030000
TZOFFSETFROM:-0500
TZOFFSETTO:-0600
TZNAME:America/Chicago CST
END:STANDARD
BEGIN:STANDARD
DTSTART:20181104T010000
RDATE:20190310T030000
TZOFFSETFROM:-0500
TZOFFSETTO:-0600
TZNAME:America/Chicago CST
END:STANDARD
BEGIN:STANDARD
DTSTART:20191103T010000
RDATE:20200308T030000
TZOFFSETFROM:-0500
TZOFFSETTO:-0600
TZNAME:America/Chicago CST
END:STANDARD
BEGIN:STANDARD
DTSTART:20201101T010000
RDATE:20210314T030000
TZOFFSETFROM:-0500
TZOFFSETTO:-0600
TZNAME:America/Chicago CST
END:STANDARD
BEGIN:STANDARD
DTSTART:20211107T010000
RDATE:20220313T030000
TZOFFSETFROM:-0500
TZOFFSETTO:-0600
TZNAME:America/Chicago CST
END:STANDARD
BEGIN:STANDARD
DTSTART:20221106T010000
RDATE:20230312T030000
TZOFFSETFROM:-0500
TZOFFSETTO:-0600
TZNAME:America/Chicago CST
END:STANDARD
BEGIN:STANDARD
DTSTART:20231105T010000
RDATE:20240310T030000
TZOFFSETFROM:-0500
TZOFFSETTO:-0600
TZNAME:America/Chicago CST
END:STANDARD
BEGIN:STANDARD
DTSTART:20241103T010000
RDATE:20250309T030000
TZOFFSETFROM:-0500
TZOFFSETTO:-0600
TZNAME:America/Chicago CST
END:STANDARD
BEGIN:STANDARD
DTSTART:20251102T010000
RDATE:20260308T030000
TZOFFSETFROM:-0500
TZOFFSETTO:-0600
TZNAME:America/Chicago CST
END:STANDARD
BEGIN:STANDARD
DTSTART:20261101T010000
RDATE:20270314T030000
TZOFFSETFROM:-0500
TZOFFSETTO:-0600
TZNAME:America/Chicago CST
END:STANDARD
BEGIN:STANDARD
DTSTART:20271107T010000
RDATE:20280312T030000
TZOFFSETFROM:-0500
TZOFFSETTO:-0600
TZNAME:America/Chicago CST
END:STANDARD
BEGIN:STANDARD
DTSTART:20281105T010000
RDATE:20290311T030000
TZOFFSETFROM:-0500
TZOFFSETTO:-0600
TZNAME:America/Chicago CST
END:STANDARD
BEGIN:DAYLIGHT
DTSTART:20140309T030000
RDATE:20141102T010000
TZOFFSETFROM:-0600
TZOFFSETTO:-0500
TZNAME:America/Chicago CDT
END:DAYLIGHT
BEGIN:DAYLIGHT
DTSTART:20150308T030000
RDATE:20151101T010000
TZOFFSETFROM:-0600
TZOFFSETTO:-0500
TZNAME:America/Chicago CDT
END:DAYLIGHT
BEGIN:DAYLIGHT
DTSTART:20160313T030000
RDATE:20161106T010000
TZOFFSETFROM:-0600
TZOFFSETTO:-0500
TZNAME:America/Chicago CDT
END:DAYLIGHT
BEGIN:DAYLIGHT
DTSTART:20170312T030000
RDATE:20171105T010000
TZOFFSETFROM:-0600
TZOFFSETTO:-0500
TZNAME:America/Chicago CDT
END:DAYLIGHT
BEGIN:DAYLIGHT
DTSTART:20180311T030000
RDATE:20181104T010000
TZOFFSETFROM:-0600
TZOFFSETTO:-0500
TZNAME:America/Chicago CDT
END:DAYLIGHT
BEGIN:DAYLIGHT
DTSTART:20190310T030000
RDATE:20191103T010000
TZOFFSETFROM:-0600
TZOFFSETTO:-0500
TZNAME:America/Chicago CDT
END:DAYLIGHT
BEGIN:DAYLIGHT
DTSTART:20200308T030000
RDATE:20201101T010000
TZOFFSETFROM:-0600
TZOFFSETTO:-0500
TZNAME:America/Chicago CDT
END:DAYLIGHT
BEGIN:DAYLIGHT
DTSTART:20210314T030000
RDATE:20211107T010000
TZOFFSETFROM:-0600
TZOFFSETTO:-0500
TZNAME:America/Chicago CDT
END:DAYLIGHT
BEGIN:DAYLIGHT
DTSTART:20220313T030000
RDATE:20221106T010000
TZOFFSETFROM:-0600
TZOFFSETTO:-0500
TZNAME:America/Chicago CDT
END:DAYLIGHT
BEGIN:DAYLIGHT
DTSTART:20230312T030000
RDATE:20231105T010000
TZOFFSETFROM:-0600
TZOFFSETTO:-0500
TZNAME:America/Chicago CDT
END:DAYLIGHT
BEGIN:DAYLIGHT
DTSTART:20240310T030000
RDATE:20241103T010000
TZOFFSETFROM:-0600
TZOFFSETTO:-0500
TZNAME:America/Chicago CDT
END:DAYLIGHT
BEGIN:DAYLIGHT
DTSTART:20250309T030000
RDATE:20251102T010000
TZOFFSETFROM:-0600
TZOFFSETTO:-0500
TZNAME:America/Chicago CDT
END:DAYLIGHT
BEGIN:DAYLIGHT
DTSTART:20260308T030000
RDATE:20261101T010000
TZOFFSETFROM:-0600
TZOFFSETTO:-0500
TZNAME:America/Chicago CDT
END:DAYLIGHT
BEGIN:DAYLIGHT
DTSTART:20270314T030000
RDATE:20271107T010000
TZOFFSETFROM:-0600
TZOFFSETTO:-0500
TZNAME:America/Chicago CDT
END:DAYLIGHT
BEGIN:DAYLIGHT
DTSTART:20280312T030000
RDATE:20281105T010000
TZOFFSETFROM:-0600
TZOFFSETTO:-0500
TZNAME:America/Chicago CDT
END:DAYLIGHT
END:VTIMEZONE
BEGIN:VEVENT
UID:e46554763c34528c7711ff31a007b6a2
CATEGORIES:Tournaments
CREATED:20140526T221648
SUMMARY:Veteran's Tournament
LOCATION:Gruenhagen Conference Center\, UW-Oshkosh
DESCRIPTION:<p>WCA Veterans Tournament</p><p> </p><p align="LEFT">5SS, G/120;d5, Gruenh
 agen Conference Center, UW-Oshkosh, Corner of</p><p>High and Osceola St. Os
 hkosh WI 54901. HR: $40 (dorm room) 920-424-</p><p>1106. Open to Age 21 and
  over. <span style="font-family: BellCentennialStd-NameNum; font-size: larg
 e;"><span style="font-family: BellCentennialStd-NameNum; font-size: large;"
 >EF: </span></span><span style="font-family: BellCentennialStd-Address; fon
 t-size: medium;"><span style="font-family: BellCentennialStd-Address; font-
 size: medium;">$25 by 11/4; $30 at site. </span></span><span style="font-fa
 mily: BellCentennialStd-NameNum; font-size: large;"><span style="font-famil
 y: BellCentennialStd-NameNum; font-size: large;">$$b/</span></span></p><p><
 span style="font-family: BellCentennialStd-NameNum; font-size: large;"><spa
 n style="font-family: BellCentennialStd-NameNum; font-size: large;">40 and 
 3 per class: </span></span><span style="font-family: BellCentennialStd-Addr
 ess; font-size: medium;"><span style="font-family: BellCentennialStd-Addres
 s; font-size: medium;">$150-90. A-$70; B-$60; C-$50; D-$40; E/Unr-$40.</spa
 n></span></p><p><span style="font-family: BellCentennialStd-NameNum; font-s
 ize: large;"><span style="font-family: BellCentennialStd-NameNum; font-size
 : large;">Reg: </span></span><span style="font-family: BellCentennialStd-Ad
 dress; font-size: medium;"><span style="font-family: BellCentennialStd-Addr
 ess; font-size: medium;">11/8 8:45-9:30 A.M. </span></span><span style="fon
 t-family: BellCentennialStd-NameNum; font-size: large;"><span style="font-f
 amily: BellCentennialStd-NameNum; font-size: large;">Rds: </span></span><sp
 an style="font-family: BellCentennialStd-Address; font-size: medium;"><span
  style="font-family: BellCentennialStd-Address; font-size: medium;">10:15-2
 :30-7:15; 10:00-3:00. Held in</span></span></p><p><span style="font-family:
  BellCentennialStd-Address; font-size: medium;"><span style="font-family: B
 ellCentennialStd-Address; font-size: medium;">conjunction with the WI Junio
 r Open but in a separate room. </span></span><span style="font-family: Bell
 CentennialStd-NameNum; font-size: large;"><span style="font-family: BellCen
 tennialStd-NameNum; font-size: large;">ENT:</span></span></p><p><span style
 ="font-family: BellCentennialStd-Address; font-size: medium;"><span style="
 font-family: BellCentennialStd-Address; font-size: medium;">Mike Nietman, 2
  Boca Grande Way, Madison, WI 53719. </span></span><span style="font-family
 : BellCentennialStd-NameNum; font-size: large;"><span style="font-family: B
 ellCentennialStd-NameNum; font-size: large;">INFO: </span></span><span styl
 e="font-family: BellCentennialStd-Address; font-size: medium;"><span style=
 "font-family: BellCentennialStd-Address; font-size: medium;">Mike</span></s
 pan></p><p>Nietman, 608-467-8510 (evenings before 11/7) <span id="cloaka539
 b18e45f97810e238919fa0c3549b">This email address is being protected from sp
 ambots. You need JavaScript enabled to view it.</span><script type='text/ja
 vascript'>
				document.getElementById('cloaka539b18e45f97810e238919fa0c354
 9b').innerHTML = '';
				var prefix = '&#109;a' + 'i&#108;' + '&#116;o';
		
 		var path = 'hr' + 'ef' + '=';
				var addya539b18e45f97810e238919fa0c3549
 b = 'm&#105;k&#101;.n&#105;&#101;tm&#97;n' + '&#64;';
				addya539b18e45f97
 810e238919fa0c3549b = addya539b18e45f97810e238919fa0c3549b + 'ch&#97;rt&#10
 1;r' + '&#46;' + 'n&#101;t';
				var addy_texta539b18e45f97810e238919fa0c35
 49b = 'm&#105;k&#101;.n&#105;&#101;tm&#97;n' + '&#64;' + 'ch&#97;rt&#101;r'
  + '&#46;' + 'n&#101;t';document.getElementById('cloaka539b18e45f97810e2389
 19fa0c3549b').innerHTML += '<a ' + path + '\'' + prefix + ':' + addya539b18
 e45f97810e238919fa0c3549b + '\'>'+addy_texta539b18e45f97810e238919fa0c3549b
 +'<\/a>';
		</script>.</p><p>NS NC W.</p><p>For full flyer, e-mail the orga
 nizer at <span id="cloakd630800bfd0ae005b4dae1aa39066f6c">This email addres
 s is being protected from spambots. You need JavaScript enabled to view it.
 </span><script type='text/javascript'>
				document.getElementById('cloakd6
 30800bfd0ae005b4dae1aa39066f6c').innerHTML = '';
				var prefix = '&#109;a'
  + 'i&#108;' + '&#116;o';
				var path = 'hr' + 'ef' + '=';
				var addyd63
 0800bfd0ae005b4dae1aa39066f6c = 'm&#105;k&#101;.n&#105;&#101;tm&#97;n' + '&
 #64;';
				addyd630800bfd0ae005b4dae1aa39066f6c = addyd630800bfd0ae005b4dae
 1aa39066f6c + 'ch&#97;rt&#101;r' + '&#46;' + 'n&#101;t';
				var addy_textd
 630800bfd0ae005b4dae1aa39066f6c = 'm&#105;k&#101;.n&#105;&#101;tm&#97;n' + 
 '&#64;' + 'ch&#97;rt&#101;r' + '&#46;' + 'n&#101;t';document.getElementById
 ('cloakd630800bfd0ae005b4dae1aa39066f6c').innerHTML += '<a ' + path + '\'' 
 + prefix + ':' + addyd630800bfd0ae005b4dae1aa39066f6c + '\'>'+addy_textd630
 800bfd0ae005b4dae1aa39066f6c+'<\/a>';
		</script>.</p><p> </p>
CONTACT:Mike Nietman 608-467-8510 or This email address is being protected from spambots. You need JavaScript enabled to view it.
				document.getElementById('cloakd365f283b9329be9ab105589ea350fcf').innerHTML = '';
				var prefix = '&#109;a' + 'i&#108;' + '&#116;o';
				var path = 'hr' + 'ef' + '=';
				var addyd365f283b9329be9ab105589ea350fcf = 'm&#105;k&#101;.n&#105;&#101;tm&#97;n' + '&#64;';
				addyd365f283b9329be9ab105589ea350fcf = addyd365f283b9329be9ab105589ea350fcf + 'ch&#97;rt&#101;r' + '&#46;' + 'n&#101;t';
				var addy_textd365f283b9329be9ab105589ea350fcf = 'm&#105;k&#101;.n&#105;&#101;tm&#97;n' + '&#64;' + 'ch&#97;rt&#101;r' + '&#46;' + 'n&#101;t';document.getElementById('cloakd365f283b9329be9ab105589ea350fcf').innerHTML += '<a ' + path + '\'' + prefix + ':' + addyd365f283b9329be9ab105589ea350fcf + '\'>'+addy_textd365f283b9329be9ab105589ea350fcf+'';
		
DTSTAMP:20260423T035843
DTSTART;TZID=America/Chicago;VALUE=DATE:20141108
DTEND;TZID=America/Chicago;VALUE=DATE:20141110
SEQUENCE:0
TRANSP:OPAQUE
END:VEVENT
END:VCALENDAR