BEGIN:VCALENDAR
VERSION:2.0
PRODID:-//jEvents 2.0 for Joomla//EN
CALSCALE:GREGORIAN
METHOD:PUBLISH
BEGIN:VTIMEZONE
TZID:America/Chicago
BEGIN:STANDARD
DTSTART:20131212T000000
RDATE:20140309T030000
TZOFFSETFROM:-0500
TZOFFSETTO:-0600
TZNAME:America/Chicago CST
END:STANDARD
BEGIN:STANDARD
DTSTART:20141102T010000
RDATE:20150308T030000
TZOFFSETFROM:-0500
TZOFFSETTO:-0600
TZNAME:America/Chicago CST
END:STANDARD
BEGIN:STANDARD
DTSTART:20151101T010000
RDATE:20160313T030000
TZOFFSETFROM:-0500
TZOFFSETTO:-0600
TZNAME:America/Chicago CST
END:STANDARD
BEGIN:STANDARD
DTSTART:20161106T010000
RDATE:20170312T030000
TZOFFSETFROM:-0500
TZOFFSETTO:-0600
TZNAME:America/Chicago CST
END:STANDARD
BEGIN:STANDARD
DTSTART:20171105T010000
RDATE:20180311T030000
TZOFFSETFROM:-0500
TZOFFSETTO:-0600
TZNAME:America/Chicago CST
END:STANDARD
BEGIN:STANDARD
DTSTART:20181104T010000
RDATE:20190310T030000
TZOFFSETFROM:-0500
TZOFFSETTO:-0600
TZNAME:America/Chicago CST
END:STANDARD
BEGIN:STANDARD
DTSTART:20191103T010000
RDATE:20200308T030000
TZOFFSETFROM:-0500
TZOFFSETTO:-0600
TZNAME:America/Chicago CST
END:STANDARD
BEGIN:STANDARD
DTSTART:20201101T010000
RDATE:20210314T030000
TZOFFSETFROM:-0500
TZOFFSETTO:-0600
TZNAME:America/Chicago CST
END:STANDARD
BEGIN:STANDARD
DTSTART:20211107T010000
RDATE:20220313T030000
TZOFFSETFROM:-0500
TZOFFSETTO:-0600
TZNAME:America/Chicago CST
END:STANDARD
BEGIN:STANDARD
DTSTART:20221106T010000
RDATE:20230312T030000
TZOFFSETFROM:-0500
TZOFFSETTO:-0600
TZNAME:America/Chicago CST
END:STANDARD
BEGIN:STANDARD
DTSTART:20231105T010000
RDATE:20240310T030000
TZOFFSETFROM:-0500
TZOFFSETTO:-0600
TZNAME:America/Chicago CST
END:STANDARD
BEGIN:STANDARD
DTSTART:20241103T010000
RDATE:20250309T030000
TZOFFSETFROM:-0500
TZOFFSETTO:-0600
TZNAME:America/Chicago CST
END:STANDARD
BEGIN:STANDARD
DTSTART:20251102T010000
RDATE:20260308T030000
TZOFFSETFROM:-0500
TZOFFSETTO:-0600
TZNAME:America/Chicago CST
END:STANDARD
BEGIN:STANDARD
DTSTART:20261101T010000
RDATE:20270314T030000
TZOFFSETFROM:-0500
TZOFFSETTO:-0600
TZNAME:America/Chicago CST
END:STANDARD
BEGIN:STANDARD
DTSTART:20271107T010000
RDATE:20280312T030000
TZOFFSETFROM:-0500
TZOFFSETTO:-0600
TZNAME:America/Chicago CST
END:STANDARD
BEGIN:STANDARD
DTSTART:20281105T010000
RDATE:20290311T030000
TZOFFSETFROM:-0500
TZOFFSETTO:-0600
TZNAME:America/Chicago CST
END:STANDARD
BEGIN:DAYLIGHT
DTSTART:20140309T030000
RDATE:20141102T010000
TZOFFSETFROM:-0600
TZOFFSETTO:-0500
TZNAME:America/Chicago CDT
END:DAYLIGHT
BEGIN:DAYLIGHT
DTSTART:20150308T030000
RDATE:20151101T010000
TZOFFSETFROM:-0600
TZOFFSETTO:-0500
TZNAME:America/Chicago CDT
END:DAYLIGHT
BEGIN:DAYLIGHT
DTSTART:20160313T030000
RDATE:20161106T010000
TZOFFSETFROM:-0600
TZOFFSETTO:-0500
TZNAME:America/Chicago CDT
END:DAYLIGHT
BEGIN:DAYLIGHT
DTSTART:20170312T030000
RDATE:20171105T010000
TZOFFSETFROM:-0600
TZOFFSETTO:-0500
TZNAME:America/Chicago CDT
END:DAYLIGHT
BEGIN:DAYLIGHT
DTSTART:20180311T030000
RDATE:20181104T010000
TZOFFSETFROM:-0600
TZOFFSETTO:-0500
TZNAME:America/Chicago CDT
END:DAYLIGHT
BEGIN:DAYLIGHT
DTSTART:20190310T030000
RDATE:20191103T010000
TZOFFSETFROM:-0600
TZOFFSETTO:-0500
TZNAME:America/Chicago CDT
END:DAYLIGHT
BEGIN:DAYLIGHT
DTSTART:20200308T030000
RDATE:20201101T010000
TZOFFSETFROM:-0600
TZOFFSETTO:-0500
TZNAME:America/Chicago CDT
END:DAYLIGHT
BEGIN:DAYLIGHT
DTSTART:20210314T030000
RDATE:20211107T010000
TZOFFSETFROM:-0600
TZOFFSETTO:-0500
TZNAME:America/Chicago CDT
END:DAYLIGHT
BEGIN:DAYLIGHT
DTSTART:20220313T030000
RDATE:20221106T010000
TZOFFSETFROM:-0600
TZOFFSETTO:-0500
TZNAME:America/Chicago CDT
END:DAYLIGHT
BEGIN:DAYLIGHT
DTSTART:20230312T030000
RDATE:20231105T010000
TZOFFSETFROM:-0600
TZOFFSETTO:-0500
TZNAME:America/Chicago CDT
END:DAYLIGHT
BEGIN:DAYLIGHT
DTSTART:20240310T030000
RDATE:20241103T010000
TZOFFSETFROM:-0600
TZOFFSETTO:-0500
TZNAME:America/Chicago CDT
END:DAYLIGHT
BEGIN:DAYLIGHT
DTSTART:20250309T030000
RDATE:20251102T010000
TZOFFSETFROM:-0600
TZOFFSETTO:-0500
TZNAME:America/Chicago CDT
END:DAYLIGHT
BEGIN:DAYLIGHT
DTSTART:20260308T030000
RDATE:20261101T010000
TZOFFSETFROM:-0600
TZOFFSETTO:-0500
TZNAME:America/Chicago CDT
END:DAYLIGHT
BEGIN:DAYLIGHT
DTSTART:20270314T030000
RDATE:20271107T010000
TZOFFSETFROM:-0600
TZOFFSETTO:-0500
TZNAME:America/Chicago CDT
END:DAYLIGHT
BEGIN:DAYLIGHT
DTSTART:20280312T030000
RDATE:20281105T010000
TZOFFSETFROM:-0600
TZOFFSETTO:-0500
TZNAME:America/Chicago CDT
END:DAYLIGHT
END:VTIMEZONE
BEGIN:VEVENT
UID:d02e6c4f734ba6dc8604073a93afb690
CATEGORIES:Tour Events
CREATED:20140824T210444
SUMMARY:The Wisconsin Memorial
LOCATION:Union South\, UW-Madison\, 1308 W Dayton
DESCRIPTION:The Wisconsin Memorial\n5SS, 45/120,SD/60;d5, Union South, 1308 W. Dayton S
 t. Madison WI\n53715. EF: $22 (Juniors $18) by Dec. 9. $3 more later or on 
 site.\n$$b/50 and 4 per class: $160-110. A - $90, B - $80, C - $70, D -\n$6
 0, E - $50, U1000 - $40, Unr - $40. Upset $50. Reg: 9-9:30 AM 12/\n13. Rds:
  10-2:30-7:30; 10-3:30. ENT: Dennis Kosterman, 28 Singleton Ct.\nMadison, W
 I 53711 608-770-3133. INFO: This email address is being protected from spam
 bots. You need JavaScript enabled to view it.
				document.getElementById('
 cloak428344062396534af9ddf6862f1b9e50').innerHTML = '';
				var prefix = '&
 #109;a' + 'i&#108;' + '&#116;o';
				var path = 'hr' + 'ef' + '=';
				var 
 addy428344062396534af9ddf6862f1b9e50 = 'd&#101;nn&#105;sk' + '&#64;';
				a
 ddy428344062396534af9ddf6862f1b9e50 = addy428344062396534af9ddf6862f1b9e50 
 + 'tds' + '&#46;' + 'n&#101;t';
				var addy_text428344062396534af9ddf6862f
 1b9e50 = 'd&#101;nn&#105;sk' + '&#64;' + 'tds' + '&#46;' + 'n&#101;t';docum
 ent.getElementById('cloak428344062396534af9ddf6862f1b9e50').innerHTML += '<
 a ' + path + '\'' + prefix + ':' + addy428344062396534af9ddf6862f1b9e50 + '
 \'>'+addy_text428344062396534af9ddf6862f1b9e50+'';
		. \nWI Chess Tour Even
 t. NS NC W.\nFor full flyer, e-mail the tournament director at This email a
 ddress is being protected from spambots. You need JavaScript enabled to vie
 w it.
				document.getElementById('cloakd18e0bb6f13443a7049ab3d90f961d46').
 innerHTML = '';
				var prefix = '&#109;a' + 'i&#108;' + '&#116;o';
				var
  path = 'hr' + 'ef' + '=';
				var addyd18e0bb6f13443a7049ab3d90f961d46 = '
 d&#101;nn&#105;sk' + '&#64;';
				addyd18e0bb6f13443a7049ab3d90f961d46 = ad
 dyd18e0bb6f13443a7049ab3d90f961d46 + 'tds' + '&#46;' + 'n&#101;t';
				var 
 addy_textd18e0bb6f13443a7049ab3d90f961d46 = 'd&#101;nn&#105;sk' + '&#64;' +
  'tds' + '&#46;' + 'n&#101;t';document.getElementById('cloakd18e0bb6f13443a
 7049ab3d90f961d46').innerHTML += '<a ' + path + '\'' + prefix + ':' + addyd
 18e0bb6f13443a7049ab3d90f961d46 + '\'>'+addy_textd18e0bb6f13443a7049ab3d90f
 961d46+'';
		. \n \n
X-ALT-DESC;FMTTYPE=text/html:<p>The Wisconsin Memorial</p><p>5SS, 45/120,SD/60;d5, Union South, 1308 W. 
 Dayton St. Madison WI</p><p><span style="font-family: BellCentennialStd-Add
 ress; font-size: medium;"><span style="font-family: BellCentennialStd-Addre
 ss; font-size: medium;">53715. </span></span><span style="font-family: Bell
 CentennialStd-NameNum; font-size: large;"><span style="font-family: BellCen
 tennialStd-NameNum; font-size: large;">EF: </span></span><span style="font-
 family: BellCentennialStd-Address; font-size: medium;"><span style="font-fa
 mily: BellCentennialStd-Address; font-size: medium;">$22 (Juniors $18) by D
 ec. 9. $3 more later or on site.</span></span></p><p><span style="font-fami
 ly: BellCentennialStd-NameNum; font-size: large;"><span style="font-family:
  BellCentennialStd-NameNum; font-size: large;">$$b/50 and 4 per class: </sp
 an></span><span style="font-family: BellCentennialStd-Address; font-size: m
 edium;"><span style="font-family: BellCentennialStd-Address; font-size: med
 ium;">$160-110. A - $90, B - $80, C - $70, D -</span></span></p><p><span st
 yle="font-family: BellCentennialStd-Address; font-size: medium;"><span styl
 e="font-family: BellCentennialStd-Address; font-size: medium;">$60, E - $50
 , U1000 - $40, Unr - $40. Upset $50. </span></span><span style="font-family
 : BellCentennialStd-NameNum; font-size: large;"><span style="font-family: B
 ellCentennialStd-NameNum; font-size: large;">Reg: </span></span><span style
 ="font-family: BellCentennialStd-Address; font-size: medium;"><span style="
 font-family: BellCentennialStd-Address; font-size: medium;">9-9:30 AM 12/</
 span></span></p><p><span style="font-family: BellCentennialStd-Address; fon
 t-size: medium;"><span style="font-family: BellCentennialStd-Address; font-
 size: medium;">13. </span></span><span style="font-family: BellCentennialSt
 d-NameNum; font-size: large;"><span style="font-family: BellCentennialStd-N
 ameNum; font-size: large;">Rds: </span></span><span style="font-family: Bel
 lCentennialStd-Address; font-size: medium;"><span style="font-family: BellC
 entennialStd-Address; font-size: medium;">10-2:30-7:30; 10-3:30. </span></s
 pan><span style="font-family: BellCentennialStd-NameNum; font-size: large;"
 ><span style="font-family: BellCentennialStd-NameNum; font-size: large;">EN
 T: </span></span><span style="font-family: BellCentennialStd-Address; font-
 size: medium;"><span style="font-family: BellCentennialStd-Address; font-si
 ze: medium;">Dennis Kosterman, 28 Singleton Ct.</span></span></p><p><span s
 tyle="font-family: BellCentennialStd-Address; font-size: medium;"><span sty
 le="font-family: BellCentennialStd-Address; font-size: medium;">Madison, WI
  53711 608-770-3133. </span></span><span style="font-family: BellCentennial
 Std-NameNum; font-size: large;"><span style="font-family: BellCentennialStd
 -NameNum; font-size: large;">INFO: </span></span><span style="font-family: 
 BellCentennialStd-Address; font-size: medium;"><span style="font-family: Be
 llCentennialStd-Address; font-size: medium;"><span id="cloak428344062396534
 af9ddf6862f1b9e50">This email address is being protected from spambots. You
  need JavaScript enabled to view it.</span><script type='text/javascript'>

 				document.getElementById('cloak428344062396534af9ddf6862f1b9e50').innerH
 TML = '';
				var prefix = '&#109;a' + 'i&#108;' + '&#116;o';
				var path 
 = 'hr' + 'ef' + '=';
				var addy428344062396534af9ddf6862f1b9e50 = 'd&#101
 ;nn&#105;sk' + '&#64;';
				addy428344062396534af9ddf6862f1b9e50 = addy4283
 44062396534af9ddf6862f1b9e50 + 'tds' + '&#46;' + 'n&#101;t';
				var addy_t
 ext428344062396534af9ddf6862f1b9e50 = 'd&#101;nn&#105;sk' + '&#64;' + 'tds'
  + '&#46;' + 'n&#101;t';document.getElementById('cloak428344062396534af9ddf
 6862f1b9e50').innerHTML += '<a ' + path + '\'' + prefix + ':' + addy4283440
 62396534af9ddf6862f1b9e50 + '\'>'+addy_text428344062396534af9ddf6862f1b9e50
 +'<\/a>';
		</script>. </span></span></p><p><span style="font-family: BellC
 entennialStd-NameNum; font-size: large;"><span style="font-family: BellCent
 ennialStd-NameNum; font-size: large;">WI Chess Tour Event. </span></span><s
 pan style="font-family: BellCentennialStd-Address; font-size: medium;"><spa
 n style="font-family: BellCentennialStd-Address; font-size: medium;">NS NC 
 W.</span></span></p><p>For full flyer, e-mail the tournament director at <s
 pan id="cloakd18e0bb6f13443a7049ab3d90f961d46">This email address is being 
 protected from spambots. You need JavaScript enabled to view it.</span><scr
 ipt type='text/javascript'>
				document.getElementById('cloakd18e0bb6f1344
 3a7049ab3d90f961d46').innerHTML = '';
				var prefix = '&#109;a' + 'i&#108;
 ' + '&#116;o';
				var path = 'hr' + 'ef' + '=';
				var addyd18e0bb6f13443
 a7049ab3d90f961d46 = 'd&#101;nn&#105;sk' + '&#64;';
				addyd18e0bb6f13443a
 7049ab3d90f961d46 = addyd18e0bb6f13443a7049ab3d90f961d46 + 'tds' + '&#46;' 
 + 'n&#101;t';
				var addy_textd18e0bb6f13443a7049ab3d90f961d46 = 'd&#101;n
 n&#105;sk' + '&#64;' + 'tds' + '&#46;' + 'n&#101;t';document.getElementById
 ('cloakd18e0bb6f13443a7049ab3d90f961d46').innerHTML += '<a ' + path + '\'' 
 + prefix + ':' + addyd18e0bb6f13443a7049ab3d90f961d46 + '\'>'+addy_textd18e
 0bb6f13443a7049ab3d90f961d46+'<\/a>';
		</script>. </p><p> </p>
CONTACT:Dennis Kosterman, 608-770-3133, This email address is being protected from spambots. You need JavaScript enabled to view it.
				document.getElementById('cloak749fe73d862f74fb0d698a3eca28f024').innerHTML = '';
				var prefix = '&#109;a' + 'i&#108;' + '&#116;o';
				var path = 'hr' + 'ef' + '=';
				var addy749fe73d862f74fb0d698a3eca28f024 = 'd&#101;nn&#105;sk' + '&#64;';
				addy749fe73d862f74fb0d698a3eca28f024 = addy749fe73d862f74fb0d698a3eca28f024 + 'tds' + '&#46;' + 'n&#101;t';
				var addy_text749fe73d862f74fb0d698a3eca28f024 = 'd&#101;nn&#105;sk' + '&#64;' + 'tds' + '&#46;' + 'n&#101;t';document.getElementById('cloak749fe73d862f74fb0d698a3eca28f024').innerHTML += '<a ' + path + '\'' + prefix + ':' + addy749fe73d862f74fb0d698a3eca28f024 + '\'>'+addy_text749fe73d862f74fb0d698a3eca28f024+'';
		
X-EXTRAINFO:Last event for the 2014 Wisconsin Chess Tour!
DTSTAMP:20260422T231603
DTSTART;TZID=America/Chicago;VALUE=DATE:20141213
DTEND;TZID=America/Chicago;VALUE=DATE:20141215
SEQUENCE:0
TRANSP:OPAQUE
END:VEVENT
END:VCALENDAR