BEGIN:VCALENDAR
VERSION:2.0
PRODID:-//jEvents 2.0 for Joomla//EN
CALSCALE:GREGORIAN
METHOD:PUBLISH
BEGIN:VTIMEZONE
TZID:America/Chicago
BEGIN:STANDARD
DTSTART:20131103T010000
RDATE:20140309T030000
TZOFFSETFROM:-0500
TZOFFSETTO:-0600
TZNAME:America/Chicago CST
END:STANDARD
BEGIN:STANDARD
DTSTART:20141102T010000
RDATE:20150308T030000
TZOFFSETFROM:-0500
TZOFFSETTO:-0600
TZNAME:America/Chicago CST
END:STANDARD
BEGIN:STANDARD
DTSTART:20151101T010000
RDATE:20160313T030000
TZOFFSETFROM:-0500
TZOFFSETTO:-0600
TZNAME:America/Chicago CST
END:STANDARD
BEGIN:STANDARD
DTSTART:20161106T010000
RDATE:20170312T030000
TZOFFSETFROM:-0500
TZOFFSETTO:-0600
TZNAME:America/Chicago CST
END:STANDARD
BEGIN:STANDARD
DTSTART:20171105T010000
RDATE:20180311T030000
TZOFFSETFROM:-0500
TZOFFSETTO:-0600
TZNAME:America/Chicago CST
END:STANDARD
BEGIN:STANDARD
DTSTART:20181104T010000
RDATE:20190310T030000
TZOFFSETFROM:-0500
TZOFFSETTO:-0600
TZNAME:America/Chicago CST
END:STANDARD
BEGIN:STANDARD
DTSTART:20191103T010000
RDATE:20200308T030000
TZOFFSETFROM:-0500
TZOFFSETTO:-0600
TZNAME:America/Chicago CST
END:STANDARD
BEGIN:STANDARD
DTSTART:20201101T010000
RDATE:20210314T030000
TZOFFSETFROM:-0500
TZOFFSETTO:-0600
TZNAME:America/Chicago CST
END:STANDARD
BEGIN:STANDARD
DTSTART:20211107T010000
RDATE:20220313T030000
TZOFFSETFROM:-0500
TZOFFSETTO:-0600
TZNAME:America/Chicago CST
END:STANDARD
BEGIN:STANDARD
DTSTART:20221106T010000
RDATE:20230312T030000
TZOFFSETFROM:-0500
TZOFFSETTO:-0600
TZNAME:America/Chicago CST
END:STANDARD
BEGIN:STANDARD
DTSTART:20231105T010000
RDATE:20240310T030000
TZOFFSETFROM:-0500
TZOFFSETTO:-0600
TZNAME:America/Chicago CST
END:STANDARD
BEGIN:STANDARD
DTSTART:20241103T010000
RDATE:20250309T030000
TZOFFSETFROM:-0500
TZOFFSETTO:-0600
TZNAME:America/Chicago CST
END:STANDARD
BEGIN:STANDARD
DTSTART:20251102T010000
RDATE:20260308T030000
TZOFFSETFROM:-0500
TZOFFSETTO:-0600
TZNAME:America/Chicago CST
END:STANDARD
BEGIN:STANDARD
DTSTART:20261101T010000
RDATE:20270314T030000
TZOFFSETFROM:-0500
TZOFFSETTO:-0600
TZNAME:America/Chicago CST
END:STANDARD
BEGIN:STANDARD
DTSTART:20271107T010000
RDATE:20280312T030000
TZOFFSETFROM:-0500
TZOFFSETTO:-0600
TZNAME:America/Chicago CST
END:STANDARD
BEGIN:STANDARD
DTSTART:20281105T010000
RDATE:20290311T030000
TZOFFSETFROM:-0500
TZOFFSETTO:-0600
TZNAME:America/Chicago CST
END:STANDARD
BEGIN:DAYLIGHT
DTSTART:20130829T000000
RDATE:20131103T010000
TZOFFSETFROM:-0600
TZOFFSETTO:-0500
TZNAME:America/Chicago CDT
END:DAYLIGHT
BEGIN:DAYLIGHT
DTSTART:20140309T030000
RDATE:20141102T010000
TZOFFSETFROM:-0600
TZOFFSETTO:-0500
TZNAME:America/Chicago CDT
END:DAYLIGHT
BEGIN:DAYLIGHT
DTSTART:20150308T030000
RDATE:20151101T010000
TZOFFSETFROM:-0600
TZOFFSETTO:-0500
TZNAME:America/Chicago CDT
END:DAYLIGHT
BEGIN:DAYLIGHT
DTSTART:20160313T030000
RDATE:20161106T010000
TZOFFSETFROM:-0600
TZOFFSETTO:-0500
TZNAME:America/Chicago CDT
END:DAYLIGHT
BEGIN:DAYLIGHT
DTSTART:20170312T030000
RDATE:20171105T010000
TZOFFSETFROM:-0600
TZOFFSETTO:-0500
TZNAME:America/Chicago CDT
END:DAYLIGHT
BEGIN:DAYLIGHT
DTSTART:20180311T030000
RDATE:20181104T010000
TZOFFSETFROM:-0600
TZOFFSETTO:-0500
TZNAME:America/Chicago CDT
END:DAYLIGHT
BEGIN:DAYLIGHT
DTSTART:20190310T030000
RDATE:20191103T010000
TZOFFSETFROM:-0600
TZOFFSETTO:-0500
TZNAME:America/Chicago CDT
END:DAYLIGHT
BEGIN:DAYLIGHT
DTSTART:20200308T030000
RDATE:20201101T010000
TZOFFSETFROM:-0600
TZOFFSETTO:-0500
TZNAME:America/Chicago CDT
END:DAYLIGHT
BEGIN:DAYLIGHT
DTSTART:20210314T030000
RDATE:20211107T010000
TZOFFSETFROM:-0600
TZOFFSETTO:-0500
TZNAME:America/Chicago CDT
END:DAYLIGHT
BEGIN:DAYLIGHT
DTSTART:20220313T030000
RDATE:20221106T010000
TZOFFSETFROM:-0600
TZOFFSETTO:-0500
TZNAME:America/Chicago CDT
END:DAYLIGHT
BEGIN:DAYLIGHT
DTSTART:20230312T030000
RDATE:20231105T010000
TZOFFSETFROM:-0600
TZOFFSETTO:-0500
TZNAME:America/Chicago CDT
END:DAYLIGHT
BEGIN:DAYLIGHT
DTSTART:20240310T030000
RDATE:20241103T010000
TZOFFSETFROM:-0600
TZOFFSETTO:-0500
TZNAME:America/Chicago CDT
END:DAYLIGHT
BEGIN:DAYLIGHT
DTSTART:20250309T030000
RDATE:20251102T010000
TZOFFSETFROM:-0600
TZOFFSETTO:-0500
TZNAME:America/Chicago CDT
END:DAYLIGHT
BEGIN:DAYLIGHT
DTSTART:20260308T030000
RDATE:20261101T010000
TZOFFSETFROM:-0600
TZOFFSETTO:-0500
TZNAME:America/Chicago CDT
END:DAYLIGHT
BEGIN:DAYLIGHT
DTSTART:20270314T030000
RDATE:20271107T010000
TZOFFSETFROM:-0600
TZOFFSETTO:-0500
TZNAME:America/Chicago CDT
END:DAYLIGHT
BEGIN:DAYLIGHT
DTSTART:20280312T030000
RDATE:20281105T010000
TZOFFSETFROM:-0600
TZOFFSETTO:-0500
TZNAME:America/Chicago CDT
END:DAYLIGHT
END:VTIMEZONE
BEGIN:VEVENT
UID:749a6f24ad146706a32d30b1c444af9b
CATEGORIES:Tour Events
CREATED:20140825T132405
SUMMARY:2014 Marshall Rohland Memorial/ WI Closed Championship
DESCRIPTION:<p class="heading2" style="margin: 0pt 0px; padding: 0pt 0px; border: 0px; 
 font-family: sans-serif; font-size: 1.25em; font-weight: bold; line-height:
  19.967998504638672px; vertical-align: baseline; text-align: justify; color
 : rgb(160, 0, 0);"> </p><p class="listing" style="margin: 0pt 0px 0.5em; pa
 dding: 0pt 0px; border: 0px; font-family: serif; line-height: 19.9679985046
 38672px; vertical-align: baseline; color: rgb(34, 34, 34); text-align: just
 ify;">Playing site location will be at Olympia Resort & Spa, 1350 Royale Mi
 le Rd., Oconomowoc, WI (262) 369-4999, <a style="margin: 0px; padding: 0px;
  border: 0px; font-family: inherit; font-size: inherit; font-style: inherit
 ; font-variant: inherit; font-weight: inherit; line-height: inherit; vertic
 al-align: baseline; color: rgb(10, 86, 137);" href="http://www.olympiaresor
 t.com/" rel="nofollow">www.olympiaresort.com</a>.<strong style="margin: 0px
 ; padding: 0px; border: 0px; font-family: inherit; font-size: inherit; font
 -style: inherit; font-variant: inherit; line-height: inherit; vertical-alig
 n: baseline;">HR:</strong> $99 Single/Double, $109 Triple/Quads (Mention Ch
 ess). Open to WI residents, former champions and students in WI schools. </
 p><p class="listing" style="margin: 0pt 0px 0.5em; padding: 0pt 0px; border
 : 0px; font-family: serif; line-height: 19.967998504638672px; vertical-alig
 n: baseline; color: rgb(34, 34, 34); text-align: justify;"> </p><p class="l
 isting" style="margin: 0pt 0px 0.5em; padding: 0pt 0px; border: 0px; font-f
 amily: serif; line-height: 19.967998504638672px; vertical-align: baseline; 
 color: rgb(34, 34, 34); text-align: justify;"><strong style="margin: 0px; p
 adding: 0px; border: 0px; font-family: inherit; font-size: inherit; font-st
 yle: inherit; font-variant: inherit; line-height: inherit; vertical-align: 
 baseline;">Time Control:</strong> Premier & Reserve 40/2 d5, SD/1 d5. Novic
 e G/2 d5. </p><p class="listing" style="margin: 0pt 0px 0.5em; padding: 0pt
  0px; border: 0px; font-family: serif; line-height: 19.967998504638672px; v
 ertical-align: baseline; color: rgb(34, 34, 34); text-align: justify;"><str
 ong style="margin: 0px; padding: 0px; border: 0px; font-family: inherit; fo
 nt-size: inherit; font-style: inherit; font-variant: inherit; line-height: 
 inherit; vertical-align: baseline;">Rounds.:</strong> Premier & Reserve Sat
  12,6. Sun 11,6. Mon 10,4. Novice Sat 12,6. Sun 10,2:30,7.<strong style="ma
 rgin: 0px; padding: 0px; border: 0px; font-family: inherit; font-size: inhe
 rit; font-style: inherit; font-variant: inherit; line-height: inherit; vert
 ical-align: baseline;"> </strong></p><p class="listing" style="margin: 0pt 
 0px 0.5em; padding: 0pt 0px; border: 0px; font-family: serif; line-height: 
 19.967998504638672px; vertical-align: baseline; color: rgb(34, 34, 34); tex
 t-align: justify;"><strong style="margin: 0px; padding: 0px; border: 0px; f
 ont-family: inherit; font-size: inherit; font-style: inherit; font-variant:
  inherit; line-height: inherit; vertical-align: baseline;">3 sections:</str
 ong><strong style="margin: 0px; padding: 0px; border: 0px; font-family: inh
 erit; font-size: inherit; font-style: inherit; font-variant: inherit; line-
 height: inherit; vertical-align: baseline;">Premier:</strong> $40 by 8-28, 
 $45 after 8-28, $5 off to Juniors. $$b/35 1st $300+Trophy - 2nd $200 - 3rd 
 $150 - A $125 -1799 & below $125, $50 Kittsley Upset prize (1 overall). </p
 ><p class="listing" style="margin: 0pt 0px 0.5em; padding: 0pt 0px; border:
  0px; font-family: serif; line-height: 19.967998504638672px; vertical-align
 : baseline; color: rgb(34, 34, 34); text-align: justify;"><strong style="ma
 rgin: 0px; padding: 0px; border: 0px; font-family: inherit; font-size: inhe
 rit; font-style: inherit; font-variant: inherit; line-height: inherit; vert
 ical-align: baseline;">Reserve (1799 & below):</strong> $30 by 8-28, $35 af
 ter 8-28. $10 off to Juniors. $$b/20, 1st $120+Trophy, 2nd $90+Trophy, Trop
 hies to class C, D, & U1200. </p><p class="listing" style="margin: 0pt 0px 
 0.5em; padding: 0pt 0px; border: 0px; font-family: serif; line-height: 19.9
 67998504638672px; vertical-align: baseline; color: rgb(34, 34, 34); text-al
 ign: justify;"><strong style="margin: 0px; padding: 0px; border: 0px; font-
 family: inherit; font-size: inherit; font-style: inherit; font-variant: inh
 erit; line-height: inherit; vertical-align: baseline;">Novice (1199 & below
 ):</strong> $15 by 8-28, $20 after 8-28. Trophies to 1st, 2nd, U1000, U900,
  U800, U700 & Unr. </p><p class="listing" style="margin: 0pt 0px 0.5em; pad
 ding: 0pt 0px; border: 0px; font-family: serif; line-height: 19.96799850463
 8672px; vertical-align: baseline; color: rgb(34, 34, 34); text-align: justi
 fy;"> </p><p class="listing" style="margin: 0pt 0px 0.5em; padding: 0pt 0px
 ; border: 0px; font-family: serif; line-height: 19.967998504638672px; verti
 cal-align: baseline; color: rgb(34, 34, 34); text-align: justify;"><strong 
 style="margin: 0px; padding: 0px; border: 0px; font-family: inherit; font-s
 ize: inherit; font-style: inherit; font-variant: inherit; line-height: inhe
 rit; vertical-align: baseline;">Registration.:</strong> Aug 30th from 10:30
 -11:30am. </p><p class="listing" style="margin: 0pt 0px 0.5em; padding: 0pt
  0px; border: 0px; font-family: serif; line-height: 19.967998504638672px; v
 ertical-align: baseline; color: rgb(34, 34, 34); text-align: justify;"> </p
 ><p class="listing" style="margin: 0pt 0px 0.5em; padding: 0pt 0px; border:
  0px; font-family: serif; line-height: 19.967998504638672px; vertical-align
 : baseline; color: rgb(34, 34, 34); text-align: justify;"><strong style="ma
 rgin: 0px; padding: 0px; border: 0px; font-family: inherit; font-size: inhe
 rit; font-style: inherit; font-variant: inherit; line-height: inherit; vert
 ical-align: baseline;">Entries to:</strong> ( make payable to WCA) Ben Corc
 oran, 2711 N. University Dr. #64, Waukesha, WI 53188. <strong style="margin
 : 0px; padding: 0px; border: 0px; font-family: inherit; font-size: inherit;
  font-style: inherit; font-variant: inherit; line-height: inherit; vertical
 -align: baseline;">Q&A:</strong> Ask for Jim 262-544-6266 or jnickell@<a st
 yle="margin: 0px; padding: 0px; border: 0px; font-family: inherit; font-siz
 e: inherit; font-style: inherit; font-variant: inherit; font-weight: inheri
 t; line-height: inherit; vertical-align: baseline; color: rgb(10, 86, 137);
 " href="http://wi.rr.com/" rel="nofollow">wi.rr.com</a>.</p>
DTSTAMP:20260422T200614
DTSTART;TZID=America/Chicago;VALUE=DATE:20140830
DTEND;TZID=America/Chicago;VALUE=DATE:20140902
SEQUENCE:0
TRANSP:OPAQUE
END:VEVENT
END:VCALENDAR