BEGIN:VCALENDAR
VERSION:2.0
PRODID:-//jEvents 2.0 for Joomla//EN
CALSCALE:GREGORIAN
METHOD:PUBLISH
BEGIN:VTIMEZONE
TZID:America/Chicago
BEGIN:STANDARD
DTSTART:20111106T010000
RDATE:20120311T030000
TZOFFSETFROM:-0500
TZOFFSETTO:-0600
TZNAME:America/Chicago CST
END:STANDARD
BEGIN:STANDARD
DTSTART:20121104T010000
RDATE:20130310T030000
TZOFFSETFROM:-0500
TZOFFSETTO:-0600
TZNAME:America/Chicago CST
END:STANDARD
BEGIN:STANDARD
DTSTART:20131103T010000
RDATE:20140309T030000
TZOFFSETFROM:-0500
TZOFFSETTO:-0600
TZNAME:America/Chicago CST
END:STANDARD
BEGIN:STANDARD
DTSTART:20141102T010000
RDATE:20150308T030000
TZOFFSETFROM:-0500
TZOFFSETTO:-0600
TZNAME:America/Chicago CST
END:STANDARD
BEGIN:STANDARD
DTSTART:20151101T010000
RDATE:20160313T030000
TZOFFSETFROM:-0500
TZOFFSETTO:-0600
TZNAME:America/Chicago CST
END:STANDARD
BEGIN:STANDARD
DTSTART:20161106T010000
RDATE:20170312T030000
TZOFFSETFROM:-0500
TZOFFSETTO:-0600
TZNAME:America/Chicago CST
END:STANDARD
BEGIN:STANDARD
DTSTART:20171105T010000
RDATE:20180311T030000
TZOFFSETFROM:-0500
TZOFFSETTO:-0600
TZNAME:America/Chicago CST
END:STANDARD
BEGIN:STANDARD
DTSTART:20181104T010000
RDATE:20190310T030000
TZOFFSETFROM:-0500
TZOFFSETTO:-0600
TZNAME:America/Chicago CST
END:STANDARD
BEGIN:STANDARD
DTSTART:20191103T010000
RDATE:20200308T030000
TZOFFSETFROM:-0500
TZOFFSETTO:-0600
TZNAME:America/Chicago CST
END:STANDARD
BEGIN:STANDARD
DTSTART:20201101T010000
RDATE:20210314T030000
TZOFFSETFROM:-0500
TZOFFSETTO:-0600
TZNAME:America/Chicago CST
END:STANDARD
BEGIN:STANDARD
DTSTART:20211107T010000
RDATE:20220313T030000
TZOFFSETFROM:-0500
TZOFFSETTO:-0600
TZNAME:America/Chicago CST
END:STANDARD
BEGIN:STANDARD
DTSTART:20221106T010000
RDATE:20230312T030000
TZOFFSETFROM:-0500
TZOFFSETTO:-0600
TZNAME:America/Chicago CST
END:STANDARD
BEGIN:STANDARD
DTSTART:20231105T010000
RDATE:20240310T030000
TZOFFSETFROM:-0500
TZOFFSETTO:-0600
TZNAME:America/Chicago CST
END:STANDARD
BEGIN:STANDARD
DTSTART:20241103T010000
RDATE:20250309T030000
TZOFFSETFROM:-0500
TZOFFSETTO:-0600
TZNAME:America/Chicago CST
END:STANDARD
BEGIN:STANDARD
DTSTART:20251102T010000
RDATE:20260308T030000
TZOFFSETFROM:-0500
TZOFFSETTO:-0600
TZNAME:America/Chicago CST
END:STANDARD
BEGIN:STANDARD
DTSTART:20261101T010000
RDATE:20270314T030000
TZOFFSETFROM:-0500
TZOFFSETTO:-0600
TZNAME:America/Chicago CST
END:STANDARD
BEGIN:STANDARD
DTSTART:20271107T010000
RDATE:20280312T030000
TZOFFSETFROM:-0500
TZOFFSETTO:-0600
TZNAME:America/Chicago CST
END:STANDARD
BEGIN:STANDARD
DTSTART:20281105T010000
RDATE:20290311T030000
TZOFFSETFROM:-0500
TZOFFSETTO:-0600
TZNAME:America/Chicago CST
END:STANDARD
BEGIN:DAYLIGHT
DTSTART:20110811T000000
RDATE:20111106T010000
TZOFFSETFROM:-0600
TZOFFSETTO:-0500
TZNAME:America/Chicago CDT
END:DAYLIGHT
BEGIN:DAYLIGHT
DTSTART:20120311T030000
RDATE:20121104T010000
TZOFFSETFROM:-0600
TZOFFSETTO:-0500
TZNAME:America/Chicago CDT
END:DAYLIGHT
BEGIN:DAYLIGHT
DTSTART:20130310T030000
RDATE:20131103T010000
TZOFFSETFROM:-0600
TZOFFSETTO:-0500
TZNAME:America/Chicago CDT
END:DAYLIGHT
BEGIN:DAYLIGHT
DTSTART:20140309T030000
RDATE:20141102T010000
TZOFFSETFROM:-0600
TZOFFSETTO:-0500
TZNAME:America/Chicago CDT
END:DAYLIGHT
BEGIN:DAYLIGHT
DTSTART:20150308T030000
RDATE:20151101T010000
TZOFFSETFROM:-0600
TZOFFSETTO:-0500
TZNAME:America/Chicago CDT
END:DAYLIGHT
BEGIN:DAYLIGHT
DTSTART:20160313T030000
RDATE:20161106T010000
TZOFFSETFROM:-0600
TZOFFSETTO:-0500
TZNAME:America/Chicago CDT
END:DAYLIGHT
BEGIN:DAYLIGHT
DTSTART:20170312T030000
RDATE:20171105T010000
TZOFFSETFROM:-0600
TZOFFSETTO:-0500
TZNAME:America/Chicago CDT
END:DAYLIGHT
BEGIN:DAYLIGHT
DTSTART:20180311T030000
RDATE:20181104T010000
TZOFFSETFROM:-0600
TZOFFSETTO:-0500
TZNAME:America/Chicago CDT
END:DAYLIGHT
BEGIN:DAYLIGHT
DTSTART:20190310T030000
RDATE:20191103T010000
TZOFFSETFROM:-0600
TZOFFSETTO:-0500
TZNAME:America/Chicago CDT
END:DAYLIGHT
BEGIN:DAYLIGHT
DTSTART:20200308T030000
RDATE:20201101T010000
TZOFFSETFROM:-0600
TZOFFSETTO:-0500
TZNAME:America/Chicago CDT
END:DAYLIGHT
BEGIN:DAYLIGHT
DTSTART:20210314T030000
RDATE:20211107T010000
TZOFFSETFROM:-0600
TZOFFSETTO:-0500
TZNAME:America/Chicago CDT
END:DAYLIGHT
BEGIN:DAYLIGHT
DTSTART:20220313T030000
RDATE:20221106T010000
TZOFFSETFROM:-0600
TZOFFSETTO:-0500
TZNAME:America/Chicago CDT
END:DAYLIGHT
BEGIN:DAYLIGHT
DTSTART:20230312T030000
RDATE:20231105T010000
TZOFFSETFROM:-0600
TZOFFSETTO:-0500
TZNAME:America/Chicago CDT
END:DAYLIGHT
BEGIN:DAYLIGHT
DTSTART:20240310T030000
RDATE:20241103T010000
TZOFFSETFROM:-0600
TZOFFSETTO:-0500
TZNAME:America/Chicago CDT
END:DAYLIGHT
BEGIN:DAYLIGHT
DTSTART:20250309T030000
RDATE:20251102T010000
TZOFFSETFROM:-0600
TZOFFSETTO:-0500
TZNAME:America/Chicago CDT
END:DAYLIGHT
BEGIN:DAYLIGHT
DTSTART:20260308T030000
RDATE:20261101T010000
TZOFFSETFROM:-0600
TZOFFSETTO:-0500
TZNAME:America/Chicago CDT
END:DAYLIGHT
BEGIN:DAYLIGHT
DTSTART:20270314T030000
RDATE:20271107T010000
TZOFFSETFROM:-0600
TZOFFSETTO:-0500
TZNAME:America/Chicago CDT
END:DAYLIGHT
BEGIN:DAYLIGHT
DTSTART:20280312T030000
RDATE:20281105T010000
TZOFFSETFROM:-0600
TZOFFSETTO:-0500
TZNAME:America/Chicago CDT
END:DAYLIGHT
END:VTIMEZONE
BEGIN:VEVENT
UID:30cef1179fab0a343a269f5b74eb520a
CATEGORIES:Tour Events
CREATED:20120622T144116
SUMMARY:BC Open
LOCATION:Country Spring Hotel\, 2810 Golf Road\, Pewaukee\, WI 53072
DESCRIPTION:<p><strong>When:</strong> Saturday August 11th. On site Registration is fro
 m 8:30am – 9:30am.<br /> <strong>Site:</strong> Country Spring Hotel, 2810 
 Golf Road, Pewaukee, WI 53072<br /> <strong>Entry Fees:</strong> Open is $3
 3, Reserve(U1600) is $21,<br /> RBO(U1200) is $12, and Non Rated K-12 is $9
  <br /> by 8-9. After 8-9 is $5 more for the Open and Reserve and $3 more f
 or RBO and Non Rated K-12.<br /> $3 discount to Juniors and new members in 
 Open and Reserve Section<br /> <strong>Time Control:</strong> Game in 60 mi
 ns. If using a digital clock, G/60 with 5 second delay.<br /> <strong>Round
 s: </strong>10am - 1pm - 3:30pm - 6pm<br /> <strong>Prizes:</strong> Open: 
 (B/25) 1st $300, 2nd $160, A $90, U1800 $60, <br /> Reserve(U1600):(B/25) 1
 st $90, 2nd $65, D $40, U1200 $30,<br /> RBO(U1200): Trophies to top 3,1st 
 U800, & 1st U500. All others receive participant medals <br /> Non Rated K-
 12: Trophies to 1st in K12, K9, K6 & K3. All others receive participant med
 als<br /> <strong>Advance entries:</strong> (<em>Make check payable to</em>
 ) <br /> <em><strong>Benjamin Corcoran </strong></em><br /> 2711 N. Univers
 ity Dr. #64 Waukesha, WI 53188<br /> Have questions? Ask Ben at (262) 506-4
 203 or send an E-mail to <span id="cloak99ea71bf084488873e08e3365317ec4b">T
 his email address is being protected from spambots. You need JavaScript ena
 bled to view it.</span><script type='text/javascript'>
				document.getElem
 entById('cloak99ea71bf084488873e08e3365317ec4b').innerHTML = '';
				var pr
 efix = '&#109;a' + 'i&#108;' + '&#116;o';
				var path = 'hr' + 'ef' + '=';
 
				var addy99ea71bf084488873e08e3365317ec4b = 'b&#101;nz&#111;ch&#101;ss'
  + '&#64;';
				addy99ea71bf084488873e08e3365317ec4b = addy99ea71bf08448887
 3e08e3365317ec4b + 'ch&#101;ss' + '&#46;' + 'c&#111;m';
				var addy_text99
 ea71bf084488873e08e3365317ec4b = 'b&#101;nz&#111;ch&#101;ss' + '&#64;' + 'c
 h&#101;ss' + '&#46;' + 'c&#111;m';document.getElementById('cloak99ea71bf084
 488873e08e3365317ec4b').innerHTML += '<a ' + path + '\'' + prefix + ':' + a
 ddy99ea71bf084488873e08e3365317ec4b + '\'>'+addy_text99ea71bf084488873e08e3
 365317ec4b+'<\/a>';
		</script><br /> For other infomations, check out www.
 benzochess.com<br /> <em>Only one Half point byes available in first 3 roun
 ds, Comp entry to Masters!</em></p><p> </p>
CONTACT:This email address is being protected from spambots. You need JavaScript enabled to view it.
				document.getElementById('cloaka75651ac1bc49f3953cc90460fdf7574').innerHTML = '';
				var prefix = '&#109;a' + 'i&#108;' + '&#116;o';
				var path = 'hr' + 'ef' + '=';
				var addya75651ac1bc49f3953cc90460fdf7574 = 'b&#101;nz&#111;ch&#101;ss' + '&#64;';
				addya75651ac1bc49f3953cc90460fdf7574 = addya75651ac1bc49f3953cc90460fdf7574 + 'ch&#101;ss' + '&#46;' + 'c&#111;m';
				var addy_texta75651ac1bc49f3953cc90460fdf7574 = 'b&#101;nz&#111;ch&#101;ss' + '&#64;' + 'ch&#101;ss' + '&#46;' + 'c&#111;m';document.getElementById('cloaka75651ac1bc49f3953cc90460fdf7574').innerHTML += '<a ' + path + '\'' + prefix + ':' + addya75651ac1bc49f3953cc90460fdf7574 + '\'>'+addy_texta75651ac1bc49f3953cc90460fdf7574+'';
		
X-EXTRAINFO:Benjamin Corcoran  (262) 506-4203
DTSTAMP:20260423T095947
DTSTART;TZID=America/Chicago;VALUE=DATE:20120811
DTEND;TZID=America/Chicago;VALUE=DATE:20120812
SEQUENCE:0
TRANSP:OPAQUE
END:VEVENT
END:VCALENDAR